BEGIN:VCALENDAR
VERSION:2.0
PRODID:-//OOHMILANO - ECPv6.15.13.1//NONSGML v1.0//EN
CALSCALE:GREGORIAN
METHOD:PUBLISH
X-ORIGINAL-URL:https://oohmilano.it
X-WR-CALDESC:Events for OOHMILANO
REFRESH-INTERVAL;VALUE=DURATION:PT1H
X-Robots-Tag:noindex
X-PUBLISHED-TTL:PT1H
BEGIN:VTIMEZONE
TZID:UTC
BEGIN:STANDARD
TZOFFSETFROM:+0000
TZOFFSETTO:+0000
TZNAME:UTC
DTSTART:20230101T000000
END:STANDARD
END:VTIMEZONE
BEGIN:VEVENT
DTSTART;VALUE=DATE:20240503
DTEND;VALUE=DATE:20240504
DTSTAMP:20260421T134530
CREATED:20240430T175722Z
LAST-MODIFIED:20240430T175722Z
UID:103-1714694400-1714780799@oohmilano.it
SUMMARY:Durex Sorbett_Oh
DESCRIPTION:Ecco una chicca che puoi trovare su Glovo: Durex\, per farti sentire pronto per l’arrivo della bella stagione\, ti manda direttamente a casa il Durex Sextoy Vibratore Sorbett_Oh\, un vibratore progettato per aggiungere un tocco di piacere alle tue giornate (quasi) estive.
URL:https://oohmilano.it/event/durex-sorbett_oh/
LOCATION:Da casa
CATEGORIES:RUBRICA
ATTACH;FMTTYPE=image/png:https://oohmilano.it/wp-content/uploads/2024/04/IGP_10.png
END:VEVENT
BEGIN:VEVENT
DTSTART;TZID=UTC:20240503T070000
DTEND;TZID=UTC:20240503T183000
DTSTAMP:20260421T134530
CREATED:20240430T175209Z
LAST-MODIFIED:20240430T175209Z
UID:100-1714719600-1714761000@oohmilano.it
SUMMARY:Grissinificio Edelweiss
DESCRIPTION:Se ti avventuri in via Teodosio e passi dal Grissinificio Edelweiss\, sappi che rischi di diventare dipendente! Fondato nel 1954\, l’Edelweiss è famoso per i suoi buonissimi grissini: e se ti chiedi cosa li renda così speciali\, beh\, è un segreto ben custodito. Non chiederlo mai”
URL:https://oohmilano.it/event/grissinificio-edelweiss/
LOCATION:Grissinificio Edelweiss\, Via Teodosio\, 27\, MIlano
CATEGORIES:RUBRICA
END:VEVENT
BEGIN:VEVENT
DTSTART;TZID=UTC:20240503T173000
DTEND;TZID=UTC:20240503T200000
DTSTAMP:20260421T134530
CREATED:20240430T173237Z
LAST-MODIFIED:20240430T173237Z
UID:79-1714757400-1714766400@oohmilano.it
SUMMARY:Ettore Pignatelli - Memento Amare Semper
DESCRIPTION:A @palazzoreale\, “Memento Amare Semper”\, l’anteprima della mostra-performance di Ettore Pignatelli dedicata a Guernica. Se non sei riuscito a procurarti un invito all’anteprima\, non ti agitare\, sarà aperta dal 4 al 16 maggio
URL:https://oohmilano.it/event/ettore-pignatelli-memento-amare-semper/
LOCATION:Palazzo Reale\, Piazza del Duomo\, 12\, Milano
CATEGORIES:ARTE
ATTACH;FMTTYPE=image/png:https://oohmilano.it/wp-content/uploads/2024/04/IGP_3-2.png
END:VEVENT
BEGIN:VEVENT
DTSTART;TZID=UTC:20240503T183000
DTEND;TZID=UTC:20240503T230000
DTSTAMP:20260421T134530
CREATED:20240430T173630Z
LAST-MODIFIED:20240430T173630Z
UID:84-1714761000-1714777200@oohmilano.it
SUMMARY:Sagra della rana di Cassignanica
DESCRIPTION:Il 3\, 4 e 5 maggio non puoi\, per nessuna ragione al mondo\, perderti la 29esima edizione della sagra della Rana\, a Cassignanica di Rodano\, frazione di Milano
URL:https://oohmilano.it/event/sagra-della-rana-di-cassignanica/
LOCATION:Cassignanica di Rodano\, Via Monza\, 5\, Cassignanica
CATEGORIES:LIFESTYLE
ATTACH;FMTTYPE=image/png:https://oohmilano.it/wp-content/uploads/2024/04/IGP_4-2.png
END:VEVENT
BEGIN:VEVENT
DTSTART;TZID=UTC:20240503T203000
DTEND;TZID=UTC:20240503T230000
DTSTAMP:20260421T134530
CREATED:20240430T173901Z
LAST-MODIFIED:20240430T173901Z
UID:88-1714768200-1714777200@oohmilano.it
SUMMARY:Il disprezzo della Donna
DESCRIPTION:Dal 3 al 5 maggio al teatro @efopuccini è in programmazione “Il Disprezzo della Donna”\, uno spettacolo femminista composto da materiali che invece non lo sono affatto.
URL:https://oohmilano.it/event/il-disprezzo-della-donna/
LOCATION:Teatro Elfo Puccini\, Corso Buenos Aires\, 33\, Milano
CATEGORIES:SPETTACOLO
ATTACH;FMTTYPE=image/png:https://oohmilano.it/wp-content/uploads/2024/04/IGP_5-2.png
END:VEVENT
BEGIN:VEVENT
DTSTART;TZID=UTC:20240503T203000
DTEND;TZID=UTC:20240503T233000
DTSTAMP:20260421T134530
CREATED:20240430T174305Z
LAST-MODIFIED:20240430T174305Z
UID:91-1714768200-1714779000@oohmilano.it
SUMMARY:Festival del cinema Africano\, Asia e America Latina
DESCRIPTION:Al cinema Godard di @fondazioneprada inizia la 33esima Edizione del Festival del cinema Africano\, Asiatico e dell’America Latina. Dieci giorni di film\, incontri con gli autori ed eventi speciali che esploreranno le culture di tre continenti in diverse location\, tra cui Cineteca Milano Arlecchino\, Cinema Godard e Auditorium San Fedele. Fossi in te farei un salto
URL:https://oohmilano.it/event/festival-del-cinema-africano-asia-e-america-latina/
LOCATION:Fondazione Prada\, Largo Isarco\, 2
CATEGORIES:SPETTACOLO
ATTACH;FMTTYPE=image/png:https://oohmilano.it/wp-content/uploads/2024/04/IGP_6-2.png
END:VEVENT
BEGIN:VEVENT
DTSTART;TZID=UTC:20240503T210000
DTEND;TZID=UTC:20240503T233000
DTSTAMP:20260421T134530
CREATED:20240430T174535Z
LAST-MODIFIED:20240430T174535Z
UID:93-1714770000-1714779000@oohmilano.it
SUMMARY:ODD Clique
DESCRIPTION:La cricca romana di ODD Clique fa tappa a Milano per il secondo appuntamento del suo tour nazionale all’ArciBIko. Doppio live esplosivo con il tribalismo dei Sinnerman.
URL:https://oohmilano.it/event/odd-clique/
LOCATION:Biko\, Via Ettore Ponti 40\, Milano
CATEGORIES:MUSICA
ATTACH;FMTTYPE=image/png:https://oohmilano.it/wp-content/uploads/2024/04/IGP_7-2.png
END:VEVENT
BEGIN:VEVENT
DTSTART;TZID=UTC:20240503T210000
DTEND;TZID=UTC:20240503T233000
DTSTAMP:20260421T134530
CREATED:20240430T174916Z
LAST-MODIFIED:20240430T174916Z
UID:96-1714770000-1714779000@oohmilano.it
SUMMARY:Cara Calma
DESCRIPTION:Attivi da quasi 10 anni\, i @caracalmaband sono pronti a infiammare l’@arci_bellezza a colpi di alternative rock in grado di renderli una delle band più seguite del sottosuolo musicale Italiano.
URL:https://oohmilano.it/event/cara-calma/
LOCATION:Arci Bellezza\, Via Giovanni Bellezza\, 16/A\, Milano
CATEGORIES:MUSICA
END:VEVENT
END:VCALENDAR