BEGIN:VCALENDAR
VERSION:2.0
PRODID:-//OOHMILANO - ECPv6.15.13.1//NONSGML v1.0//EN
CALSCALE:GREGORIAN
METHOD:PUBLISH
X-WR-CALNAME:OOHMILANO
X-ORIGINAL-URL:https://oohmilano.it
X-WR-CALDESC:Events for OOHMILANO
REFRESH-INTERVAL;VALUE=DURATION:PT1H
X-Robots-Tag:noindex
X-PUBLISHED-TTL:PT1H
BEGIN:VTIMEZONE
TZID:UTC
BEGIN:STANDARD
TZOFFSETFROM:+0000
TZOFFSETTO:+0000
TZNAME:UTC
DTSTART:20230101T000000
END:STANDARD
END:VTIMEZONE
BEGIN:VEVENT
DTSTART;VALUE=DATE:20240507
DTEND;VALUE=DATE:20240508
DTSTAMP:20260421T133444
CREATED:20240506T134611Z
LAST-MODIFIED:20240506T134611Z
UID:292-1715040000-1715126399@oohmilano.it
SUMMARY:Da Casa: Il bosco dove tutto cominciò
DESCRIPTION:Il nostro Assessore alla Cultura @tommasosacchi ha scritto insieme a sua mamma Rossella Köhler “Il bosco dove tutto cominciò. Storia di una famiglia partigiana”. Edito da Mondadori. Se siete abituati a leggere tutti i giorni procuratevi già il prossimo libro\, perché questo lo divorerete in una notte.
URL:https://oohmilano.it/event/da-casa-il-bosco-dove-tutto-comincio/
LOCATION:Da casa
CATEGORIES:RUBRICA
ATTACH;FMTTYPE=image/png:https://oohmilano.it/wp-content/uploads/2024/05/IGP_10-2-1.png
END:VEVENT
BEGIN:VEVENT
DTSTART;TZID=UTC:20240507T073000
DTEND;TZID=UTC:20240507T210000
DTSTAMP:20260421T133444
CREATED:20240506T133607Z
LAST-MODIFIED:20240506T133607Z
UID:275-1715067000-1715115600@oohmilano.it
SUMMARY:When the seedlings grow
DESCRIPTION:When the seedlings grow: al @cinemabeltrade il film del giovane regista Reger Azad Kaya si muove con delicatezza tra le rovine della guerra e le speranze di un bambino.
URL:https://oohmilano.it/event/when-the-seedlings-grow/
LOCATION:Cinema Beltrade\, Via Nino Oxilia 10\, Milano
CATEGORIES:SPETTACOLO
ATTACH;FMTTYPE=image/png:https://oohmilano.it/wp-content/uploads/2024/05/IGP_6-1-1.png
END:VEVENT
BEGIN:VEVENT
DTSTART;TZID=UTC:20240507T150000
DTEND;TZID=UTC:20240507T170000
DTSTAMP:20260421T133444
CREATED:20240506T124808Z
LAST-MODIFIED:20240506T124808Z
UID:257-1715094000-1715101200@oohmilano.it
SUMMARY:Asta borse firmate - Luxury fashion
DESCRIPTION:Più di vent’anni fa un episodio di Sex and The City rese celebre e indimenticabile la frase “it’s not a bag\, it’s a Birkin!”. Da finarte un’asta di borse firmate Chanel\, Hermès\, Gucci\, Fendi\, Louis Vuitton\, Balmain e Dior\, con una selezione dagli anni ‘60 all’attualità.
URL:https://oohmilano.it/event/asta-borse-firmate-luxury-fashion/
LOCATION:Finarte\, via dei Bossi\,2\, Milano
CATEGORIES:LIFESTYLE
ATTACH;FMTTYPE=image/png:https://oohmilano.it/wp-content/uploads/2024/05/IGP_2-2-1.png
END:VEVENT
BEGIN:VEVENT
DTSTART;TZID=UTC:20240507T180000
DTEND;TZID=UTC:20240507T230000
DTSTAMP:20260421T133444
CREATED:20240506T125017Z
LAST-MODIFIED:20240506T125017Z
UID:261-1715104800-1715122800@oohmilano.it
SUMMARY:Magnolia Estate 2024 - Launch Party
DESCRIPTION:Musica non stop da BASE: il @circolomagnolia come sempre fa partire l’estate in anticipo e ci dicono che questo primo party sarà “un primo sorprendente ingresso nella dimensione parallela che farà sognare”.
URL:https://oohmilano.it/event/magnolia-estate-2024-launch-party/
LOCATION:Base\, Via Bergognone\, 34\, Milano
CATEGORIES:MUSICA
ATTACH;FMTTYPE=image/png:https://oohmilano.it/wp-content/uploads/2024/05/IGP_3-2-1.png
END:VEVENT
BEGIN:VEVENT
DTSTART;TZID=UTC:20240507T180000
DTEND;TZID=UTC:20240507T233000
DTSTAMP:20260421T133444
CREATED:20240506T134426Z
LAST-MODIFIED:20240506T134426Z
UID:288-1715104800-1715124600@oohmilano.it
SUMMARY:La dritta: High Line di Milano
DESCRIPTION:Lo sapete che anche Milano\, come NY\, ha una sua High Line? Stiamo parlando del Cavalcavia Bussa\, dove @ape_milano a sto giro organizza uno dei suoi appuntamenti con drink e djset.
URL:https://oohmilano.it/event/la-dritta-high-line-di-milano/
LOCATION:Cavalcavia Bussa
CATEGORIES:RUBRICA
ATTACH;FMTTYPE=image/png:https://oohmilano.it/wp-content/uploads/2024/05/IGP_9-2-1.png
END:VEVENT
BEGIN:VEVENT
DTSTART;TZID=UTC:20240507T183000
DTEND;TZID=UTC:20240507T200000
DTSTAMP:20260421T133444
CREATED:20240506T131815Z
LAST-MODIFIED:20240506T131815Z
UID:267-1715106600-1715112000@oohmilano.it
SUMMARY:Quel pazzo di Paolo Uccello
DESCRIPTION:C’è l’opening di Quel pazzo di Paolo Uccello\, la mostra di Domenico Ruccia ispirata al maestro del rinascimento fiorentino\, alla galleria @renatafabbri.
URL:https://oohmilano.it/event/quel-pazzo-di-paolo-uccello/
LOCATION:Renata Fabbri\, via Stoppani\, 15/C\, Milano
CATEGORIES:ARTE
ATTACH;FMTTYPE=image/png:https://oohmilano.it/wp-content/uploads/2024/05/IGP_4-1-1.png
END:VEVENT
BEGIN:VEVENT
DTSTART;TZID=UTC:20240507T190000
DTEND;TZID=UTC:20240507T210000
DTSTAMP:20260421T133444
CREATED:20240506T133405Z
LAST-MODIFIED:20240506T133405Z
UID:271-1715108400-1715115600@oohmilano.it
SUMMARY:Presentazione libro: Generazione alternativa
DESCRIPTION:Come la musica undergound ha conquistato le classifiche e rivoluzionato il mercato? Ce lo spiega Luca de Gennaro che da @germildc presenta il suo libro Generazione Alternativa\, 1991 – 1995. Con lui @labarnabi di @gentesettimanale e @filippoferrar di @rollingstone.
URL:https://oohmilano.it/event/presentazione-libro-generazione-alternativa/
LOCATION:Germi\, via Cicco Simonetta\, 14/A\, Milano
CATEGORIES:MUSICA
ATTACH;FMTTYPE=image/png:https://oohmilano.it/wp-content/uploads/2024/05/IGP_5-3-1.png
END:VEVENT
BEGIN:VEVENT
DTSTART;TZID=UTC:20240507T190000
DTEND;TZID=UTC:20240507T210000
DTSTAMP:20260421T133444
CREATED:20240506T133857Z
LAST-MODIFIED:20240506T133857Z
UID:278-1715108400-1715115600@oohmilano.it
SUMMARY:To da bone - Performative version
DESCRIPTION:Il Performing Arts Festival FOG ci sta dando grandi gioie. Questa volta tocca a uno dei collettivi più dirompenti della scena internazionale\, con una performance in cui la danza diventa un mezzo di insurrezione.
URL:https://oohmilano.it/event/to-da-bone-performative-version/
LOCATION:Triennale\, Viale Emilio Alemagna\, 6\, Milano
CATEGORIES:ARTE
ATTACH;FMTTYPE=image/png:https://oohmilano.it/wp-content/uploads/2024/05/IGP_7-1-1.png
END:VEVENT
BEGIN:VEVENT
DTSTART;TZID=UTC:20240507T203000
DTEND;TZID=UTC:20240507T223000
DTSTAMP:20260421T133444
CREATED:20240506T134137Z
LAST-MODIFIED:20240506T134137Z
UID:283-1715113800-1715121000@oohmilano.it
SUMMARY:Piccole apocalissi
DESCRIPTION:Se doveste mandare una sonda nello spazio in rappresentanza dell’umanità\, cosa ci mettereste dentro? Al @campoteatrale uno spettacolo ci racconta proprio di un disco mandato nello spazio per spiegare\, a eventuali alieni\, chi siamo davvero.
URL:https://oohmilano.it/event/piccole-apocalissi/
LOCATION:Campo teatrale\, Via Cambiasi\, 10\, Milano
CATEGORIES:SPETTACOLO
ATTACH;FMTTYPE=image/png:https://oohmilano.it/wp-content/uploads/2024/05/IGP_8-3-1.png
END:VEVENT
END:VCALENDAR