BEGIN:VCALENDAR
VERSION:2.0
PRODID:-//OOHMILANO - ECPv6.15.13.1//NONSGML v1.0//EN
CALSCALE:GREGORIAN
METHOD:PUBLISH
X-ORIGINAL-URL:https://oohmilano.it
X-WR-CALDESC:Events for OOHMILANO
REFRESH-INTERVAL;VALUE=DURATION:PT1H
X-Robots-Tag:noindex
X-PUBLISHED-TTL:PT1H
BEGIN:VTIMEZONE
TZID:UTC
BEGIN:STANDARD
TZOFFSETFROM:+0000
TZOFFSETTO:+0000
TZNAME:UTC
DTSTART:20230101T000000
END:STANDARD
END:VTIMEZONE
BEGIN:VEVENT
DTSTART;VALUE=DATE:20240508
DTEND;VALUE=DATE:20240509
DTSTAMP:20260421T133648
CREATED:20240507T150441Z
LAST-MODIFIED:20240507T150441Z
UID:329-1715126400-1715212799@oohmilano.it
SUMMARY:Living Corriere - New York
DESCRIPTION:@LivingCorriere è uscito con uno stupendo numero monografico totalmente dedicato a New York: fantasticate sulla città più dinamica e cosmopolita al mondo dal vostro divano.
URL:https://oohmilano.it/event/living-corriere-new-york/
CATEGORIES:RUBRICA
ATTACH;FMTTYPE=:
END:VEVENT
BEGIN:VEVENT
DTSTART;TZID=UTC:20240508T163000
DTEND;TZID=UTC:20240508T173000
DTSTAMP:20260421T133648
CREATED:20240507T144909Z
LAST-MODIFIED:20240507T144909Z
UID:301-1715185800-1715189400@oohmilano.it
SUMMARY:Scacco matto in biblioteca
DESCRIPTION:Saper giocare a scacchi\, ha il suo fascino: alla biblioteca di Calvairate c’è un corso per imparare.
URL:https://oohmilano.it/event/scacco-matto-in-biblioteca/
LOCATION:Biblioteca Calvairate\, Piazzale Ferdinando Martini\, 16\, Milano
CATEGORIES:LIFESTYLE
ATTACH;FMTTYPE=image/png:https://oohmilano.it/wp-content/uploads/2024/05/IGP_3-3-1.png
END:VEVENT
BEGIN:VEVENT
DTSTART;TZID=UTC:20240508T173000
DTEND;TZID=UTC:20240508T193000
DTSTAMP:20260421T133648
CREATED:20240507T145119Z
LAST-MODIFIED:20240507T145119Z
UID:305-1715189400-1715196600@oohmilano.it
SUMMARY:Firmacopie di Javier Zanetti
DESCRIPTION:“Pupi” è da sempre il soprannome del grande Javier Zanetti\, nonché il nome della sua Onlus: al Libraccio di viale Romolo viene presentata la nuova graphic novel sulla sua storia (sceneggiata da @Gianluca Alzati\, illustrata da @Settemezzo\, edita da @centometri). Si intitola Pupi – Nato sotto una stella cadente e Zanetti firmerà le copie.
URL:https://oohmilano.it/event/firmacopie-di-javier-zanetti/
CATEGORIES:LIFESTYLE
ATTACH;FMTTYPE=image/png:https://oohmilano.it/wp-content/uploads/2024/05/IGP_4-2-1.png
END:VEVENT
BEGIN:VEVENT
DTSTART;TZID=UTC:20240508T180000
DTEND;TZID=UTC:20240508T210000
DTSTAMP:20260421T133648
CREATED:20240507T145331Z
LAST-MODIFIED:20240507T145331Z
UID:309-1715191200-1715202000@oohmilano.it
SUMMARY:Tutto fuori - Mostra di Stefano Rossetti
DESCRIPTION:Stefano Rossetti inaugura Tutto Fuori alla Key Gallery a Milano: stampe\, maschere\, mani di legno e statuette votive nate dall’incontro e dallo scambio creativo dell’artista con maestri e artigiani durante i suoi viaggi in Kenya e nelle Filippine.
URL:https://oohmilano.it/event/tutto-fuori-mostra-di-stefano-rossetti/
LOCATION:Key gallery\, via Pietro Borsieri\, 12\, Milano
CATEGORIES:ARTE
ATTACH;FMTTYPE=:
END:VEVENT
BEGIN:VEVENT
DTSTART;TZID=UTC:20240508T183000
DTEND;TZID=UTC:20240508T200000
DTSTAMP:20260421T133648
CREATED:20240507T144618Z
LAST-MODIFIED:20240507T144618Z
UID:297-1715193000-1715198400@oohmilano.it
SUMMARY:CASA-TERRA-IO Sofia Uslenghi
DESCRIPTION:Alla @gallerialampo inaugura CASA/TERRA/IO: gli autoritratti di @SofiaUslenghi ci guidano in un universo fatto di suggestioni ipnotiche\, suoni naturali e odori della memoria.
URL:https://oohmilano.it/event/casa-terra-io-sofia-uslenghi/
LOCATION:Galleria Lampo\, Via Valtellina\, 5\, Milano
CATEGORIES:ARTE
ATTACH;FMTTYPE=image/png:https://oohmilano.it/wp-content/uploads/2024/05/IGP_2-3-1.png
END:VEVENT
BEGIN:VEVENT
DTSTART;TZID=UTC:20240508T190000
DTEND;TZID=UTC:20240508T210000
DTSTAMP:20260421T133648
CREATED:20240507T145530Z
LAST-MODIFIED:20240507T145530Z
UID:313-1715194800-1715202000@oohmilano.it
SUMMARY:Luci d'Europa a Milano
DESCRIPTION:Al Milano Luiss Hub la Rappresentanza della Commissione europea a Milano\, in collaborazione con l’Ufficio del Parlamento europeo a Milano\, hanno messo in piedi una serata che tra musica e parole celebra la nostra storia e l’Unione europea.
URL:https://oohmilano.it/event/luci-deuropa-a-milano/
LOCATION:Milano Luiss Hub\, via Massimo d'Azeglio\, 3\, Milano
CATEGORIES:LIFESTYLE
ATTACH;FMTTYPE=:
END:VEVENT
BEGIN:VEVENT
DTSTART;TZID=UTC:20240508T193000
DTEND;TZID=UTC:20240508T210000
DTSTAMP:20260421T133648
CREATED:20240507T145747Z
LAST-MODIFIED:20240507T145747Z
UID:317-1715196600-1715202000@oohmilano.it
SUMMARY:Remake & Relish - Aperitivo e ricamo da Galileo
DESCRIPTION:Remake & Relish: Upcycled Embroidery è il primo aperitivo/workshop di ricamo: imparerete a trasformare i vostri vecchi capi in oggetti unici e handmade. Il tutto bevendo un drink e mangiando una delle gustosissime polpette di @galileopolpette.
URL:https://oohmilano.it/event/remake-relish-aperitivo-e-ricamo-da-galileo/
LOCATION:Galileo\, via Bixio\, 10\, Milano
CATEGORIES:LIFESTYLE
ATTACH;FMTTYPE=:
END:VEVENT
BEGIN:VEVENT
DTSTART;TZID=UTC:20240508T193000
DTEND;TZID=UTC:20240508T210000
DTSTAMP:20260421T133648
CREATED:20240507T150301Z
LAST-MODIFIED:20240507T150301Z
UID:325-1715196600-1715202000@oohmilano.it
SUMMARY:Party Mamacita by Radio 105
DESCRIPTION:Siete mai saliti sulla Torre Branca? Beh stasera approfittatene\, perché al JustMe c’è il Party Mamacita di Radio 105\, il brand dell’intrattenimento HipHop / Reggaeton / R&B numero 1 in Italia\, e se non sarete troppo sbronzi vi ci faranno salire.
URL:https://oohmilano.it/event/party-mamacita-by-radio-105/
LOCATION:Torre Branca\, Viale Luigi Camoens\, 2\, Milano
CATEGORIES:RUBRICA
ATTACH;FMTTYPE=:
END:VEVENT
BEGIN:VEVENT
DTSTART;TZID=UTC:20240508T210000
DTEND;TZID=UTC:20240508T230000
DTSTAMP:20260421T133648
CREATED:20240507T150008Z
LAST-MODIFIED:20240507T150008Z
UID:321-1715202000-1715209200@oohmilano.it
SUMMARY:Edoardo Ferrario - Performante
DESCRIPTION:Al @teatroarcimboldi Edoardo Ferrario porta in scena il suo ultimo spettacolo di stand-up comedy “Performante”: il comico ci invita a mantenere la calma e a confrontarci con leggerezza su argomenti complessi.
URL:https://oohmilano.it/event/edoardo-ferrario-performante/
LOCATION:Teatro degli Arcimboldi\, via dell'Innovazione\, 20\, Milano
CATEGORIES:SPETTACOLO
ATTACH;FMTTYPE=:
END:VEVENT
END:VCALENDAR