BEGIN:VCALENDAR
VERSION:2.0
PRODID:-//OOHMILANO - ECPv6.15.13.1//NONSGML v1.0//EN
CALSCALE:GREGORIAN
METHOD:PUBLISH
X-ORIGINAL-URL:https://oohmilano.it
X-WR-CALDESC:Events for OOHMILANO
REFRESH-INTERVAL;VALUE=DURATION:PT1H
X-Robots-Tag:noindex
X-PUBLISHED-TTL:PT1H
BEGIN:VTIMEZONE
TZID:UTC
BEGIN:STANDARD
TZOFFSETFROM:+0000
TZOFFSETTO:+0000
TZNAME:UTC
DTSTART:20230101T000000
END:STANDARD
END:VTIMEZONE
BEGIN:VEVENT
DTSTART;VALUE=DATE:20240509
DTEND;VALUE=DATE:20240510
DTSTAMP:20260421T134529
CREATED:20240509T135208Z
LAST-MODIFIED:20240509T135208Z
UID:352-1715212800-1715299199@oohmilano.it
SUMMARY:Le Storie Nascoste del Cimitero Monumentale
DESCRIPTION:È vero che è bello perdersi nei 250.000 metri quadri del Cimitero Monumentale\, ma se per una volta vi andasse di approfondire questa visita guidata vi spiegherà alcune delle infinite storie racchiuse in questo capolavoro milanese.
URL:https://oohmilano.it/event/le-storie-nascoste-del-cimitero-monumentale/
LOCATION:Cimitero Monumentale\, Piazzale Cimitero Monumentale\, Milano\, Italy
CATEGORIES:RUBRICA
END:VEVENT
BEGIN:VEVENT
DTSTART;TZID=UTC:20240509T173000
DTEND;TZID=UTC:20240509T173000
DTSTAMP:20260421T134529
CREATED:20240509T124155Z
LAST-MODIFIED:20240509T124155Z
UID:334-1715275800-1715275800@oohmilano.it
SUMMARY:Presentazione libro di F. Cappelletti
DESCRIPTION:La storica dell’arte\, e direttrice della Galleria Borghese di Roma Francesca Cappelletti\, presenta alla @pinacotecabrera il suo ultimo libro: “Le belle. Ritratti femminili nelle stanze del potere”\, un affascinante viaggio attraverso il ritratto femminile. L’autrice dialogherà con Angelo Crespi\, Carlo Orsi e Stefano Zuffi.
URL:https://oohmilano.it/event/presentazione-libro-di-f-cappelletti/
LOCATION:Pinacoteca di Brera\, Via Brera 28\, Milano\, Italy
CATEGORIES:LIFESTYLE
ATTACH;FMTTYPE=:
END:VEVENT
BEGIN:VEVENT
DTSTART;TZID=UTC:20240509T180000
DTEND;TZID=UTC:20240509T180000
DTSTAMP:20260421T134529
CREATED:20240509T124320Z
LAST-MODIFIED:20240509T124320Z
UID:337-1715277600-1715277600@oohmilano.it
SUMMARY:Laboratorio di illustrazione HAIKU
DESCRIPTION:Alla Biblioteca Sormani c’è un laboratorio di illustrazione HAIKU: brevissime poesie giapponesi composte di soli 3 versi e ispirate alle stagioni\, diventano forme e colori di carta sulla carta.
URL:https://oohmilano.it/event/laboratorio-di-illustrazione-haiku/
LOCATION:Biblioteca Sormani\, Corso di Porta Vittoria 6\, Milano\, Italy
CATEGORIES:LIFESTYLE
ATTACH;FMTTYPE=:
END:VEVENT
BEGIN:VEVENT
DTSTART;TZID=UTC:20240509T183000
DTEND;TZID=UTC:20240509T210000
DTSTAMP:20260421T134529
CREATED:20240509T124558Z
LAST-MODIFIED:20240509T124558Z
UID:340-1715279400-1715288400@oohmilano.it
SUMMARY:WE + WE
DESCRIPTION:Come ogni giovedì da @WAO_it PL7 ISOLA se riuscite a procurarvi la parola d’ordine potrete entrare all’aperitivo di networking con modalità Speakeasy WE+WE. Se scoprite la segretisssssima password ditecela che la spoileriamo.
URL:https://oohmilano.it/event/we-we/
LOCATION:WAO PL7\, Via Luigi Porro Lambertenghi 7\, Milano\, Italy
CATEGORIES:LIFESTYLE
ATTACH;FMTTYPE=:
END:VEVENT
BEGIN:VEVENT
DTSTART;TZID=UTC:20240509T200000
DTEND;TZID=UTC:20240509T200000
DTSTAMP:20260421T134529
CREATED:20240509T134423Z
LAST-MODIFIED:20240509T134423Z
UID:343-1715284800-1715284800@oohmilano.it
SUMMARY:Filippo Gorini in concerto alla Scala
DESCRIPTION:“Il suo pianismo è originale e coraggioso”\, ha scritto Il Guardian: il @TeatroallaScala di Milano ospita\, nell’ambito della trentatreesima edizione del Festival Milano Musica\, il concerto del giovane pianista Filippo Gorini\, enfant prodige vincitore del Premio Abbiati.
URL:https://oohmilano.it/event/filippo-gorini-in-concerto-alla-scala/
LOCATION:Teatro alla Scala\, V. Filodrammatici 2\, Milano
CATEGORIES:MUSICA
ATTACH;FMTTYPE=:
END:VEVENT
BEGIN:VEVENT
DTSTART;TZID=UTC:20240509T204000
DTEND;TZID=UTC:20240509T210000
DTSTAMP:20260421T134529
CREATED:20240509T135321Z
LAST-MODIFIED:20240509T135321Z
UID:354-1715287200-1715288400@oohmilano.it
SUMMARY:DA CASA: THE SQUARE - Sky Arte
DESCRIPTION:DA CASA: Su @SkyArte va in onda The Square\, la trasmissione sull’arte contemporanea condotta da @nicolasballario che il giovedì sera ci porta a scoprire gli studi degli artisti. A chi toccherà questa volta?
URL:https://oohmilano.it/event/the-square-sky-arte/
LOCATION:Sky Arte
CATEGORIES:RUBRICA
ATTACH;FMTTYPE=:
END:VEVENT
BEGIN:VEVENT
DTSTART;TZID=UTC:20240509T210000
DTEND;TZID=UTC:20240509T210000
DTSTAMP:20260421T134529
CREATED:20240509T134738Z
LAST-MODIFIED:20240509T134738Z
UID:346-1715288400-1715288400@oohmilano.it
SUMMARY:Arturo Brachetti SOLO: The Legend of Quick Change
DESCRIPTION:Finora è stato visto da circa 600.000 spettatori in quasi 500 repliche\, ma evidentemente non basta: @arturobrachetti torna al @teatroarcimboldimilano con SOLO: The Legend of quick-change\, il one man show del più grande trasformista al mondo
URL:https://oohmilano.it/event/arturo-brachetti-solo-the-legend-of-quick-change/
LOCATION:TAM – Teatro Arcimboldi Milano\, Viale dell'Innovazione 20\, Milano\, Italy
CATEGORIES:SPETTACOLO
ATTACH;FMTTYPE=:
END:VEVENT
BEGIN:VEVENT
DTSTART;TZID=UTC:20240509T210000
DTEND;TZID=UTC:20240509T210000
DTSTAMP:20260421T134529
CREATED:20240509T135010Z
LAST-MODIFIED:20240509T135010Z
UID:349-1715288400-1715288400@oohmilano.it
SUMMARY:IMMATERIAL POSSESSION (Atlanta/USA)
DESCRIPTION:Lo-Fi Milano & Chullu Agency in collaborazione con @Biko_Milano presentano: IMMATERIAL POSSESSION (Atlanta/Usa)\, una miscela misteriosa di folk\, psichedelia\, world music e rock progressivo con accenni al dream-pop che trasporta gli ascoltatori in un mondo tutto loro.
URL:https://oohmilano.it/event/immaterial-possession-atlante-usa/
LOCATION:Biko\, Via Ettore Ponti 40\, Milano
CATEGORIES:MUSICA
ATTACH;FMTTYPE=:
END:VEVENT
END:VCALENDAR