BEGIN:VCALENDAR
VERSION:2.0
PRODID:-//OOHMILANO - ECPv6.15.13.1//NONSGML v1.0//EN
CALSCALE:GREGORIAN
METHOD:PUBLISH
X-WR-CALNAME:OOHMILANO
X-ORIGINAL-URL:https://oohmilano.it
X-WR-CALDESC:Events for OOHMILANO
REFRESH-INTERVAL;VALUE=DURATION:PT1H
X-Robots-Tag:noindex
X-PUBLISHED-TTL:PT1H
BEGIN:VTIMEZONE
TZID:UTC
BEGIN:STANDARD
TZOFFSETFROM:+0000
TZOFFSETTO:+0000
TZNAME:UTC
DTSTART:20230101T000000
END:STANDARD
END:VTIMEZONE
BEGIN:VEVENT
DTSTART;VALUE=DATE:20240510
DTEND;VALUE=DATE:20240511
DTSTAMP:20260421T133442
CREATED:20240509T150322Z
LAST-MODIFIED:20240509T150322Z
UID:379-1715299200-1715385599@oohmilano.it
SUMMARY:DA CASA: Serie Netflix - Baby Reindeer
DESCRIPTION:CASA: ne parlano tutti\, ma se ancora non l’aveste fatto guardate su Netflix Baby Reindeer o alla prossima cena sarete tagliati fuori dalla discussione. Non perdere tempo a leggere la trama\, lasciati semplicemente trasportare dalla suspense.
URL:https://oohmilano.it/event/netflix-baby-rendeer/
LOCATION:Netflix
CATEGORIES:RUBRICA
ATTACH;FMTTYPE=:
END:VEVENT
BEGIN:VEVENT
DTSTART;TZID=UTC:20240510T100000
DTEND;TZID=UTC:20240510T183000
DTSTAMP:20260421T133442
CREATED:20240509T150222Z
LAST-MODIFIED:20240509T150222Z
UID:376-1715335200-1715365800@oohmilano.it
SUMMARY:HOUSE OF VINTAGE
DESCRIPTION:DRITTA: ATTENZIONE ATTENZIONE appassionati del vintage\, abbiamo scoperto un posto in cui ci si può immergere in un mare di oggetti unici nel loro genere\, THE HOUSE OF VINTAGE\, arredi e oggetti di epoche diversi\, oggetti di design\, libri d’arte\, architettura\, tappeti e molto altro\, con la doppia possibilità di noleggio e vendita. Meglio di così!
URL:https://oohmilano.it/event/house-of-vintage/
LOCATION:House of Vintage\, Via Legnone 4\, Milano\, Italy
CATEGORIES:RUBRICA
ATTACH;FMTTYPE=:
END:VEVENT
BEGIN:VEVENT
DTSTART;TZID=UTC:20240510T100000
DTEND;TZID=UTC:20240510T193000
DTSTAMP:20260421T133442
CREATED:20240509T123507Z
LAST-MODIFIED:20240509T123507Z
UID:332-1715335200-1715369400@oohmilano.it
SUMMARY:Dal Cuore alle Mani: Dolce&Gabbana
DESCRIPTION:ll processo creativo e il genio di Dolce&Gabbana vanno in mostra a Palazzo Reale a Milano. Un percorso che ci mostra la forza artigianale dietro un brand di lusso per eccellenza.\nFino al 31 luglio.
URL:https://oohmilano.it/event/dal-cuore-alle-mani-dolcegabbana/
LOCATION:Palazzo Reale\, Piazza del Duomo\, 12\, Milano
CATEGORIES:ARTE
ATTACH;FMTTYPE=:
END:VEVENT
BEGIN:VEVENT
DTSTART;TZID=UTC:20240510T180000
DTEND;TZID=UTC:20240510T180000
DTSTAMP:20260421T133442
CREATED:20240509T144910Z
LAST-MODIFIED:20240509T144910Z
UID:357-1715364000-1715364000@oohmilano.it
SUMMARY:A BRERA È PRIMAVERA
DESCRIPTION:La prima edizione del festival dedicato agli artisti emergenti: dal 10 al 12 maggio 2024. Musica\, stand-up comedy e performance che avranno come sfondo una delle zone più belle di Milano. Un appuntamento inclusivo e ispirazionale che collega giovani talenti a un pubblico nuovo.
URL:https://oohmilano.it/event/a-brera-e-primavera/
LOCATION:Brera
CATEGORIES:LIFESTYLE
ATTACH;FMTTYPE=:
END:VEVENT
BEGIN:VEVENT
DTSTART;TZID=UTC:20240510T200000
DTEND;TZID=UTC:20240510T230000
DTSTAMP:20260421T133442
CREATED:20240509T145013Z
LAST-MODIFIED:20240509T145013Z
UID:360-1715371200-1715382000@oohmilano.it
SUMMARY:Pioggia Rossa Fest
DESCRIPTION:Musica dal vivo all’Arci Bellezza con Maestro Pellegrini\, Irene Buselli\, Jebel\, Balto\, Nervi e Mare\, l’intero roster dell’etichetta genovese Pioggia Rossa navigherà tra pop\, rock e r&b.
URL:https://oohmilano.it/event/pioggia-rossa-fest/
LOCATION:Arci Bellezza\, Via Giovanni Bellezza\, 16/A\, Milano
CATEGORIES:MUSICA
ATTACH;FMTTYPE=:
END:VEVENT
BEGIN:VEVENT
DTSTART;TZID=UTC:20240510T210000
DTEND;TZID=UTC:20240510T223000
DTSTAMP:20260421T133442
CREATED:20240509T145158Z
LAST-MODIFIED:20240509T145158Z
UID:362-1715374800-1715380200@oohmilano.it
SUMMARY:Miti orientali e calendario cinese: l'anno del dragone
DESCRIPTION:Al Planetario Ulrico Hoepli si possono scoprire i segreti dell’antico calendario cinese lunisolare\, che approssima l’anno solare usando i mesi lunari. Un’occasione per comprendere la misura del tempo basata su dottrine filosofiche e osservazioni astronomiche.
URL:https://oohmilano.it/event/miti-orientali-e-calendario-cinese-lanno-del-dragone/
LOCATION:Planetario Ulrico Hoepli\, Civico Planetario di Milano\, Corso Venezia\, 57\, Milano\, Italy
CATEGORIES:SPETTACOLO
ATTACH;FMTTYPE=:
END:VEVENT
BEGIN:VEVENT
DTSTART;TZID=UTC:20240510T230000
DTEND;TZID=UTC:20240511T020000
DTSTAMP:20260421T133442
CREATED:20240509T145325Z
LAST-MODIFIED:20240509T145325Z
UID:365-1715382000-1715392800@oohmilano.it
SUMMARY:Anna Molly meets Alcazar - Demuja
DESCRIPTION:La Club Season al Tunnel vede la collaborazione con Anna Molly e Alcazar che presentano la data esclusiva del tour europeo di Demuja\, per l’ultimo party della stagione. Demuja\, icona della scena soul\, house e disco\, ci farà ballare con le sue sonorità incendiarie.
URL:https://oohmilano.it/event/anna-molly-meets-alcazar-demuja/
LOCATION:Tunnel Milano\, Via Giovanni Battista Sammartini\, 30\,\, Milano\, Italy
CATEGORIES:MUSICA
ATTACH;FMTTYPE=:
END:VEVENT
BEGIN:VEVENT
DTSTART;TZID=UTC:20240510T233000
DTEND;TZID=UTC:20240511T020000
DTSTAMP:20260421T133442
CREATED:20240509T145827Z
LAST-MODIFIED:20240509T145827Z
UID:371-1715383800-1715392800@oohmilano.it
SUMMARY:Rollover w/ Jonny Rock & Secret Sundaze
DESCRIPTION:Non perdetevi il gran finale all’Apollo\, preparatevi a ballare tutta la notte con 3 incredibili DJ per l’ultimo rollover party della stagione.
URL:https://oohmilano.it/event/rollover-w-jonny-rock-secret-sundaze/
LOCATION:Apollo Milano\, Via Giosuè Borsi\, 9/2\, Milano\, Italy
CATEGORIES:MUSICA
ATTACH;FMTTYPE=:
END:VEVENT
BEGIN:VEVENT
DTSTART;TZID=UTC:20240510T233000
DTEND;TZID=UTC:20240511T050000
DTSTAMP:20260421T133442
CREATED:20240509T145702Z
LAST-MODIFIED:20240509T145702Z
UID:368-1715383800-1715403600@oohmilano.it
SUMMARY:INIT: D. Tiffany + Ceri Wax & more
DESCRIPTION:La dance music contemporanea è al Q Club per un viaggio musicale di Sophie Sweetland\, meglio conosciuta come D. Tiffany. Un mix psichedelico di elettronica carica di bassi e groove irresistibili.
URL:https://oohmilano.it/event/init-d-tiffany-ceri-wax-more/
LOCATION:Q Club\, Via Padova 21\, Milano\, Italy
CATEGORIES:MUSICA
ATTACH;FMTTYPE=:
END:VEVENT
END:VCALENDAR