BEGIN:VCALENDAR
VERSION:2.0
PRODID:-//OOHMILANO - ECPv6.15.13.1//NONSGML v1.0//EN
CALSCALE:GREGORIAN
METHOD:PUBLISH
X-WR-CALNAME:OOHMILANO
X-ORIGINAL-URL:https://oohmilano.it
X-WR-CALDESC:Events for OOHMILANO
REFRESH-INTERVAL;VALUE=DURATION:PT1H
X-Robots-Tag:noindex
X-PUBLISHED-TTL:PT1H
BEGIN:VTIMEZONE
TZID:UTC
BEGIN:STANDARD
TZOFFSETFROM:+0000
TZOFFSETTO:+0000
TZNAME:UTC
DTSTART:20230101T000000
END:STANDARD
END:VTIMEZONE
BEGIN:VEVENT
DTSTART;TZID=UTC:20240510T230000
DTEND;TZID=UTC:20240511T020000
DTSTAMP:20260421T134321
CREATED:20240509T145325Z
LAST-MODIFIED:20240509T145325Z
UID:365-1715382000-1715392800@oohmilano.it
SUMMARY:Anna Molly meets Alcazar - Demuja
DESCRIPTION:La Club Season al Tunnel vede la collaborazione con Anna Molly e Alcazar che presentano la data esclusiva del tour europeo di Demuja\, per l’ultimo party della stagione. Demuja\, icona della scena soul\, house e disco\, ci farà ballare con le sue sonorità incendiarie.
URL:https://oohmilano.it/event/anna-molly-meets-alcazar-demuja/
LOCATION:Tunnel Milano\, Via Giovanni Battista Sammartini\, 30\,\, Milano\, Italy
CATEGORIES:MUSICA
ATTACH;FMTTYPE=:
END:VEVENT
BEGIN:VEVENT
DTSTART;TZID=UTC:20240510T233000
DTEND;TZID=UTC:20240511T020000
DTSTAMP:20260421T134321
CREATED:20240509T145827Z
LAST-MODIFIED:20240509T145827Z
UID:371-1715383800-1715392800@oohmilano.it
SUMMARY:Rollover w/ Jonny Rock & Secret Sundaze
DESCRIPTION:Non perdetevi il gran finale all’Apollo\, preparatevi a ballare tutta la notte con 3 incredibili DJ per l’ultimo rollover party della stagione.
URL:https://oohmilano.it/event/rollover-w-jonny-rock-secret-sundaze/
LOCATION:Apollo Milano\, Via Giosuè Borsi\, 9/2\, Milano\, Italy
CATEGORIES:MUSICA
ATTACH;FMTTYPE=:
END:VEVENT
BEGIN:VEVENT
DTSTART;TZID=UTC:20240510T233000
DTEND;TZID=UTC:20240511T050000
DTSTAMP:20260421T134321
CREATED:20240509T145702Z
LAST-MODIFIED:20240509T145702Z
UID:368-1715383800-1715403600@oohmilano.it
SUMMARY:INIT: D. Tiffany + Ceri Wax & more
DESCRIPTION:La dance music contemporanea è al Q Club per un viaggio musicale di Sophie Sweetland\, meglio conosciuta come D. Tiffany. Un mix psichedelico di elettronica carica di bassi e groove irresistibili.
URL:https://oohmilano.it/event/init-d-tiffany-ceri-wax-more/
LOCATION:Q Club\, Via Padova 21\, Milano\, Italy
CATEGORIES:MUSICA
ATTACH;FMTTYPE=:
END:VEVENT
BEGIN:VEVENT
DTSTART;VALUE=DATE:20240511
DTEND;VALUE=DATE:20240512
DTSTAMP:20260421T134321
CREATED:20240510T132153Z
LAST-MODIFIED:20240510T132153Z
UID:437-1715385600-1715471999@oohmilano.it
SUMMARY:Pollo di Giannasi dal 1967
DESCRIPTION:Sei stanco? Vuoi passare una serata milanese a casa? Ordina @giannasi1967\, scegliendo rigorosamente il pollo arrosto\, i mondeghili e le loro patate al forno. E la tua serata è subito oooohhh.
URL:https://oohmilano.it/event/pollo-di-giannasi-dal-1967/
LOCATION:Giannasi dal 1967\, Deliveroo\, Milano\, Italy
CATEGORIES:DA CASA
END:VEVENT
BEGIN:VEVENT
DTSTART;TZID=UTC:20240511T070000
DTEND;TZID=UTC:20240511T180000
DTSTAMP:20260421T134321
CREATED:20240510T131641Z
LAST-MODIFIED:20240510T131641Z
UID:432-1715410800-1715450400@oohmilano.it
SUMMARY:5ª camminata Milano-Pavia
DESCRIPTION:Ritorna a grande richiesta la camminata Milano-Pavia\, 34km\, 7/8h di percorrenza\, non tutte obbligatorie (potrai fermarti quando e dove vuoi). L’unica cosa obbligatoria è indossare qualcosa di GIALLO.
URL:https://oohmilano.it/event/5a-camminata-milano-pavia/
CATEGORIES:SPORT
END:VEVENT
BEGIN:VEVENT
DTSTART;TZID=UTC:20240511T110000
DTEND;TZID=UTC:20240511T200000
DTSTAMP:20260421T134321
CREATED:20240510T125506Z
LAST-MODIFIED:20240510T125506Z
UID:425-1715425200-1715457600@oohmilano.it
SUMMARY:Pop Up Artetica
DESCRIPTION:In Isola arriva il primo pop up della stagione di Artetica\, studio di design\, moda e architettura\, vintage e capi 2nd hand
URL:https://oohmilano.it/event/pop-up-artetica/
LOCATION:Festival Presente Indicativo Milano Porta Europea
CATEGORIES:LIFESTYLE
END:VEVENT
BEGIN:VEVENT
DTSTART;TZID=UTC:20240511T110000
DTEND;TZID=UTC:20240511T200000
DTSTAMP:20260421T134321
CREATED:20240510T130736Z
LAST-MODIFIED:20240510T130736Z
UID:430-1715425200-1715457600@oohmilano.it
SUMMARY:Pattyland Market
DESCRIPTION:Villafranca si prepara ad accogliere Pattyland Market al Castello Scaligero: con tantissimi mercatini artigianali\, sarà un’ottima occasione per fare una gita fuori porta.
URL:https://oohmilano.it/event/pattyland-market/
LOCATION:Laura Forti presenta “La figlia inutile”
CATEGORIES:LIFESTYLE
END:VEVENT
BEGIN:VEVENT
DTSTART;TZID=UTC:20240511T140000
DTEND;TZID=UTC:20240511T180000
DTSTAMP:20260421T134321
CREATED:20240510T125831Z
LAST-MODIFIED:20240510T125831Z
UID:426-1715436000-1715450400@oohmilano.it
SUMMARY:Bibliogames - Un pomeriggio di giochi in scatola
DESCRIPTION:In Biblioteca Niguarda si prospetta un pomeriggio di giochi da tavolo per tutti i gusti e tutte le età\, selezionati dai bibliotecari più famosi.
URL:https://oohmilano.it/event/bibliogames-un-pomeriggio-di-giochi-in-scatola/
LOCATION:Leoncavallo: Dj Bolla – Les Inferno
CATEGORIES:LIFESTYLE
END:VEVENT
BEGIN:VEVENT
DTSTART;TZID=UTC:20240511T180000
DTEND;TZID=UTC:20240511T180000
DTSTAMP:20260421T134321
CREATED:20240510T130030Z
LAST-MODIFIED:20240510T130030Z
UID:427-1715450400-1715450400@oohmilano.it
SUMMARY:Laura Forti presenta "La figlia inutile"
DESCRIPTION:Al Teatro Elfo Puccini\, Laura Forti presenta il suo nuovo libro “La Figlia Inutile”\, un’indagine intima e sincera sulle tracce di sua nonna Elena Desner: un intreccio tra memoria individuale e collettiva ci racconta un Italia spietata che non ha mai fatto i conti con il proprio passato. In dialogo con Elio De Capitani e Cristiana Crippa.
URL:https://oohmilano.it/event/laura-forti-presenta-la-figlia-inutile/
LOCATION:Teatro Elfo Puccini\, Corso Buenos Aires\, 33\, Milano
CATEGORIES:SPETTACOLO
ATTACH;FMTTYPE=:
END:VEVENT
BEGIN:VEVENT
DTSTART;TZID=UTC:20240511T193000
DTEND;TZID=UTC:20240512T040000
DTSTAMP:20260421T134321
CREATED:20240510T130355Z
LAST-MODIFIED:20240510T130355Z
UID:428-1715455800-1715486400@oohmilano.it
SUMMARY:BREAKOUT WITH DONSURF + AURACUL (UK)
DESCRIPTION:Al Leoncavallo\, una nuova serata BREAKOUT all’insegna della migliore musica UK in circolazione. Insieme all’eclettica ARACUL\, il dj e producer DONSURF\, astro nascente della nuova scena Bruk. \nApertura centro 15:30\nCena in Cucina Pop 19:30\nInizio evento 23:00
URL:https://oohmilano.it/event/breakout-with-donsurf-auracul-uk/
LOCATION:Mercatino Wunder MRKT
CATEGORIES:MUSICA
ATTACH;FMTTYPE=:
END:VEVENT
BEGIN:VEVENT
DTSTART;TZID=UTC:20240511T210000
DTEND;TZID=UTC:20240511T210000
DTSTAMP:20260421T134321
CREATED:20240510T130537Z
LAST-MODIFIED:20240510T130537Z
UID:429-1715461200-1715461200@oohmilano.it
SUMMARY:Euro Karaoke Bellezza w/ Disco Pianobar
DESCRIPTION:Ulitmo appuntamento stagionale all’Arci Bellezza in occasione di Eurovision Song Contest\, la serata Karaoke che va dai classiconi intramontabili 70/80/90/2000 fino alle hit indie e pop del momento: microfoni per tutti\, mega proiezione dei testi e menù per le richieste dei brani.
URL:https://oohmilano.it/event/euro-karaoke-bellezza-w-disco-pianobar/
LOCATION:Arci Bellezza\, Via Giovanni Bellezza\, 16/A\, Milano
CATEGORIES:MUSICA
ATTACH;FMTTYPE=:
END:VEVENT
BEGIN:VEVENT
DTSTART;TZID=UTC:20240511T213000
DTEND;TZID=UTC:20240511T233000
DTSTAMP:20260421T134321
CREATED:20240510T132054Z
LAST-MODIFIED:20240510T132054Z
UID:434-1715463000-1715470200@oohmilano.it
SUMMARY:Eiffel 65 - Alcatraz Milano
DESCRIPTION:TU\, amante della musica Eurodance\, gli Eiffel 65 fanno il loro ritorno trionfale all’Alcatraz di Milano\, con le hit iconiche del gruppo che ha segnato un’intera generazione.
URL:https://oohmilano.it/event/eiffel-65-alcatraz-milano/
LOCATION:Alcatraz Milano\, Via Valtellina 25\, Milano\, Milano\, Italy
CATEGORIES:MUSICA
ATTACH;FMTTYPE=:
END:VEVENT
END:VCALENDAR