BEGIN:VCALENDAR
VERSION:2.0
PRODID:-//OOHMILANO - ECPv6.15.13.1//NONSGML v1.0//EN
CALSCALE:GREGORIAN
METHOD:PUBLISH
X-ORIGINAL-URL:https://oohmilano.it
X-WR-CALDESC:Events for OOHMILANO
REFRESH-INTERVAL;VALUE=DURATION:PT1H
X-Robots-Tag:noindex
X-PUBLISHED-TTL:PT1H
BEGIN:VTIMEZONE
TZID:UTC
BEGIN:STANDARD
TZOFFSETFROM:+0000
TZOFFSETTO:+0000
TZNAME:UTC
DTSTART:20230101T000000
END:STANDARD
END:VTIMEZONE
BEGIN:VEVENT
DTSTART;TZID=UTC:20240511T193000
DTEND;TZID=UTC:20240512T040000
DTSTAMP:20260421T134535
CREATED:20240510T130355Z
LAST-MODIFIED:20240510T130355Z
UID:428-1715455800-1715486400@oohmilano.it
SUMMARY:BREAKOUT WITH DONSURF + AURACUL (UK)
DESCRIPTION:Al Leoncavallo\, una nuova serata BREAKOUT all’insegna della migliore musica UK in circolazione. Insieme all’eclettica ARACUL\, il dj e producer DONSURF\, astro nascente della nuova scena Bruk. \nApertura centro 15:30\nCena in Cucina Pop 19:30\nInizio evento 23:00
URL:https://oohmilano.it/event/breakout-with-donsurf-auracul-uk/
LOCATION:Mercatino Wunder MRKT
CATEGORIES:MUSICA
ATTACH;FMTTYPE=:
END:VEVENT
BEGIN:VEVENT
DTSTART;VALUE=DATE:20240512
DTEND;VALUE=DATE:20240513
DTSTAMP:20260421T134535
CREATED:20240511T102209Z
LAST-MODIFIED:20240511T102209Z
UID:461-1715472000-1715558399@oohmilano.it
SUMMARY:Festa della Mamma
DESCRIPTION:Questa volta ti consigliamo di passare la domenica a casa con la mamma\, dato che è la sua festa è il tuo momento per ricambiare tutto l’amore che ti ha dato. Ricordati di portarle dei fiori.
URL:https://oohmilano.it/event/festa-della-mamma/
CATEGORIES:DA CASA
ATTACH;FMTTYPE=:
END:VEVENT
BEGIN:VEVENT
DTSTART;TZID=UTC:20240512T063000
DTEND;TZID=UTC:20240512T200000
DTSTAMP:20260421T134535
CREATED:20240511T102353Z
LAST-MODIFIED:20240511T102353Z
UID:463-1715495400-1715544000@oohmilano.it
SUMMARY:Dritta: Pasticceria Sissi
DESCRIPTION:La dritta di questa domenica ti porta dritto dritto al brunch di Pasticceria Sissi\, a Piazza Risorgimento. Se il tempo tiene\, potrai godere del cortiletto interno e gustare il tuo brunch in compagnia. Consigliamo vivamente di provare le focacce farcite\, perchè creano dipendenza.
URL:https://oohmilano.it/event/dritta-pasticceria-sissi/
LOCATION:Pasticceria Sissi\, Piazza Risorgimento 6\, Milano\, Italy
CATEGORIES:RUBRICA
ATTACH;FMTTYPE=:
END:VEVENT
BEGIN:VEVENT
DTSTART;TZID=UTC:20240512T090000
DTEND;TZID=UTC:20240512T170000
DTSTAMP:20260421T134535
CREATED:20240511T100844Z
LAST-MODIFIED:20240511T100844Z
UID:444-1715504400-1715533200@oohmilano.it
SUMMARY:Vecchi Libri in P.zza Diaz
DESCRIPTION:La mostra-mercato “Vecchi Libri in Piazza Diaz” presenta libri antichi\, cartoline vintage e stampe introvabili\, con oltre cento espositori selezionati da Italia e estero. La fiera si tiene ogni seconda domenica del mese\, da settembre a luglio\, sotto i portici meridionali di piazza Diaz\, Piazza Duomo\, via Baracchini e via Gonzaga\, offrendo volumi rari\, di pregio\, usati e da collezione.
URL:https://oohmilano.it/event/vecchi-libri-in-p-zza-diaz/
LOCATION:Piazza Diaz\, Piazza Diaz\, Milano\, Italy
CATEGORIES:LIFESTYLE
ATTACH;FMTTYPE=:
END:VEVENT
BEGIN:VEVENT
DTSTART;TZID=UTC:20240512T100000
DTEND;TZID=UTC:20240512T100000
DTSTAMP:20260421T134535
CREATED:20240511T101228Z
LAST-MODIFIED:20240511T101228Z
UID:447-1715508000-1715508000@oohmilano.it
SUMMARY:StraWoman
DESCRIPTION:StraWoman Humanitas\, la corsa-camminata non competitiva dedicata alle donne per una giornata di benessere e divertimento\, torna a Milano domani con partenza alle 10 da Piazza Gino Valle.
URL:https://oohmilano.it/event/strawoman/
LOCATION:Piazza Gino Valle\, Piazza Gino Valle\, Milano\, Italy
CATEGORIES:SPORT
ATTACH;FMTTYPE=:
END:VEVENT
BEGIN:VEVENT
DTSTART;TZID=UTC:20240512T100000
DTEND;TZID=UTC:20240512T180000
DTSTAMP:20260421T134535
CREATED:20240511T101455Z
LAST-MODIFIED:20240511T101455Z
UID:450-1715508000-1715536800@oohmilano.it
SUMMARY:Belvedere Experience - Festa della Mamma
DESCRIPTION:Palazzo Lombardia apre le sue porte a tutti coloro che vogliono godere di una vista mozzafiato sulla città di Milano. In occasione della Festa della mamma\, il Belvedere del 39° piano sarà aperto\, SOLO SU PRENOTAZIONE\, dalle 10 alle 18.
URL:https://oohmilano.it/event/belvedere-experience-festa-della-mamma/
LOCATION:Palazzo Lombardia\, Piazza Città di Lombardia 1\, Milano\, Italy
CATEGORIES:LIFESTYLE
ATTACH;FMTTYPE=:
END:VEVENT
BEGIN:VEVENT
DTSTART;TZID=UTC:20240512T110000
DTEND;TZID=UTC:20240512T190000
DTSTAMP:20260421T134535
CREATED:20240511T101709Z
LAST-MODIFIED:20240511T101709Z
UID:453-1715511600-1715540400@oohmilano.it
SUMMARY:Market del Baratto e Asian Stree Food
DESCRIPTION:Al Tempio del Futuro Perduto a Milano\, c’è l’Asian Street Food Market\, il primo festival di street food orientale della città\, insieme al Market del Baratto\, il più grande swap market d’Italia. Porta i tuoi vestiti\, libri\, vinili e giochi (max 15 pezzi) e ricevi dei token da usare per fare del vero baratto all’interno dell’evento.
URL:https://oohmilano.it/event/market-del-baratto-e-asian-stree-food/
LOCATION:Tempio del Futuro Perduto\, Via Luigi Nono 9/7\, Milano\, Italy
CATEGORIES:LIFESTYLE
ATTACH;FMTTYPE=:
END:VEVENT
BEGIN:VEVENT
DTSTART;TZID=UTC:20240512T154500
DTEND;TZID=UTC:20240512T154500
DTSTAMP:20260421T134535
CREATED:20240511T101951Z
LAST-MODIFIED:20240511T101951Z
UID:456-1715528700-1715528700@oohmilano.it
SUMMARY:Il Racconto dell’Ancella - Teatro Franco Parenti
DESCRIPTION:Al Teatro Franco Parenti Viola Graziosi porta un monologo tratto dal romanzo del 1985 di Margaret Atwood\, “Il racconto dell’ancella”. La sua performance offre uno sguardo inquietante su un futuro distopico in cui le donne sono soggiogate da rigide regole imposte dagli uomini e suddivise in categorie in base al colore dei loro abiti.
URL:https://oohmilano.it/event/il-racconto-dellancella-teatro-franco-parenti/
LOCATION:Teatro Franco Parenti\, Via Pier Lombardo 14\, Milano\, Italy
CATEGORIES:SPETTACOLO
ATTACH;FMTTYPE=:
END:VEVENT
BEGIN:VEVENT
DTSTART;TZID=UTC:20240512T210000
DTEND;TZID=UTC:20240512T210000
DTSTAMP:20260421T134535
CREATED:20240511T102112Z
LAST-MODIFIED:20240511T102112Z
UID:459-1715547600-1715547600@oohmilano.it
SUMMARY:Whispering Sons in concerto
DESCRIPTION:I belgi Whispering Sons\, noti per la loro miscela unica e oscura di post-punk sperimentale e frenetico\, in concerto all’Arci Bellezza. La loro strumentazione propulsiva\, combinata con la voce profonda di Fenne Kuppens\, genera un costante senso di inquietudine che è insito nella loro musica fin dagli esordi. Con le loro performance energiche e accattivanti\, la band è imperdibile dal vivo.
URL:https://oohmilano.it/event/whispering-sons-in-concerto/
LOCATION:Arci Bellezza\, Via Giovanni Bellezza\, 16/A\, Milano
CATEGORIES:MUSICA
ATTACH;FMTTYPE=:
END:VEVENT
END:VCALENDAR