BEGIN:VCALENDAR
VERSION:2.0
PRODID:-//OOHMILANO - ECPv6.15.13.1//NONSGML v1.0//EN
CALSCALE:GREGORIAN
METHOD:PUBLISH
X-WR-CALNAME:OOHMILANO
X-ORIGINAL-URL:https://oohmilano.it
X-WR-CALDESC:Events for OOHMILANO
REFRESH-INTERVAL;VALUE=DURATION:PT1H
X-Robots-Tag:noindex
X-PUBLISHED-TTL:PT1H
BEGIN:VTIMEZONE
TZID:UTC
BEGIN:STANDARD
TZOFFSETFROM:+0000
TZOFFSETTO:+0000
TZNAME:UTC
DTSTART:20230101T000000
END:STANDARD
END:VTIMEZONE
BEGIN:VEVENT
DTSTART;VALUE=DATE:20240514
DTEND;VALUE=DATE:20240515
DTSTAMP:20260421T133442
CREATED:20240513T143348Z
LAST-MODIFIED:20240513T143348Z
UID:528-1715644800-1715731199@oohmilano.it
SUMMARY:DRITTA: Casa della Parrucca
DESCRIPTION:Essendo martedì un giorno più che ordinario di inizio settimana\, per dare una spettinata alla tua giornata devi assolutamente passare dalla Casa della Parrucca in zona Monumentale. Fondata nel 1963 è diventata un’icona nel settore dell’acconciatura e della moda.
URL:https://oohmilano.it/event/dritta-casa-della-parrucca/
LOCATION:Casa Della Parrucca\, Via Giuseppe Govono 68\, Milano\, Italy
CATEGORIES:RUBRICA
ATTACH;FMTTYPE=:
END:VEVENT
BEGIN:VEVENT
DTSTART;VALUE=DATE:20240514
DTEND;VALUE=DATE:20240515
DTSTAMP:20260421T133442
CREATED:20240513T143518Z
LAST-MODIFIED:20240513T143518Z
UID:531-1715644800-1715731199@oohmilano.it
SUMMARY:DA CASA: Morning Podcast
DESCRIPTION:Avete mai ascoltato Morning\, la rassegna stampa del Post curata da Francesco Costa? Beh è il momento giusto per farlo\, perché per tutta questa settimana sarà gratis. Se stai a casa approfittane per scaricare l’App e vedrai che ti cambierà il modo di svegliarti al mattino.
URL:https://oohmilano.it/event/da-casa-morning-podcast/
LOCATION:Spotify
CATEGORIES:DA CASA
ATTACH;FMTTYPE=:
END:VEVENT
BEGIN:VEVENT
DTSTART;TZID=UTC:20240514T110000
DTEND;TZID=UTC:20240514T110000
DTSTAMP:20260421T133442
CREATED:20240513T135048Z
LAST-MODIFIED:20240513T135048Z
UID:511-1715684400-1715684400@oohmilano.it
SUMMARY:Inaugurazione Richard Hearns – The Living Mountain
DESCRIPTION:Alla @CadoganGallery\, @Richard_Hearns presenta una serie inedita ispirata ai paesaggi selvaggi del Burren National Park\, nella contea di Clare\, in Irlanda\, nella sua mostra inaugurale “The Living Mountain”. L’artista libanese\, classe 1980\, cresciuto in Irlanda\, offre uno sguardo unico e coinvolgente sulla bellezza naturale della sua terra d’adozione.
URL:https://oohmilano.it/event/inaugurazione-richard-hearns-the-living-mountain/
LOCATION:Cadogan Gallery\, Via Bramante 5\, Milano\, Milano\, Italy
CATEGORIES:ARTE
ATTACH;FMTTYPE=:
END:VEVENT
BEGIN:VEVENT
DTSTART;TZID=UTC:20240514T170000
DTEND;TZID=UTC:20240514T170000
DTSTAMP:20260421T133442
CREATED:20240513T135141Z
LAST-MODIFIED:20240513T135141Z
UID:514-1715706000-1715706000@oohmilano.it
SUMMARY:L'odio - Cinema Beltrade
DESCRIPTION:Al @CinemaBeltrade di martedì ci fanno fare un tuffo nel passato. Un iconico Vincent Cassel che interpreta il giovane Vinz Hubert ne L’Odio. In lingua originale non si può sicuramente perdere.
URL:https://oohmilano.it/event/lodio-cinema-beltrade/
LOCATION:Cinema Beltrade\, Via Nino Oxilia 10\, Milano
CATEGORIES:SPETTACOLO
ATTACH;FMTTYPE=:
END:VEVENT
BEGIN:VEVENT
DTSTART;TZID=UTC:20240514T180000
DTEND;TZID=UTC:20240514T180000
DTSTAMP:20260421T133442
CREATED:20240513T135325Z
LAST-MODIFIED:20240513T135325Z
UID:517-1715709600-1715709600@oohmilano.it
SUMMARY:Laboratorio di Origami
DESCRIPTION:Alla Biblioteca Sormani\, scopri l’arte dell’origami in un laboratorio che offre a tutti\, anche ai principianti\, l’opportunità di imparare questa tecnica giapponese millenaria di piegatura della carta.
URL:https://oohmilano.it/event/laboratorio-di-origami/
LOCATION:Biblioteca Sormani\, Corso di Porta Vittoria 6\, Milano\, Italy
CATEGORIES:LIFESTYLE
END:VEVENT
BEGIN:VEVENT
DTSTART;TZID=UTC:20240514T180000
DTEND;TZID=UTC:20240514T180000
DTSTAMP:20260421T133442
CREATED:20240513T135435Z
LAST-MODIFIED:20240513T135435Z
UID:519-1715709600-1715709600@oohmilano.it
SUMMARY:Presentazione "La vasca dei pesci"
DESCRIPTION:La presentazione “La vasca dei pesci” di Luca Fassina al Libraccio Veneto ci catapulta nel cuore di Milano\, esplorando le sue strade\, i suoi locali e i suoi personaggi. Ambientato nei primi anni 2000\, il libro racconta la situazione del gioco d’azzardo clandestino in città\, mescolando storia e noir.
URL:https://oohmilano.it/event/presentazione-la-vasca-dei-pesci/
LOCATION:Libraccio Veneto\, Viale Vittorio Veneto 22\, Milano\, Milano\, Italy
CATEGORIES:LIFESTYLE
ATTACH;FMTTYPE=:
END:VEVENT
BEGIN:VEVENT
DTSTART;TZID=UTC:20240514T180000
DTEND;TZID=UTC:20240514T210000
DTSTAMP:20260421T133442
CREATED:20240513T140213Z
LAST-MODIFIED:20240513T140213Z
UID:522-1715709600-1715720400@oohmilano.it
SUMMARY:Inaugurazione Luis Molina-Pantin – Los Peñeros
DESCRIPTION:Alla @Wizard_Milan @LuisMolinaPantin inaugura la mostra “Los Peñeros”\, presentando 16 fotografie delle piccole imbarcazioni da pesca venezuelane\, chiamate “Peñeros”. Nato a Ginevra nel 1969\, l’artista da un’interpretazione unica delle tradizioni venezuelane attraverso la sua opera fotografica.
URL:https://oohmilano.it/event/inaugurazione-luis-molina-pantin-los-peneros/
LOCATION:FL GALLERY | WIZARD\, Corso di Porta Ticinese 87\, Milano\, Milano\, Italy
CATEGORIES:LIFESTYLE
ATTACH;FMTTYPE=:
END:VEVENT
BEGIN:VEVENT
DTSTART;TZID=UTC:20240514T210000
DTEND;TZID=UTC:20240514T233000
DTSTAMP:20260421T133442
CREATED:20240513T143643Z
LAST-MODIFIED:20240513T143643Z
UID:533-1715720400-1715729400@oohmilano.it
SUMMARY:Concerto Massimo Silverio
DESCRIPTION:All’Arci Bellezza\, il concerto di Massimo Silverio. autore e musicista la cui lingua nativa\, il “cjarniel”\, caratterizza il suo singolare mondo sonoro. Il suo album “Hrudja” è stato acclamato come uno dei migliori dischi italiani del 2023 dalla critica internazionale\, attirando l’attenzione di artisti come Iggy Pop.
URL:https://oohmilano.it/event/concerto-massimo-silverio/
LOCATION:Arci Bellezza\, Via Giovanni Bellezza\, 16/A\, Milano
CATEGORIES:MUSICA
ATTACH;FMTTYPE=:
END:VEVENT
BEGIN:VEVENT
DTSTART;TZID=UTC:20240514T213000
DTEND;TZID=UTC:20240514T213000
DTSTAMP:20260421T133442
CREATED:20240513T143247Z
LAST-MODIFIED:20240513T143247Z
UID:525-1715722200-1715722200@oohmilano.it
SUMMARY:Tango y Argentina
DESCRIPTION:La Casa de Tango @ElPortenoProhibido presenta quattro serate esclusive per celebrare il tango e la cultura argentina\, con la coppia d’eccezione JulianSanchez e BrunaEstellita\, campioni del mondo di tango “escenario”. Balleranno il meglio del loro repertorio\, incluso il brano “Loca” che li ha resi campioni ai Mondiali di Tango 2023 di Buenos Aires.
URL:https://oohmilano.it/event/tango-y-argentina/
LOCATION:Casa De Tango El Porteno Prohibido\, via Melloni 9\, Milano\, Milano\, Italy
CATEGORIES:LIFESTYLE
ATTACH;FMTTYPE=:
END:VEVENT
END:VCALENDAR