BEGIN:VCALENDAR
VERSION:2.0
PRODID:-//OOHMILANO - ECPv6.15.13.1//NONSGML v1.0//EN
CALSCALE:GREGORIAN
METHOD:PUBLISH
X-ORIGINAL-URL:https://oohmilano.it
X-WR-CALDESC:Events for OOHMILANO
REFRESH-INTERVAL;VALUE=DURATION:PT1H
X-Robots-Tag:noindex
X-PUBLISHED-TTL:PT1H
BEGIN:VTIMEZONE
TZID:UTC
BEGIN:STANDARD
TZOFFSETFROM:+0000
TZOFFSETTO:+0000
TZNAME:UTC
DTSTART:20230101T000000
END:STANDARD
END:VTIMEZONE
BEGIN:VEVENT
DTSTART;VALUE=DATE:20240524
DTEND;VALUE=DATE:20240525
DTSTAMP:20260421T134517
CREATED:20240523T131552Z
LAST-MODIFIED:20240523T131552Z
UID:859-1716508800-1716595199@oohmilano.it
SUMMARY:Cantine Isola dal 1896
DESCRIPTION:Se si prospetta una serata a cena a casa di amici\, ti consigliamo di andare a prendere un buon vino da Cantine Isola. Fondate nel 1896 da Giovanni Isola\, dopo la Seconda Guerra Mondiale un’altra famiglia Isola prende in’ mano l’attività: con Carlo e successivamente Giacomo\, noto come Jack lo “stappoeur”\, insieme alla moglie Milly (una delle prime donne sommelier d’Italia). Nel 1991\, la gestione passa alla famiglia Sarais\, continuando la tradizione di eccellenza nel settore.
URL:https://oohmilano.it/event/cantine-isola-dal-1896/
LOCATION:Grissinificio Edelweiss\, Via Teodosio\, 27\, MIlano
CATEGORIES:DA CASA
ATTACH;FMTTYPE=:
END:VEVENT
BEGIN:VEVENT
DTSTART;TZID=UTC:20240524T053000
DTEND;TZID=UTC:20240524T053000
DTSTAMP:20260421T134517
CREATED:20240523T124759Z
LAST-MODIFIED:20240523T124759Z
UID:838-1716528600-1716528600@oohmilano.it
SUMMARY:Run 5.30
DESCRIPTION:Ai Giardini di Via Palestro\, parte alle 5:30 di mattina la run5.30\, 5km di corsa da fare con amici e/o familiari\, aperta a tutti dagli 0 ai 120 anni.
URL:https://oohmilano.it/event/run-5-30/
LOCATION:Giardini di Via Palestro\, Giardini di Via Palestro (di fronte Via Marina)\, Milano
CATEGORIES:SPORT
END:VEVENT
BEGIN:VEVENT
DTSTART;TZID=UTC:20240524T093000
DTEND;TZID=UTC:20240524T093000
DTSTAMP:20260421T134517
CREATED:20240523T130412Z
LAST-MODIFIED:20240523T130412Z
UID:841-1716543000-1716543000@oohmilano.it
SUMMARY:Friday's for Future
DESCRIPTION:I giovani tornano in piazza con ‘Fridays for Future’\, l’iniziativa di Greta Thunberg\, per chiedere azioni immediate contro il surriscaldamento globale. La manifestazione parte da Largo Cairoli alle 9:30\, coinvolgendo milanesi e manifestanti in molte altre città italiane e internazionali.
URL:https://oohmilano.it/event/fridays-for-future/
LOCATION:Largo Cairoli\, Largo Cairoli\, Milano
CATEGORIES:LIFESTYLE
END:VEVENT
BEGIN:VEVENT
DTSTART;TZID=UTC:20240524T110000
DTEND;TZID=UTC:20240524T110000
DTSTAMP:20260421T134517
CREATED:20240523T130614Z
LAST-MODIFIED:20240523T130614Z
UID:844-1716548400-1716548400@oohmilano.it
SUMMARY:Aperitivo Festival
DESCRIPTION:Inizia l’Aperitivo Festival\, che offre un’esperienza multisensoriale con degustazioni\, intrattenimento e approfondimenti\, trasformando il rituale dell’aperitivo in un evento indimenticabile\, nel TORTONA SAVONA\nDISTRICT.
URL:https://oohmilano.it/event/aperitivo-festival/
LOCATION:Tortona Savona District\, Via Tortona\, Milano
CATEGORIES:LIFESTYLE
END:VEVENT
BEGIN:VEVENT
DTSTART;TZID=UTC:20240524T164500
DTEND;TZID=UTC:20240524T164500
DTSTAMP:20260421T134517
CREATED:20240523T130727Z
LAST-MODIFIED:20240523T130727Z
UID:847-1716569100-1716569100@oohmilano.it
SUMMARY:MIAMI Festival
DESCRIPTION:Torna finalmente il MIAmi Festival per l’edizione 2024 al Circolo Magnolia\, il festival “indie” con una lineup ricca di artisti italiani e non\, tra nomi già affermati e artisti al loro debutto sul grande palco.
URL:https://oohmilano.it/event/miami-festival/
LOCATION:Circolo Magnolia\, Via Circonvallazione Idroscalo 41\, Milano
CATEGORIES:MUSICA
END:VEVENT
BEGIN:VEVENT
DTSTART;TZID=UTC:20240524T170000
DTEND;TZID=UTC:20240524T190000
DTSTAMP:20260421T134517
CREATED:20240523T130824Z
LAST-MODIFIED:20240523T130824Z
UID:850-1716570000-1716577200@oohmilano.it
SUMMARY:Festival dei Bambini e delle Bambine
DESCRIPTION:Il Festival delle Bambine e dei Bambini\, promosso dal Comune di Milano fino al 27 maggio\, offre un centinaio di eventi culturali per l’infanzia in tutta la città\, con il tema “Una città\, tanti nomi” in concomitanza con la settimana dei Diritti dell’infanzia.
URL:https://oohmilano.it/event/festival-dei-bambini-e-delle-bambine/
LOCATION:Castello Sforzesco\, Castello Sforzesco\, Milano
CATEGORIES:LIFESTYLE
ATTACH;FMTTYPE=:
END:VEVENT
BEGIN:VEVENT
DTSTART;TZID=UTC:20240524T173000
DTEND;TZID=UTC:20240524T173000
DTSTAMP:20260421T134517
CREATED:20240523T130917Z
LAST-MODIFIED:20240523T130917Z
UID:853-1716571800-1716571800@oohmilano.it
SUMMARY:Serata a tema - Game of Thrones
DESCRIPTION:Un pomeriggio dedicato al Trono di Spade in compagnia dello youtuber Caleel\, al Mondadori Megastore\, per discutere e commentare l’ultima stagione della serie insieme agli altri fan.
URL:https://oohmilano.it/event/serata-a-tema-game-of-thrones/
LOCATION:Mondadori Duomo\, Piazza Duomo\, Milano
CATEGORIES:SPETTACOLO
ATTACH;FMTTYPE=:
END:VEVENT
BEGIN:VEVENT
DTSTART;TZID=UTC:20240524T183000
DTEND;TZID=UTC:20240524T183000
DTSTAMP:20260421T134517
CREATED:20240523T131336Z
LAST-MODIFIED:20240523T131336Z
UID:856-1716575400-1716575400@oohmilano.it
SUMMARY:Festival del Ciclo Mestruale
DESCRIPTION:Fino al 26 maggio\, la terza edizione del Festival del Ciclo Mestruale\, per promuovere salute e parità di genere attraverso discussioni approfondite sul ciclo mestruale\, con una mostra fotografica internazionale sul tema “Corpo a Corpo” e un focus sui corpi in tutte le loro diversità.
URL:https://oohmilano.it/event/festival-del-ciclo-mestruale/
LOCATION:Rob de Matt\, Via Enrico Annibale Butti 18\, Milano
CATEGORIES:LIFESTYLE
END:VEVENT
END:VCALENDAR