BEGIN:VCALENDAR
VERSION:2.0
PRODID:-//OOHMILANO - ECPv6.15.13.1//NONSGML v1.0//EN
CALSCALE:GREGORIAN
METHOD:PUBLISH
X-ORIGINAL-URL:https://oohmilano.it
X-WR-CALDESC:Events for OOHMILANO
REFRESH-INTERVAL;VALUE=DURATION:PT1H
X-Robots-Tag:noindex
X-PUBLISHED-TTL:PT1H
BEGIN:VTIMEZONE
TZID:UTC
BEGIN:STANDARD
TZOFFSETFROM:+0000
TZOFFSETTO:+0000
TZNAME:UTC
DTSTART:20240101T000000
END:STANDARD
END:VTIMEZONE
BEGIN:VEVENT
DTSTART;TZID=UTC:20250227T230000
DTEND;TZID=UTC:20250228T030000
DTSTAMP:20260421T135324
CREATED:20250228T105331Z
LAST-MODIFIED:20250228T105331Z
UID:4226-1740697200-1740711600@oohmilano.it
SUMMARY:HOUSE x MFW
DESCRIPTION:“HOUSE x MFW” a @casagiardinomilan porta alla Milano Fashion Week una serata di musica elettronica con @rimaye__\, @simonedekunovich e un ospite segreto.
URL:https://oohmilano.it/event/house-x-mfw/
LOCATION:Casa Giardino\, Via Valtellina 5\, Milano
CATEGORIES:MUSICA
END:VEVENT
BEGIN:VEVENT
DTSTART;TZID=UTC:20250227T233000
DTEND;TZID=UTC:20250228T030000
DTSTAMP:20260421T135324
CREATED:20250228T105512Z
LAST-MODIFIED:20250310T164336Z
UID:4229-1740699000-1740711600@oohmilano.it
SUMMARY:Soulstice
DESCRIPTION:“Soulstice” a @spaziodiaz_milano torna alla MFW per una notte di musica ipnotica e atmosfera elettrizzante.
URL:https://oohmilano.it/event/soulstice/
LOCATION:Spazio Diaz\, Piazza Armando Diaz 5\, Milano
CATEGORIES:MUSICA
ATTACH;FMTTYPE=image/jpeg:https://oohmilano.it/wp-content/uploads/2025/02/6.jpg
END:VEVENT
BEGIN:VEVENT
DTSTART;TZID=UTC:20250228T230000
DTEND;TZID=UTC:20250301T030000
DTSTAMP:20260421T135324
CREATED:20250228T105754Z
LAST-MODIFIED:20250310T164405Z
UID:4233-1740783600-1740798000@oohmilano.it
SUMMARY:SOLOHIT
DESCRIPTION:  \n“SOLOHIT” è il party-karaoke di Mosso con DJ Marco Manini\, che celebra le hit iconiche di ogni epoca per una notte da cantare a squarciagola.
URL:https://oohmilano.it/event/solohit/
LOCATION:Mosso Milano\, Via Angelo Mosso 3\, Milano\, Milano\, Italy
CATEGORIES:MUSICA
ATTACH;FMTTYPE=image/png:https://oohmilano.it/wp-content/uploads/2025/02/7.png
END:VEVENT
BEGIN:VEVENT
DTSTART;TZID=UTC:20250228T230000
DTEND;TZID=UTC:20250301T040000
DTSTAMP:20260421T135324
CREATED:20250228T110043Z
LAST-MODIFIED:20250310T164441Z
UID:4236-1740783600-1740801600@oohmilano.it
SUMMARY:Hotel Folie
DESCRIPTION:“Hotel Folie” è un evento esclusivo al @nhow.milano \, nel cuore del distretto del design.
URL:https://oohmilano.it/event/hotel-folie/
LOCATION:nhow Milano\, Via Tortona 35\, Milano
CATEGORIES:MUSICA
ATTACH;FMTTYPE=image/png:https://oohmilano.it/wp-content/uploads/2025/02/8.png
END:VEVENT
BEGIN:VEVENT
DTSTART;TZID=UTC:20250228T233000
DTEND;TZID=UTC:20250301T030000
DTSTAMP:20260421T135324
CREATED:20250228T110614Z
LAST-MODIFIED:20250310T164517Z
UID:4240-1740785400-1740798000@oohmilano.it
SUMMARY:PICNIC X FUTURA X SALA RADIO
DESCRIPTION:“PICNIC X FUTURA X SALA RADIO” unisce @sala__radio\, @futura.music_ e Picnic all’ @apollo_milano-
URL:https://oohmilano.it/event/picnic-x-futura-x-sala-radio/
LOCATION:Apollo Club\, Via Giosuè Borsi 9/2\, Milano
CATEGORIES:MUSICA
ATTACH;FMTTYPE=image/jpeg:https://oohmilano.it/wp-content/uploads/2025/03/9-scaled.jpg
END:VEVENT
END:VCALENDAR