BEGIN:VCALENDAR
VERSION:2.0
PRODID:-//OOHMILANO - ECPv6.15.13.1//NONSGML v1.0//EN
CALSCALE:GREGORIAN
METHOD:PUBLISH
X-ORIGINAL-URL:https://oohmilano.it
X-WR-CALDESC:Events for OOHMILANO
REFRESH-INTERVAL;VALUE=DURATION:PT1H
X-Robots-Tag:noindex
X-PUBLISHED-TTL:PT1H
BEGIN:VTIMEZONE
TZID:UTC
BEGIN:STANDARD
TZOFFSETFROM:+0000
TZOFFSETTO:+0000
TZNAME:UTC
DTSTART:20240101T000000
END:STANDARD
END:VTIMEZONE
BEGIN:VEVENT
DTSTART;TZID=UTC:20250301T233000
DTEND;TZID=UTC:20250302T040000
DTSTAMP:20260421T095102
CREATED:20250305T092836Z
LAST-MODIFIED:20250310T164710Z
UID:4268-1740871800-1740888000@oohmilano.it
SUMMARY:Take it easy with Dirty Channels
DESCRIPTION:“Take It Easy with Dirty Channels” è una notte di musica ininterrotta con i @dirtychannels_ al @tunnelclubmilan
URL:https://oohmilano.it/event/take-it-easy-with-dirty-channels/
LOCATION:Tunnel Milano\, Via Giovanni Battista Sammartini\, 30\,\, Milano\, Italy
CATEGORIES:MUSICA
ATTACH;FMTTYPE=image/jpeg:https://oohmilano.it/wp-content/uploads/2025/03/13.jpg
END:VEVENT
BEGIN:VEVENT
DTSTART;TZID=UTC:20250302T110000
DTEND;TZID=UTC:20250302T210000
DTSTAMP:20260421T095102
CREATED:20250305T092958Z
LAST-MODIFIED:20250310T164736Z
UID:4270-1740913200-1740949200@oohmilano.it
SUMMARY:Wunder Market
DESCRIPTION:@wundermrkt arriva questa domenica allo @spiritdemilan
URL:https://oohmilano.it/event/wunder-market/
LOCATION:Spirit De Milan\, Via Bovisasca 57\, Milano
CATEGORIES:LIFESTYLE
ATTACH;FMTTYPE=image/jpeg:https://oohmilano.it/wp-content/uploads/2025/03/14.jpg
END:VEVENT
BEGIN:VEVENT
DTSTART;TZID=UTC:20250302T190000
DTEND;TZID=UTC:20250302T220000
DTSTAMP:20260421T095102
CREATED:20250305T093118Z
LAST-MODIFIED:20250310T163743Z
UID:4273-1740942000-1740952800@oohmilano.it
SUMMARY:Open Wine
DESCRIPTION:“OPEN WINE”: serata di vino illimitato al @sequoiamilano
URL:https://oohmilano.it/event/open-wine/
LOCATION:Sequoia Milano\, Via Aldo Manuzio 6/A\, Milano
CATEGORIES:FOOD
ATTACH;FMTTYPE=image/jpeg:https://oohmilano.it/wp-content/uploads/2025/03/15.jpeg
END:VEVENT
END:VCALENDAR