BEGIN:VCALENDAR
VERSION:2.0
PRODID:-//OOHMILANO - ECPv6.15.13.1//NONSGML v1.0//EN
CALSCALE:GREGORIAN
METHOD:PUBLISH
X-ORIGINAL-URL:https://oohmilano.it
X-WR-CALDESC:Events for OOHMILANO
REFRESH-INTERVAL;VALUE=DURATION:PT1H
X-Robots-Tag:noindex
X-PUBLISHED-TTL:PT1H
BEGIN:VTIMEZONE
TZID:UTC
BEGIN:STANDARD
TZOFFSETFROM:+0000
TZOFFSETTO:+0000
TZNAME:UTC
DTSTART:20240101T000000
END:STANDARD
END:VTIMEZONE
BEGIN:VEVENT
DTSTART;TZID=UTC:20250306T090000
DTEND;TZID=UTC:20250307T000000
DTSTAMP:20260421T110131
CREATED:20250311T091134Z
LAST-MODIFIED:20250311T091134Z
UID:4400-1741251600-1741305600@oohmilano.it
SUMMARY:PhotoVogue Festival
DESCRIPTION:@base_milano presenta “PhotoVogue Festival” la nona edizione del festival celebra la connessione tra etica ed estetica con “The Tree of Life: A Love Letter to Nature”. Un’esperienza immersiva nel mondo della fotografia di moda.
URL:https://oohmilano.it/event/photovogue-festival/
LOCATION:Base\, Via Bergognone\, 34\, Milano
CATEGORIES:ARTE
ATTACH;FMTTYPE=image/tiff:https://oohmilano.it/wp-content/uploads/2025/03/Federico-Estol.-3-Heroes_del_Brillo_03-c93a0766-2f15-4348-a007-8d8db1acfa63.jpg-copia.tiff
END:VEVENT
BEGIN:VEVENT
DTSTART;TZID=UTC:20250306T190000
DTEND;TZID=UTC:20250306T233000
DTSTAMP:20260421T110131
CREATED:20250310T153904Z
LAST-MODIFIED:20250310T153904Z
UID:4326-1741287600-1741303800@oohmilano.it
SUMMARY:WYN Party di carnevale
DESCRIPTION:Al @nodobar “WYN Party di carnevale” festa a tema con travestimenti da film e serie TV.
URL:https://oohmilano.it/event/wyn-party-di-carnevale/
LOCATION:Nodo bar\, Via Marco Aurelio 8\, Milano
CATEGORIES:LIFESTYLE
ATTACH;FMTTYPE=image/png:https://oohmilano.it/wp-content/uploads/2025/03/image-copia.png
END:VEVENT
BEGIN:VEVENT
DTSTART;TZID=UTC:20250306T210000
DTEND;TZID=UTC:20250306T233000
DTSTAMP:20260421T110131
CREATED:20250310T154717Z
LAST-MODIFIED:20250310T154717Z
UID:4332-1741294800-1741303800@oohmilano.it
SUMMARY:Boni Quiz Show
DESCRIPTION:“Boni Quiz Show” da @ostellobello.milanocentrale è una serata di risate e sfide musicali con @boni_band .
URL:https://oohmilano.it/event/boni-quiz-show/
LOCATION:Ostello Bello Grande – Milano Centrale\, Via Lepetit 33\, Milano\, Milano\, Italy
CATEGORIES:LIFESTYLE
ATTACH;FMTTYPE=image/png:https://oohmilano.it/wp-content/uploads/2025/03/image-copia-3.png
END:VEVENT
BEGIN:VEVENT
DTSTART;TZID=UTC:20250306T210000
DTEND;TZID=UTC:20250307T000000
DTSTAMP:20260421T110131
CREATED:20250310T154154Z
LAST-MODIFIED:20250310T154154Z
UID:4329-1741294800-1741305600@oohmilano.it
SUMMARY:Rumore In Studio | Marta Del Grandi
DESCRIPTION:“Rumore In Studio” con @martadelgrandi al @volvostudiomilanoi presenta l’album “Selva”.
URL:https://oohmilano.it/event/rumore-in-studio-marta-del-grandi/
LOCATION:Volvo Studio\, Viale della liberazione angolo Via Melchiorre Gioia\, Milano
CATEGORIES:MUSICA
ATTACH;FMTTYPE=image/png:https://oohmilano.it/wp-content/uploads/2025/03/image-copia-2.png
END:VEVENT
END:VCALENDAR