BEGIN:VCALENDAR
VERSION:2.0
PRODID:-//OOHMILANO - ECPv6.15.13.1//NONSGML v1.0//EN
CALSCALE:GREGORIAN
METHOD:PUBLISH
X-ORIGINAL-URL:https://oohmilano.it
X-WR-CALDESC:Events for OOHMILANO
REFRESH-INTERVAL;VALUE=DURATION:PT1H
X-Robots-Tag:noindex
X-PUBLISHED-TTL:PT1H
BEGIN:VTIMEZONE
TZID:UTC
BEGIN:STANDARD
TZOFFSETFROM:+0000
TZOFFSETTO:+0000
TZNAME:UTC
DTSTART:20240101T000000
END:STANDARD
END:VTIMEZONE
BEGIN:VEVENT
DTSTART;TZID=UTC:20250307T100000
DTEND;TZID=UTC:20250307T190000
DTSTAMP:20260421T105629
CREATED:20250310T154942Z
LAST-MODIFIED:20250310T154942Z
UID:4334-1741341600-1741374000@oohmilano.it
SUMMARY:Valerio Adami
DESCRIPTION:Inaugura la mostra “Valerio Adami. Ripensando la realtà” curata da @lorenzo_madaro da @depart_gallery.
URL:https://oohmilano.it/event/valerio-adami/
LOCATION:Dep Arte Gallery\, Via Comelico 48\, Milano
CATEGORIES:ARTE
ATTACH;FMTTYPE=image/png:https://oohmilano.it/wp-content/uploads/2025/03/image-copia-4.png
END:VEVENT
BEGIN:VEVENT
DTSTART;TZID=UTC:20250307T100000
DTEND;TZID=UTC:20250307T193000
DTSTAMP:20260421T105629
CREATED:20250311T091311Z
LAST-MODIFIED:20250311T091311Z
UID:4410-1741341600-1741375800@oohmilano.it
SUMMARY:DA CINDY SHERMAN A FRANCESCO VEZZOLI. 80 artisti contemporanei.
DESCRIPTION:“DA CINDY SHERMAN A FRANCESCO VEZZOLI. 80 ARTISTI CONTEMPORANEI” a @palazzorealemilano : mostra internazionale con più di 140 opere di 80 artisti da tutto il mondo\, tra cui Cindy Sherman\, Francesco Vezzoli e Nan Goldin. Temi come il corpo\, l’identità e il multiculturalismo vengono affrontati con opere che trascendono confini temporali e spaziali\, offrendo una riflessione sui cambiamenti sociali e culturali del presente.
URL:https://oohmilano.it/event/da-cindy-sherman-a-francesco-vezzoli-80-artisti-contemporanei/
LOCATION:Palazzo Reale\, Piazza del Duomo\, 12\, Milano
CATEGORIES:ARTE
ATTACH;FMTTYPE=image/jpeg:https://oohmilano.it/wp-content/uploads/2025/03/02_CINDY_SHERMAN_UNTITLED_555_2010-2012-copia.jpg
END:VEVENT
BEGIN:VEVENT
DTSTART;TZID=UTC:20250307T230000
DTEND;TZID=UTC:20250308T053000
DTSTAMP:20260421T105629
CREATED:20250310T155243Z
LAST-MODIFIED:20250310T162131Z
UID:4337-1741388400-1741411800@oohmilano.it
SUMMARY:PENTIMENTO IV
DESCRIPTION:“PENTIMENTO IV” da @fucinevulcano : musica esplosiva per un’esperienza unica nel cuore della città.
URL:https://oohmilano.it/event/pentimento-iv/
LOCATION:Spazio Quindicidodici – Fucine Vulcano\, Via Fabio Massimo 15/12\, Milano
CATEGORIES:MUSICA
ATTACH;FMTTYPE=image/png:https://oohmilano.it/wp-content/uploads/2025/03/Screenshot-2025-03-10-alle-17.20.36.png
END:VEVENT
BEGIN:VEVENT
DTSTART;TZID=UTC:20250307T233000
DTEND;TZID=UTC:20250308T053000
DTSTAMP:20260421T105629
CREATED:20250310T155551Z
LAST-MODIFIED:20250310T155551Z
UID:4340-1741390200-1741411800@oohmilano.it
SUMMARY:UNDERPASS – WOMEN’S DAY
DESCRIPTION:“UNDERPASS – WOMEN’S DAY” al @main_club_milano notte di musica in onore delle donne con un’energia unica.
URL:https://oohmilano.it/event/underpass-womens-day/
LOCATION:Main Club – Club 44\, Via Carlo Boncompagni 44\, Milano
CATEGORIES:MUSICA
ATTACH;FMTTYPE=image/png:https://oohmilano.it/wp-content/uploads/2025/03/image-3.png
END:VEVENT
END:VCALENDAR