BEGIN:VCALENDAR
VERSION:2.0
PRODID:-//OOHMILANO - ECPv6.15.13.1//NONSGML v1.0//EN
CALSCALE:GREGORIAN
METHOD:PUBLISH
X-WR-CALNAME:OOHMILANO
X-ORIGINAL-URL:https://oohmilano.it
X-WR-CALDESC:Events for OOHMILANO
REFRESH-INTERVAL;VALUE=DURATION:PT1H
X-Robots-Tag:noindex
X-PUBLISHED-TTL:PT1H
BEGIN:VTIMEZONE
TZID:UTC
BEGIN:STANDARD
TZOFFSETFROM:+0000
TZOFFSETTO:+0000
TZNAME:UTC
DTSTART:20240101T000000
END:STANDARD
END:VTIMEZONE
BEGIN:VEVENT
DTSTART;TZID=UTC:20250308T180000
DTEND;TZID=UTC:20250309T020000
DTSTAMP:20260421T110026
CREATED:20250310T161033Z
LAST-MODIFIED:20250310T161033Z
UID:4352-1741456800-1741485600@oohmilano.it
SUMMARY:Sneaky Saturday
DESCRIPTION:“Sneaky Saturday” da @aarca__milano è un party gratuito diurno con una line-up incredibile.
URL:https://oohmilano.it/event/sneaky-saturday/
LOCATION:Arca Milano\, Via Rimini\, 38\, Milano
CATEGORIES:MUSICA
ATTACH;FMTTYPE=image/png:https://oohmilano.it/wp-content/uploads/2025/03/image-5-1.png
END:VEVENT
BEGIN:VEVENT
DTSTART;TZID=UTC:20250308T203000
DTEND;TZID=UTC:20250309T030000
DTSTAMP:20260421T110026
CREATED:20250311T091525Z
LAST-MODIFIED:20250311T091525Z
UID:4412-1741465800-1741489200@oohmilano.it
SUMMARY:Carnevale da incubo
DESCRIPTION:“Carnevale da Incubo” da @ostellobello.milanocentrale : dimenticate i costumi perfetti\, qui si celebra il trash! Indossate il vostro outfit più improbabile e preparatevi per una serata di risate e follia.
URL:https://oohmilano.it/event/carnevale-da-incubo/
LOCATION:Ostello Bello Grande – Milano Centrale\, Via Lepetit 33\, Milano\, Milano\, Italy
CATEGORIES:LIFESTYLE
ATTACH;FMTTYPE=image/jpeg:https://oohmilano.it/wp-content/uploads/2025/03/71pfzuLH98L.jpg
END:VEVENT
BEGIN:VEVENT
DTSTART;TZID=UTC:20250308T210000
DTEND;TZID=UTC:20250309T023000
DTSTAMP:20260421T110026
CREATED:20250310T161458Z
LAST-MODIFIED:20250310T161458Z
UID:4357-1741467600-1741487400@oohmilano.it
SUMMARY:Gatsby - Carnival Edition
DESCRIPTION:“Gatsby – Carnival Edition” @santeriatoscana31serata jazz\, burlesque\, lindy hop e dj set per celebrare il Carnevale Ambrosiano e la festa della donna in stile anni ‘20.
URL:https://oohmilano.it/event/gatsby-carnival-edition/
LOCATION:Santeria Toscana 31\, Viale Toscana 31\, Milano
CATEGORIES:LIFESTYLE
ATTACH;FMTTYPE=image/png:https://oohmilano.it/wp-content/uploads/2025/03/image-6-1.png
END:VEVENT
BEGIN:VEVENT
DTSTART;TZID=UTC:20250309T110000
DTEND;TZID=UTC:20250309T130000
DTSTAMP:20260421T110026
CREATED:20250310T162041Z
LAST-MODIFIED:20250310T163505Z
UID:4363-1741518000-1741525200@oohmilano.it
SUMMARY:HOMEsweetHOME n.2
DESCRIPTION:“HOMEsweetHOME n.2” a @spazioteatro89 : una nuova avventura di Scoiattolo\, tra amicizie e scoperte\, in un emozionante viaggio nel bosco.
URL:https://oohmilano.it/event/homesweethome-n-2/
LOCATION:Spazio Teatro 89\, Via Fratelli Zola 89\, Milano
CATEGORIES:SPETTACOLO
ATTACH;FMTTYPE=image/png:https://oohmilano.it/wp-content/uploads/2025/03/image-7.png
END:VEVENT
BEGIN:VEVENT
DTSTART;TZID=UTC:20250309T150000
DTEND;TZID=UTC:20250309T210000
DTSTAMP:20260421T110026
CREATED:20250310T162329Z
LAST-MODIFIED:20250310T162329Z
UID:4367-1741532400-1741554000@oohmilano.it
SUMMARY:Sotto: Sintetica Showcase
DESCRIPTION:@ilcielo.sottomilano presenta “Sotto: Sintetica Showcase” un’immersione nell’elettronica underground.
URL:https://oohmilano.it/event/sotto-sintetica-showcase/
LOCATION:Linea\, Sottopassaggio Metro M1 Cairoli\, Milano
CATEGORIES:MUSICA
ATTACH;FMTTYPE=image/jpeg:https://oohmilano.it/wp-content/uploads/2025/03/rasmus-gundorff-saederup-z2f5NZ29VoQ-unsplash-1-scaled.jpg
END:VEVENT
BEGIN:VEVENT
DTSTART;TZID=UTC:20250309T190000
DTEND;TZID=UTC:20250309T233000
DTSTAMP:20260421T110026
CREATED:20250311T091947Z
LAST-MODIFIED:20250311T092051Z
UID:4414-1741546800-1741563000@oohmilano.it
SUMMARY:WHYNOT: AFTER PARTY\, BEFORE WE FORGET
DESCRIPTION:WHYNOT: After Party\, Before We Forget @ilcielosottomilano – Un viaggio tra memoria e presente\, dove il confine tra i due sfuma in una pista da ballo immaginaria. Un’esperienza che vi farà riflettere mentre vi perdete nel ritmo.
URL:https://oohmilano.it/event/whynot-after-party-before-we-forget/
LOCATION:Il Cielo sotto Milano\, Stazione di Porta Vittoria\, Viale Molise\, Milano
CATEGORIES:SPETTACOLO
ATTACH;FMTTYPE=image/jpeg:https://oohmilano.it/wp-content/uploads/2025/03/72106.jpg
END:VEVENT
END:VCALENDAR