BEGIN:VCALENDAR
VERSION:2.0
PRODID:-//OOHMILANO - ECPv6.15.13.1//NONSGML v1.0//EN
CALSCALE:GREGORIAN
METHOD:PUBLISH
X-ORIGINAL-URL:https://oohmilano.it
X-WR-CALDESC:Events for OOHMILANO
REFRESH-INTERVAL;VALUE=DURATION:PT1H
X-Robots-Tag:noindex
X-PUBLISHED-TTL:PT1H
BEGIN:VTIMEZONE
TZID:UTC
BEGIN:STANDARD
TZOFFSETFROM:+0000
TZOFFSETTO:+0000
TZNAME:UTC
DTSTART:20240101T000000
END:STANDARD
END:VTIMEZONE
BEGIN:VEVENT
DTSTART;TZID=UTC:20250310T200000
DTEND;TZID=UTC:20250311T013000
DTSTAMP:20260421T094455
CREATED:20250311T092310Z
LAST-MODIFIED:20250311T092310Z
UID:4418-1741636800-1741656600@oohmilano.it
SUMMARY:INNER_SPACES Lee Gamble\, Leafcutter John
DESCRIPTION:Torna @inner_spaces.sfm con @lee___gamble & @leafcutterjohn all’Auditorium San Fedele. Un’esperienza sonora immersiva che esplora le frontiere tra musica elettronica sperimentale e acustica. Lee Gamble\, con il suo approccio psicoacustico e glitch\, e Leafcutter John\, con l’uso di strumenti tradizionali e digitali\, promettono una performance unica.
URL:https://oohmilano.it/event/inner_spaces-lee-gamble-leafcutter-john/
LOCATION:Auditorium San Fedele\, Via Ulrico Hoepli\, 3/b\, Milano
CATEGORIES:MUSICA
ATTACH;FMTTYPE=image/jpeg:https://oohmilano.it/wp-content/uploads/2025/03/a-inner_spaces-leafcutter-john-e-lee-gamble-scaled.jpg
END:VEVENT
BEGIN:VEVENT
DTSTART;TZID=UTC:20250310T210000
DTEND;TZID=UTC:20250310T233000
DTSTAMP:20260421T094455
CREATED:20250310T162517Z
LAST-MODIFIED:20250310T162517Z
UID:4372-1741640400-1741649400@oohmilano.it
SUMMARY:Comedy Night Open Mic
DESCRIPTION:“Comedy Night Open Mic” da @ostellobello.milanoduomo con comici emergenti e professionisti.
URL:https://oohmilano.it/event/comedy-night-open-mic/
LOCATION:Ostello Bello Milano Duomo\, Via Medici 4\, Milano
CATEGORIES:SPETTACOLO
ATTACH;FMTTYPE=image/png:https://oohmilano.it/wp-content/uploads/2025/03/image-8.png
END:VEVENT
END:VCALENDAR