BEGIN:VCALENDAR
VERSION:2.0
PRODID:-//OOHMILANO - ECPv6.15.13.1//NONSGML v1.0//EN
CALSCALE:GREGORIAN
METHOD:PUBLISH
X-WR-CALNAME:OOHMILANO
X-ORIGINAL-URL:https://oohmilano.it
X-WR-CALDESC:Events for OOHMILANO
REFRESH-INTERVAL;VALUE=DURATION:PT1H
X-Robots-Tag:noindex
X-PUBLISHED-TTL:PT1H
BEGIN:VTIMEZONE
TZID:UTC
BEGIN:STANDARD
TZOFFSETFROM:+0000
TZOFFSETTO:+0000
TZNAME:UTC
DTSTART:20240101T000000
END:STANDARD
END:VTIMEZONE
BEGIN:VEVENT
DTSTART;TZID=UTC:20250310T200000
DTEND;TZID=UTC:20250311T013000
DTSTAMP:20260421T095150
CREATED:20250311T092310Z
LAST-MODIFIED:20250311T092310Z
UID:4418-1741636800-1741656600@oohmilano.it
SUMMARY:INNER_SPACES Lee Gamble\, Leafcutter John
DESCRIPTION:Torna @inner_spaces.sfm con @lee___gamble & @leafcutterjohn all’Auditorium San Fedele. Un’esperienza sonora immersiva che esplora le frontiere tra musica elettronica sperimentale e acustica. Lee Gamble\, con il suo approccio psicoacustico e glitch\, e Leafcutter John\, con l’uso di strumenti tradizionali e digitali\, promettono una performance unica.
URL:https://oohmilano.it/event/inner_spaces-lee-gamble-leafcutter-john/
LOCATION:Auditorium San Fedele\, Via Ulrico Hoepli\, 3/b\, Milano
CATEGORIES:MUSICA
ATTACH;FMTTYPE=image/jpeg:https://oohmilano.it/wp-content/uploads/2025/03/a-inner_spaces-leafcutter-john-e-lee-gamble-scaled.jpg
END:VEVENT
BEGIN:VEVENT
DTSTART;TZID=UTC:20250311T190000
DTEND;TZID=UTC:20250311T210000
DTSTAMP:20260421T095150
CREATED:20250310T162746Z
LAST-MODIFIED:20250310T163404Z
UID:4376-1741719600-1741726800@oohmilano.it
SUMMARY:Cicchetti Night
DESCRIPTION:“Cicchetti Night” da @tascaro_milano : un aperitivo della tradizione veneta con cicchetti e vini selezionati.
URL:https://oohmilano.it/event/cicchetti-night/
LOCATION:Tàscaro\, Via Genova Thaon di Revel 4\, Milano
CATEGORIES:FOOD
ATTACH;FMTTYPE=image/jpeg:https://oohmilano.it/wp-content/uploads/2025/03/Piatti_Cantina-Do-Spade_67-1536x1024-1.jpg
END:VEVENT
BEGIN:VEVENT
DTSTART;TZID=UTC:20250311T193000
DTEND;TZID=UTC:20250311T233000
DTSTAMP:20260421T095150
CREATED:20250311T092629Z
LAST-MODIFIED:20250311T093051Z
UID:4420-1741721400-1741735800@oohmilano.it
SUMMARY:DOC FACTORY #1
DESCRIPTION:La proiezione di DOC FACTORY #1 al @cinemabeltrade per scoprire i lavori dei giovani filmmaker della @civicaluchinovisconti . Oggi in programma i documentari Vision d’été\, Esseri urbani e Il Giro dell’acqua\, per un viaggio nella narrazione visiva contemporanea.
URL:https://oohmilano.it/event/doc-factory-1/
LOCATION:Cinema Beltrade\, Via Nino Oxilia 10\, Milano
CATEGORIES:SPETTACOLO
ATTACH;FMTTYPE=image/avif:https://oohmilano.it/wp-content/uploads/2025/03/photo-1543536448-d209d2d13a1c-e1741685434469.avif
END:VEVENT
BEGIN:VEVENT
DTSTART;TZID=UTC:20250311T213000
DTEND;TZID=UTC:20250312T003000
DTSTAMP:20260421T095150
CREATED:20250310T162946Z
LAST-MODIFIED:20250310T162946Z
UID:4380-1741728600-1741739400@oohmilano.it
SUMMARY:Ok Bellezza
DESCRIPTION:@maremilano presenta “Ok Bellezza” viaggio sonoro tra jazz\, soul\, funk e latin jazz con il quartetto strumentale che mescola stili e influenze uniche.
URL:https://oohmilano.it/event/ok-bellezza/
LOCATION:Mare Culturale Urbano\, Via Quinto Cenni 11\, Milano
CATEGORIES:MUSICA
ATTACH;FMTTYPE=image/png:https://oohmilano.it/wp-content/uploads/2025/03/image-10.png
END:VEVENT
END:VCALENDAR