BEGIN:VCALENDAR
VERSION:2.0
PRODID:-//OOHMILANO - ECPv6.15.13.1//NONSGML v1.0//EN
CALSCALE:GREGORIAN
METHOD:PUBLISH
X-ORIGINAL-URL:https://oohmilano.it
X-WR-CALDESC:Events for OOHMILANO
REFRESH-INTERVAL;VALUE=DURATION:PT1H
X-Robots-Tag:noindex
X-PUBLISHED-TTL:PT1H
BEGIN:VTIMEZONE
TZID:UTC
BEGIN:STANDARD
TZOFFSETFROM:+0000
TZOFFSETTO:+0000
TZNAME:UTC
DTSTART:20240101T000000
END:STANDARD
END:VTIMEZONE
BEGIN:VEVENT
DTSTART;TZID=UTC:20250313T210000
DTEND;TZID=UTC:20250314T020000
DTSTAMP:20260421T110140
CREATED:20250311T111117Z
LAST-MODIFIED:20250313T141542Z
UID:4474-1741899600-1741917600@oohmilano.it
SUMMARY:GIONNYSCANDAL + GIULIA JEAN
DESCRIPTION:GionnyScandal e Giulia Jean live ai Magazzini Generali per una serata unica tra emozioni e hit\, con la magia delle loro voci in perfetta sintonia.
URL:https://oohmilano.it/event/gionnyscandal-giulia-jean/
LOCATION:Magazzini Generali\, Via Pietrasanta 16\, Milano
CATEGORIES:MUSICA
ATTACH;FMTTYPE=image/png:https://oohmilano.it/wp-content/uploads/2025/03/image-6-2.png
END:VEVENT
BEGIN:VEVENT
DTSTART;TZID=UTC:20250314T180000
DTEND;TZID=UTC:20250314T210000
DTSTAMP:20260421T110140
CREATED:20250311T111309Z
LAST-MODIFIED:20250313T141607Z
UID:4477-1741975200-1741986000@oohmilano.it
SUMMARY:John Giorno & Friends
DESCRIPTION:Alla Triennale Milano\, un incontro speciale su John Giorno e le sue collaborazioni artistiche\, tra poesia\, arte e amicizie che hanno segnato il Novecento.
URL:https://oohmilano.it/event/john-giorno-friends/
LOCATION:Triennale\, Viale Emilio Alemagna\, 6\, Milano
CATEGORIES:ARTE
ATTACH;FMTTYPE=image/png:https://oohmilano.it/wp-content/uploads/2025/03/image-7-3.png
END:VEVENT
BEGIN:VEVENT
DTSTART;TZID=UTC:20250314T183000
DTEND;TZID=UTC:20250314T200000
DTSTAMP:20260421T110140
CREATED:20250313T134609Z
LAST-MODIFIED:20250314T105452Z
UID:4562-1741977000-1741982400@oohmilano.it
SUMMARY:Radicale/Radicare
DESCRIPTION:Un incontro a cura di Radical Creativities Journal\, rivista peer-reviewed che sfida i modelli tradizionali di pubblicazione scientifica e i sistemi di conoscenza. Una riflessione aperta su quali spazi restino oggi per un’interrogazione autentica\, non strumentale\, e su come ripensare le modalità di produzione e diffusione del sapere.
URL:https://oohmilano.it/event/radicale-radicare/
LOCATION:Casa degli artisti\, Corso Garibaldi 89/a\, Milano
CATEGORIES:ARTE
ATTACH;FMTTYPE=image/png:https://oohmilano.it/wp-content/uploads/2025/03/MAIN-EVENT.png
END:VEVENT
BEGIN:VEVENT
DTSTART;TZID=UTC:20250314T183000
DTEND;TZID=UTC:20250314T223000
DTSTAMP:20260421T110140
CREATED:20250311T111442Z
LAST-MODIFIED:20250313T141817Z
UID:4479-1741977000-1741991400@oohmilano.it
SUMMARY:Pyjama Party
DESCRIPTION:Preparati per una serata all’insegna del relax e del divertimento con il Pyjama Party: scrapbooking\, film\, giochi e snack\, il tutto in compagnia dei tuoi amici!
URL:https://oohmilano.it/event/pyjama-party/
LOCATION:People Creating Value\, Via Imperia 31\, Milano
CATEGORIES:LIFESTYLE
ATTACH;FMTTYPE=image/jpeg:https://oohmilano.it/wp-content/uploads/2025/03/multiethnic-group-of-young-female-friends-having-p-2024-12-23-18-43-20-utc-1-scaled-e1741875429258.jpg
END:VEVENT
BEGIN:VEVENT
DTSTART;TZID=UTC:20250314T220000
DTEND;TZID=UTC:20250315T023000
DTSTAMP:20260421T110140
CREATED:20250311T113112Z
LAST-MODIFIED:20250313T142207Z
UID:4483-1741989600-1742005800@oohmilano.it
SUMMARY:Cassius Club Tour
DESCRIPTION:Il Cassius Club Tour arriva al Circolo Magnolia per una notte di musica che mescola energia\, emozione e ritmo irresistibile: un party che non puoi perderti!
URL:https://oohmilano.it/event/cassius-club-tour/
LOCATION:Circolo Magnolia\, Via Circonvallazione Idroscalo 41\, Milano
CATEGORIES:MUSICA
ATTACH;FMTTYPE=image/png:https://oohmilano.it/wp-content/uploads/2025/03/image-8-1-e1741875677160.png
END:VEVENT
END:VCALENDAR