BEGIN:VCALENDAR
VERSION:2.0
PRODID:-//OOHMILANO - ECPv6.15.13.1//NONSGML v1.0//EN
CALSCALE:GREGORIAN
METHOD:PUBLISH
X-WR-CALNAME:OOHMILANO
X-ORIGINAL-URL:https://oohmilano.it
X-WR-CALDESC:Events for OOHMILANO
REFRESH-INTERVAL;VALUE=DURATION:PT1H
X-Robots-Tag:noindex
X-PUBLISHED-TTL:PT1H
BEGIN:VTIMEZONE
TZID:UTC
BEGIN:STANDARD
TZOFFSETFROM:+0000
TZOFFSETTO:+0000
TZNAME:UTC
DTSTART:20240101T000000
END:STANDARD
END:VTIMEZONE
BEGIN:VEVENT
DTSTART;TZID=UTC:20250315T230000
DTEND;TZID=UTC:20250316T030000
DTSTAMP:20260421T095150
CREATED:20250313T134800Z
LAST-MODIFIED:20250317T083439Z
UID:4565-1742079600-1742094000@oohmilano.it
SUMMARY:Stella Bossi
DESCRIPTION:Stella Bossi\, la talentuosa DJ berlinese\, arriva a Milano con la sua techno potente e vibrante. Preparati a una notte di pura energia\, dove la musica trascinerà tutti sulla pista da ballo fino all’alba. Un’occasione imperdibile per vivere una serata all’insegna del ritmo e del divertimento!
URL:https://oohmilano.it/event/stella-bossi/
LOCATION:District 272 Club\, Via Padova 272\, Milano
CATEGORIES:MUSICA
ATTACH;FMTTYPE=image/png:https://oohmilano.it/wp-content/uploads/2025/03/foto-main-15.png
END:VEVENT
BEGIN:VEVENT
DTSTART;TZID=UTC:20250315T230000
DTEND;TZID=UTC:20250316T043000
DTSTAMP:20260421T095150
CREATED:20250311T113621Z
LAST-MODIFIED:20250313T142636Z
UID:4490-1742079600-1742099400@oohmilano.it
SUMMARY:House Connection
DESCRIPTION:House Connection scaldano la notte al Nuovo Anfiteatro Martesana con due sale di musica elettronica\, dj set e live performance fino all’alba!
URL:https://oohmilano.it/event/house-connection/
LOCATION:Nuovo Anfiteatro Martesana\, Parco Dei Martiri Della Liberta' Iracheni Vittime Del Terrorismo\, Milano
CATEGORIES:MUSICA
ATTACH;FMTTYPE=image/avif:https://oohmilano.it/wp-content/uploads/2025/03/3b8614a7-a364-4b80-9566-37ebb436c957.jpg.avif
END:VEVENT
BEGIN:VEVENT
DTSTART;TZID=UTC:20250316T100000
DTEND;TZID=UTC:20250316T190000
DTSTAMP:20260421T095150
CREATED:20250311T113830Z
LAST-MODIFIED:20250313T142659Z
UID:4494-1742119200-1742151600@oohmilano.it
SUMMARY:EXTRAOLIMPICO
DESCRIPTION:ExtraOlimpico al Centro Balneare Romano: una mostra-evento che oltrepassa i confini dello sport con 7 installazioni\, raccontando le Olimpiadi attraverso la creatività degli studenti di Architettura del Politecnico.
URL:https://oohmilano.it/event/extraolimpico/
LOCATION:Centro Balneare Romano\, Via Giuseppe Zanoia 2\, Milano
CATEGORIES:ARTE
ATTACH;FMTTYPE=image/png:https://oohmilano.it/wp-content/uploads/2025/03/image-11-1.png
END:VEVENT
BEGIN:VEVENT
DTSTART;TZID=UTC:20250316T103000
DTEND;TZID=UTC:20250316T123000
DTSTAMP:20260421T095150
CREATED:20250313T140351Z
LAST-MODIFIED:20250317T083525Z
UID:4577-1742121000-1742128200@oohmilano.it
SUMMARY:Lab Ricamo
DESCRIPTION:Unisciti a noi a Lom Dopolavoro per un workshop dedicato all’arte del ricamo\, guidato da Simona D’Amaro\, fondatrice di La Beba Embroidery. Simona\, animata da passione e curiosità\, condividerà la sua esperienza e la sua creatività\, insegnandoti a esprimere idee attraverso il ricamo. Un’opportunità per esplorare una forma d’arte unica e personale in un ambiente accogliente e stimolante.
URL:https://oohmilano.it/event/lab-ricamo/
LOCATION:Lom Dopolavoro\, Via Galileo Ferraris 1\, Milano
CATEGORIES:LIFESTYLE
ATTACH;FMTTYPE=image/jpeg:https://oohmilano.it/wp-content/uploads/2025/03/Ricamato-in-filo-Glossario-artigianato.jpg
END:VEVENT
BEGIN:VEVENT
DTSTART;TZID=UTC:20250316T110000
DTEND;TZID=UTC:20250316T230000
DTSTAMP:20260421T095150
CREATED:20250311T114013Z
LAST-MODIFIED:20250313T142723Z
UID:4497-1742122800-1742166000@oohmilano.it
SUMMARY:Walzer - 12 Ore di Musica Live
DESCRIPTION:Walzer – 12 ore di musica live all’ARCI Bellezza: un’intera giornata di suoni coinvolgenti\, con la Coffee Session per iniziare al meglio la domenica.
URL:https://oohmilano.it/event/walzer-12-ore-di-musica-live/
LOCATION:Arci Bellezza\, Via Giovanni Bellezza\, 16/A\, Milano
CATEGORIES:MUSICA
ATTACH;FMTTYPE=image/png:https://oohmilano.it/wp-content/uploads/2025/03/image-8-1-e1741875677160.png
END:VEVENT
END:VCALENDAR