BEGIN:VCALENDAR
VERSION:2.0
PRODID:-//OOHMILANO - ECPv6.15.13.1//NONSGML v1.0//EN
CALSCALE:GREGORIAN
METHOD:PUBLISH
X-ORIGINAL-URL:https://oohmilano.it
X-WR-CALDESC:Events for OOHMILANO
REFRESH-INTERVAL;VALUE=DURATION:PT1H
X-Robots-Tag:noindex
X-PUBLISHED-TTL:PT1H
BEGIN:VTIMEZONE
TZID:UTC
BEGIN:STANDARD
TZOFFSETFROM:+0000
TZOFFSETTO:+0000
TZNAME:UTC
DTSTART:20240101T000000
END:STANDARD
END:VTIMEZONE
BEGIN:VEVENT
DTSTART;TZID=UTC:20250321T100000
DTEND;TZID=UTC:20250321T210000
DTSTAMP:20260421T100702
CREATED:20250321T085848Z
LAST-MODIFIED:20250321T085848Z
UID:4698-1742551200-1742590800@oohmilano.it
SUMMARY:Book Pride
DESCRIPTION:“Book Pride”\, la fiera dell’editoria indipendente\, torna con la sua nona edizione\, quest’anno con il tema “Danzare sull’orlo del mondo”. Un evento che celebra libri e narrazioni provenienti dall’Italia e dal resto del mondo\, ospitato negli spazi di Superstudio Maxi. Un’opportunità per esplorare il panorama editoriale indipendente\, con un ricco programma di incontri\, presentazioni e attività.
URL:https://oohmilano.it/event/book-pride/
LOCATION:Superstudio Maxi\, Via Moncucco 35\, Milano
CATEGORIES:LIFESTYLE
ATTACH;FMTTYPE=image/jpeg:https://oohmilano.it/wp-content/uploads/2025/03/DSC_1945_BP2022-credit-Elisa-Scotti-scaled-1.jpeg
END:VEVENT
BEGIN:VEVENT
DTSTART;TZID=UTC:20250321T183000
DTEND;TZID=UTC:20250321T223000
DTSTAMP:20260421T100702
CREATED:20250320T101758Z
LAST-MODIFIED:20250320T101758Z
UID:4651-1742581800-1742596200@oohmilano.it
SUMMARY:è tutto un friggi friggi
DESCRIPTION:Il festival “è tutto un friggi friggi” al @maremilano è un connubio tra street food fritto e live music.
URL:https://oohmilano.it/event/e-tutto-un-friggi-friggi/
LOCATION:Mare Culturale Urbano\, Via Quinto Cenni 11\, Milano
CATEGORIES:FOOD
ATTACH;FMTTYPE=image/jpeg:https://oohmilano.it/wp-content/uploads/2025/03/801520887943f407ce4520ec8bacec67.jpg
END:VEVENT
BEGIN:VEVENT
DTSTART;TZID=UTC:20250321T200000
DTEND;TZID=UTC:20250321T233000
DTSTAMP:20260421T100702
CREATED:20250320T102036Z
LAST-MODIFIED:20250320T102036Z
UID:4653-1742587200-1742599800@oohmilano.it
SUMMARY:La Cocina + talk con Alonso Ruizpalacios
DESCRIPTION:“La Cocina” è un’esperienza sensoriale e politica che usa la cucina come metafora sociale\, seguita da un talk con il regista @aruipalacios.
URL:https://oohmilano.it/event/la-cocina-talk-con-alonso-ruizpalacios/
LOCATION:Cinema Godard  – Fondazione Prada\, Largo Isarco 2\, Milano
CATEGORIES:SPETTACOLO
ATTACH;FMTTYPE=image/jpeg:https://oohmilano.it/wp-content/uploads/2025/03/resize_incontro_alonso_ruizpalacios.jpg
END:VEVENT
BEGIN:VEVENT
DTSTART;TZID=UTC:20250321T200000
DTEND;TZID=UTC:20250322T020000
DTSTAMP:20260421T100702
CREATED:20250320T102607Z
LAST-MODIFIED:20250320T102607Z
UID:4658-1742587200-1742608800@oohmilano.it
SUMMARY:Giardino Dei Visionari - The World of Banksy
DESCRIPTION:Al @giardino.dei.visionari: ”The World of Banksy”\, esperienza immersiva con oltre 100 opere e djset finale.
URL:https://oohmilano.it/event/giardino-dei-visionari-the-world-of-banksy/
LOCATION:Milano Certosa District\, Via Varesina 204\, Milano
CATEGORIES:MUSICA
ATTACH;FMTTYPE=image/jpeg:https://oohmilano.it/wp-content/uploads/2025/03/5-1.jpg
END:VEVENT
BEGIN:VEVENT
DTSTART;TZID=UTC:20250321T203000
DTEND;TZID=UTC:20250321T233000
DTSTAMP:20260421T100702
CREATED:20250321T091007Z
LAST-MODIFIED:20250321T091007Z
UID:4717-1742589000-1742599800@oohmilano.it
SUMMARY:Gelato Week
DESCRIPTION:La Gelato Week è tornata\, con sei giorni di dolcezza da vivere in città! Dal 25 al 30 marzo. Un evento itinerante che ti invita a scegliere il percorso e il formato (cono o coppetta) per un’avventura congelata all’insegna del gelato artigianale. Un’esperienza imperdibile per tutti gli amanti del gelato!\n@milano_congelato
URL:https://oohmilano.it/event/gelato-week/
LOCATION:Ostello Bello Milano Duomo\, Via Medici 4\, Milano
CATEGORIES:FOOD
ATTACH;FMTTYPE=image/jpeg:https://oohmilano.it/wp-content/uploads/2025/03/SnapInsta.to_470070191_18046736306168537_2901288754850353062_n.jpg
END:VEVENT
END:VCALENDAR