BEGIN:VCALENDAR
VERSION:2.0
PRODID:-//OOHMILANO - ECPv6.15.13.1//NONSGML v1.0//EN
CALSCALE:GREGORIAN
METHOD:PUBLISH
X-ORIGINAL-URL:https://oohmilano.it
X-WR-CALDESC:Events for OOHMILANO
REFRESH-INTERVAL;VALUE=DURATION:PT1H
X-Robots-Tag:noindex
X-PUBLISHED-TTL:PT1H
BEGIN:VTIMEZONE
TZID:UTC
BEGIN:STANDARD
TZOFFSETFROM:+0000
TZOFFSETTO:+0000
TZNAME:UTC
DTSTART:20240101T000000
END:STANDARD
END:VTIMEZONE
BEGIN:VEVENT
DTSTART;TZID=UTC:20250324T200000
DTEND;TZID=UTC:20250324T233000
DTSTAMP:20260421T110140
CREATED:20250321T090611Z
LAST-MODIFIED:20250321T090611Z
UID:4715-1742846400-1742859000@oohmilano.it
SUMMARY:2Hollis
DESCRIPTION:@2hollis \, giovane talento statunitense\, si esibisce ai @magazzinigeneralimilano con il suo primo tour europeo. Con il successo dell’album White Tiger e singoli come Poster Boy.
URL:https://oohmilano.it/event/2hollis/
LOCATION:Magazzini Generali\, Via Pietrasanta 16\, Milano
CATEGORIES:MUSICA
ATTACH;FMTTYPE=image/jpeg:https://oohmilano.it/wp-content/uploads/2025/03/SnapInsta.to_484632125_17896462860177017_7598323711901364613_n.jpg
END:VEVENT
BEGIN:VEVENT
DTSTART;TZID=UTC:20250324T210000
DTEND;TZID=UTC:20250324T233000
DTSTAMP:20260421T110140
CREATED:20250320T104432Z
LAST-MODIFIED:20250320T104432Z
UID:4678-1742850000-1742859000@oohmilano.it
SUMMARY:Comedy Night Open Mic
DESCRIPTION:@ostellobello.milanoduomo torna con la serata di stand-up comedy con comici emergenti.
URL:https://oohmilano.it/event/comedy-night-open-mic-2/
LOCATION:Ostello Bello Milano Duomo\, Via Medici 4\, Milano
CATEGORIES:SPETTACOLO
ATTACH;FMTTYPE=image/jpeg:https://oohmilano.it/wp-content/uploads/2025/03/unnamed-file.jpg
END:VEVENT
END:VCALENDAR