BEGIN:VCALENDAR
VERSION:2.0
PRODID:-//OOHMILANO - ECPv6.15.13.1//NONSGML v1.0//EN
CALSCALE:GREGORIAN
METHOD:PUBLISH
X-WR-CALNAME:OOHMILANO
X-ORIGINAL-URL:https://oohmilano.it
X-WR-CALDESC:Events for OOHMILANO
REFRESH-INTERVAL;VALUE=DURATION:PT1H
X-Robots-Tag:noindex
X-PUBLISHED-TTL:PT1H
BEGIN:VTIMEZONE
TZID:UTC
BEGIN:STANDARD
TZOFFSETFROM:+0000
TZOFFSETTO:+0000
TZNAME:UTC
DTSTART:20240101T000000
END:STANDARD
END:VTIMEZONE
BEGIN:VEVENT
DTSTART;TZID=UTC:20250327T120000
DTEND;TZID=UTC:20250327T210000
DTSTAMP:20260421T110020
CREATED:20250331T082319Z
LAST-MODIFIED:20250331T082319Z
UID:4849-1743076800-1743109200@oohmilano.it
SUMMARY:Maximilian Arnold --- Freed from Desire
DESCRIPTION:Da @matta___________@maxadnorl presenta “Freed from Desire”\, una mostra personale che esplora il confine tra sogno e materia\, tra libertà e introspezione. Un viaggio visivo attraverso opere che sfidano la percezione e invitano a nuove prospettive.
URL:https://oohmilano.it/event/maximilian-arnold-freed-from-desire/
LOCATION:MATTA\, Via Privata Giacomo Favretto 9\, Milano
CATEGORIES:ARTE
ATTACH;FMTTYPE=image/jpeg:https://oohmilano.it/wp-content/uploads/2025/03/WhatsApp-Image-2025-03-11-at-14.56.43-e1741702114119.jpeg
END:VEVENT
BEGIN:VEVENT
DTSTART;TZID=UTC:20250327T180000
DTEND;TZID=UTC:20250327T200000
DTSTAMP:20260421T110020
CREATED:20250328T134822Z
LAST-MODIFIED:20250328T134822Z
UID:4792-1743098400-1743105600@oohmilano.it
SUMMARY:Colors&Cheers
DESCRIPTION:Workshop di pittura con aperitivo\, in collaborazione con @paintnsipmilan.
URL:https://oohmilano.it/event/colorscheers/
LOCATION:Mealthie\, Via Tortona 33\, Milano
CATEGORIES:LIFESTYLE
ATTACH;FMTTYPE=image/jpeg:https://oohmilano.it/wp-content/uploads/2025/03/Unknown.jpg
END:VEVENT
BEGIN:VEVENT
DTSTART;TZID=UTC:20250327T193000
DTEND;TZID=UTC:20250327T223000
DTSTAMP:20260421T110020
CREATED:20250328T145443Z
LAST-MODIFIED:20250328T145748Z
UID:4796-1743103800-1743114600@oohmilano.it
SUMMARY:IL CLUB DEL LIBRO E DELLE PISOIRE
DESCRIPTION:Incontro mensile per appassionati di lettura con discussione di un libro e aperitivo tra vino e stuzzichini\, da @ofelemilano.
URL:https://oohmilano.it/event/il-club-del-libro-e-delle-pisoire/
LOCATION:Una Cosa di Ofelé\, Via Scaldasole 7\, Milano
CATEGORIES:LIFESTYLE
ATTACH;FMTTYPE=image/jpeg:https://oohmilano.it/wp-content/uploads/2025/03/What-Book-Are-You-Reading.jpg
END:VEVENT
BEGIN:VEVENT
DTSTART;TZID=UTC:20250327T230000
DTEND;TZID=UTC:20250328T040000
DTSTAMP:20260421T110020
CREATED:20250328T145700Z
LAST-MODIFIED:20250328T145700Z
UID:4799-1743116400-1743134400@oohmilano.it
SUMMARY:PopShock --- In Milano
DESCRIPTION:“PopShock” porta per la prima volta al @clubplasticmilano la sua energia travolgente.
URL:https://oohmilano.it/event/popshock-in-milano/
LOCATION:Plastic\, Via Gargano 15\, Milano
CATEGORIES:MUSICA
ATTACH;FMTTYPE=image/jpeg:https://oohmilano.it/wp-content/uploads/2025/03/462767367_8450706341632709_87960979661224335_n.jpg
END:VEVENT
END:VCALENDAR