BEGIN:VCALENDAR
VERSION:2.0
PRODID:-//OOHMILANO - ECPv6.15.13.1//NONSGML v1.0//EN
CALSCALE:GREGORIAN
METHOD:PUBLISH
X-WR-CALNAME:OOHMILANO
X-ORIGINAL-URL:https://oohmilano.it
X-WR-CALDESC:Events for OOHMILANO
REFRESH-INTERVAL;VALUE=DURATION:PT1H
X-Robots-Tag:noindex
X-PUBLISHED-TTL:PT1H
BEGIN:VTIMEZONE
TZID:UTC
BEGIN:STANDARD
TZOFFSETFROM:+0000
TZOFFSETTO:+0000
TZNAME:UTC
DTSTART:20240101T000000
END:STANDARD
END:VTIMEZONE
BEGIN:VEVENT
DTSTART;TZID=UTC:20250327T230000
DTEND;TZID=UTC:20250328T040000
DTSTAMP:20260421T094413
CREATED:20250328T145700Z
LAST-MODIFIED:20250328T145700Z
UID:4799-1743116400-1743134400@oohmilano.it
SUMMARY:PopShock --- In Milano
DESCRIPTION:“PopShock” porta per la prima volta al @clubplasticmilano la sua energia travolgente.
URL:https://oohmilano.it/event/popshock-in-milano/
LOCATION:Plastic\, Via Gargano 15\, Milano
CATEGORIES:MUSICA
ATTACH;FMTTYPE=image/jpeg:https://oohmilano.it/wp-content/uploads/2025/03/462767367_8450706341632709_87960979661224335_n.jpg
END:VEVENT
BEGIN:VEVENT
DTSTART;TZID=UTC:20250328T080000
DTEND;TZID=UTC:20250328T170000
DTSTAMP:20260421T094413
CREATED:20250328T151710Z
LAST-MODIFIED:20250328T151710Z
UID:4818-1743148800-1743181200@oohmilano.it
SUMMARY:Max Mariola --- Inaugurazione Bistrot
DESCRIPTION:Inaugurazione del Bistrot di @chefmaxmariola con cibo\, festa e sorprese.
URL:https://oohmilano.it/event/max-mariola-inaugurazione-bistrot/
LOCATION:Max Mariola Bistrot\, Corso Garibaldi 12\, Milano
CATEGORIES:FOOD
ATTACH;FMTTYPE=image/jpeg:https://oohmilano.it/wp-content/uploads/2025/03/Max-Mariola-bistrot-Milano.jpg
END:VEVENT
BEGIN:VEVENT
DTSTART;TZID=UTC:20250328T100000
DTEND;TZID=UTC:20250328T190000
DTSTAMP:20260421T094413
CREATED:20250331T082504Z
LAST-MODIFIED:20250331T082504Z
UID:4858-1743156000-1743188400@oohmilano.it
SUMMARY:Piantala --- Plants Pop-Up Sale
DESCRIPTION:
URL:https://oohmilano.it/event/piantala-plants-pop-up-sale/
LOCATION:BASE Milano\, Via Bergognone 34\, Milano
CATEGORIES:LIFESTYLE
ATTACH;FMTTYPE=image/webp:https://oohmilano.it/wp-content/uploads/2025/03/photo-1494537449588-7f07cede2556.webp
END:VEVENT
BEGIN:VEVENT
DTSTART;TZID=UTC:20250328T180000
DTEND;TZID=UTC:20250328T203000
DTSTAMP:20260421T094413
CREATED:20250328T145958Z
LAST-MODIFIED:20250331T083448Z
UID:4802-1743184800-1743193800@oohmilano.it
SUMMARY:Valerio Adami --- Laboratorio
DESCRIPTION:Si inaugura alla @giomarconigallery una mostra dedicata a @archivio_valerioadami\, esplorando la sua produzione dal 1962 agli anni Settanta.
URL:https://oohmilano.it/event/valerio-adami-laboratorio/
LOCATION:Giò Marconi\, Via Tadino 15/20\, Milano
CATEGORIES:ARTE
ATTACH;FMTTYPE=image/jpeg:https://oohmilano.it/wp-content/uploads/2025/03/unnamed.jpg
END:VEVENT
BEGIN:VEVENT
DTSTART;TZID=UTC:20250328T180000
DTEND;TZID=UTC:20250328T220000
DTSTAMP:20260421T094413
CREATED:20250328T150430Z
LAST-MODIFIED:20250328T150617Z
UID:4805-1743184800-1743199200@oohmilano.it
SUMMARY:Beyond The Images
DESCRIPTION:Inaugura alla @giomarconigallery la mostra “Beyond The Images”\, esposizione che esplora fotografia e performance sui Nonluoghi\, con un’esperienza immersiva.
URL:https://oohmilano.it/event/beyond-the-images/
LOCATION:OPEN Casello\, Piazzale Antonio Cantore 14\, Milano
CATEGORIES:ARTE
ATTACH;FMTTYPE=image/jpeg:https://oohmilano.it/wp-content/uploads/2025/03/jose-martin-651-640x420-1.jpg
END:VEVENT
BEGIN:VEVENT
DTSTART;TZID=UTC:20250328T200000
DTEND;TZID=UTC:20250328T210000
DTSTAMP:20260421T094413
CREATED:20250328T150906Z
LAST-MODIFIED:20250328T150906Z
UID:4809-1743192000-1743195600@oohmilano.it
SUMMARY:No Places Project
DESCRIPTION:Novità alla @casadegliartisti_art\, con “No Places Project”\, un concerto performativo in un videogioco musicale\, con interazione del pubblico.
URL:https://oohmilano.it/event/no-places-project/
LOCATION:Casa degli artisti\, Corso Garibaldi 89/a\, Milano
CATEGORIES:SPETTACOLO
ATTACH;FMTTYPE=image/png:https://oohmilano.it/wp-content/uploads/2025/03/Copertina-PP-Presentazione-AV-Live-Performance-e1741083988655.png
END:VEVENT
BEGIN:VEVENT
DTSTART;TZID=UTC:20250328T233000
DTEND;TZID=UTC:20250329T050000
DTSTAMP:20260421T094413
CREATED:20250328T151203Z
LAST-MODIFIED:20250328T151203Z
UID:4811-1743204600-1743224400@oohmilano.it
SUMMARY:Sala Radio meets Soul Medicine
DESCRIPTION:All’ @apollo_milano “Sala Radio meets Soul Medicine”@soulmedicine_milano\, l’evento\ncon DJ set da Madrid e un’atmosfera groovy.
URL:https://oohmilano.it/event/sala-radio-meets-soul-medicine/
LOCATION:Apollo Club\, Via Giosuè Borsi 9/2\, Milano
CATEGORIES:MUSICA
ATTACH;FMTTYPE=image/jpeg:https://oohmilano.it/wp-content/uploads/2025/03/locali-notturni-milano-apollo-club-7-1573316333-scaled.jpg
END:VEVENT
END:VCALENDAR