BEGIN:VCALENDAR
VERSION:2.0
PRODID:-//OOHMILANO - ECPv6.15.13.1//NONSGML v1.0//EN
CALSCALE:GREGORIAN
METHOD:PUBLISH
X-ORIGINAL-URL:https://oohmilano.it
X-WR-CALDESC:Events for OOHMILANO
REFRESH-INTERVAL;VALUE=DURATION:PT1H
X-Robots-Tag:noindex
X-PUBLISHED-TTL:PT1H
BEGIN:VTIMEZONE
TZID:UTC
BEGIN:STANDARD
TZOFFSETFROM:+0000
TZOFFSETTO:+0000
TZNAME:UTC
DTSTART:20240101T000000
END:STANDARD
END:VTIMEZONE
BEGIN:VEVENT
DTSTART;TZID=UTC:20250328T233000
DTEND;TZID=UTC:20250329T050000
DTSTAMP:20260421T105629
CREATED:20250328T151203Z
LAST-MODIFIED:20250328T151203Z
UID:4811-1743204600-1743224400@oohmilano.it
SUMMARY:Sala Radio meets Soul Medicine
DESCRIPTION:All’ @apollo_milano “Sala Radio meets Soul Medicine”@soulmedicine_milano\, l’evento\ncon DJ set da Madrid e un’atmosfera groovy.
URL:https://oohmilano.it/event/sala-radio-meets-soul-medicine/
LOCATION:Apollo Club\, Via Giosuè Borsi 9/2\, Milano
CATEGORIES:MUSICA
ATTACH;FMTTYPE=image/jpeg:https://oohmilano.it/wp-content/uploads/2025/03/locali-notturni-milano-apollo-club-7-1573316333-scaled.jpg
END:VEVENT
BEGIN:VEVENT
DTSTART;TZID=UTC:20250329T100000
DTEND;TZID=UTC:20250329T170000
DTSTAMP:20260421T105629
CREATED:20250328T151344Z
LAST-MODIFIED:20250328T151344Z
UID:4813-1743242400-1743267600@oohmilano.it
SUMMARY:Camaleonte Market
DESCRIPTION:“Camaleonte Market” promuove il riuso e il riciclo con DJ set\, live painting e cibo\, a\n@cascina_nascosta.
URL:https://oohmilano.it/event/camaleonte-market-2/
LOCATION:Cascina Nascosta\, Viale Emilio Alemagna\, 14\, Milano\, Italy
CATEGORIES:LIFESTYLE
ATTACH;FMTTYPE=image/png:https://oohmilano.it/wp-content/uploads/2025/03/Schermata-2023-11-08-alle-17.12.52-e1699460068971.png
END:VEVENT
BEGIN:VEVENT
DTSTART;TZID=UTC:20250329T100000
DTEND;TZID=UTC:20250329T173000
DTSTAMP:20260421T105629
CREATED:20250328T151537Z
LAST-MODIFIED:20250328T151537Z
UID:4815-1743242400-1743269400@oohmilano.it
SUMMARY:Pippa Bacca --- Innesti
DESCRIPTION:“Innesti” è una mostra-omaggio dedicata a @pippabacca_official.
URL:https://oohmilano.it/event/pippa-bacca-innesti/
LOCATION:Palazzo Morando\, Via Sant'Andrea 6\, Milano
CATEGORIES:ARTE
ATTACH;FMTTYPE=image/jpeg:https://oohmilano.it/wp-content/uploads/2025/03/small-thumb-2-e1741877566955.jpeg
END:VEVENT
BEGIN:VEVENT
DTSTART;TZID=UTC:20250329T160000
DTEND;TZID=UTC:20250329T220000
DTSTAMP:20260421T105629
CREATED:20250331T082707Z
LAST-MODIFIED:20250331T082707Z
UID:4860-1743264000-1743285600@oohmilano.it
SUMMARY:Before Sunset
DESCRIPTION:
URL:https://oohmilano.it/event/before-sunset/
LOCATION:BiM\, Viale dell'Innovazione 3\, Milano
CATEGORIES:ARTE
ATTACH;FMTTYPE=image/jpeg:https://oohmilano.it/wp-content/uploads/2025/03/67685.jpg
END:VEVENT
BEGIN:VEVENT
DTSTART;TZID=UTC:20250329T233000
DTEND;TZID=UTC:20250330T043000
DTSTAMP:20260421T105629
CREATED:20250328T151943Z
LAST-MODIFIED:20250328T151943Z
UID:4821-1743291000-1743309000@oohmilano.it
SUMMARY:Amore Eterno w/ Orpheu The Wizard & Eternal Love
DESCRIPTION:“Amore Eterno” con Orpheu The Wizard e Eternal Love al @vacuum.mi\, tra ritmi nascosti e set irresistibili.
URL:https://oohmilano.it/event/amore-eterno-w-orpheu-the-wizard-eternal-love/
LOCATION:VACUUM\, Corso di Porta Ticinese 32\, Milano
CATEGORIES:MUSICA
ATTACH;FMTTYPE=image/jpeg:https://oohmilano.it/wp-content/uploads/2025/03/v1.jpg
END:VEVENT
END:VCALENDAR