BEGIN:VCALENDAR
VERSION:2.0
PRODID:-//OOHMILANO - ECPv6.15.13.1//NONSGML v1.0//EN
CALSCALE:GREGORIAN
METHOD:PUBLISH
X-ORIGINAL-URL:https://oohmilano.it
X-WR-CALDESC:Events for OOHMILANO
REFRESH-INTERVAL;VALUE=DURATION:PT1H
X-Robots-Tag:noindex
X-PUBLISHED-TTL:PT1H
BEGIN:VTIMEZONE
TZID:UTC
BEGIN:STANDARD
TZOFFSETFROM:+0000
TZOFFSETTO:+0000
TZNAME:UTC
DTSTART:20240101T000000
END:STANDARD
END:VTIMEZONE
BEGIN:VEVENT
DTSTART;TZID=UTC:20250403T100000
DTEND;TZID=UTC:20250403T190000
DTSTAMP:20260421T095427
CREATED:20250403T094807Z
LAST-MODIFIED:20250403T094807Z
UID:4964-1743674400-1743706800@oohmilano.it
SUMMARY:Thierry De Cordier: NADA
DESCRIPTION:Thierry De Cordier al NADA – Dieci dipinti di grandi dimensioni per esplorare la “grandezza del nulla” attraverso la cancellazione dell’immagine della crocifissione\, da @fondazioneprada.
URL:https://oohmilano.it/event/thierry-de-cordier-nada/
LOCATION:Fondazione Prada\, Largo Isarco\, 2
CATEGORIES:ARTE
ATTACH;FMTTYPE=image/jpeg:https://oohmilano.it/wp-content/uploads/2025/04/4-26-854x640-1.jpg
END:VEVENT
BEGIN:VEVENT
DTSTART;TZID=UTC:20250403T190000
DTEND;TZID=UTC:20250403T230000
DTSTAMP:20260421T095427
CREATED:20250403T090531Z
LAST-MODIFIED:20250403T090531Z
UID:4922-1743706800-1743721200@oohmilano.it
SUMMARY:Bambole di pezza
DESCRIPTION:@bamboledipezza_band chiudono il loro tour con un’esplosiva data-evento carica di punk\, energia e nuovi brani.
URL:https://oohmilano.it/event/bambole-di-pezza/
LOCATION:Magazzini Generali\, Via Pietrasanta 16\, Milano
CATEGORIES:MUSICA
ATTACH;FMTTYPE=image/webp:https://oohmilano.it/wp-content/uploads/2025/04/BambolediPezza1.jpg.webp
END:VEVENT
BEGIN:VEVENT
DTSTART;TZID=UTC:20250403T190000
DTEND;TZID=UTC:20250403T233000
DTSTAMP:20260421T095427
CREATED:20250403T090739Z
LAST-MODIFIED:20250403T090739Z
UID:4924-1743706800-1743723000@oohmilano.it
SUMMARY:DROPCITY - OPENING NIGHT: Allen-Golder Carpenter
DESCRIPTION:@dropcity_org inaugura con una serata tra architettura\, ricerca e detenzione.
URL:https://oohmilano.it/event/dropcity-opening-night-allen-golder-carpenter/
LOCATION:DROPCITY\, DROPCITY • Via Giovanni Battista Sammartini 38\, Milano
CATEGORIES:ARTE
ATTACH;FMTTYPE=image/jpeg:https://oohmilano.it/wp-content/uploads/2025/04/piercarloquecchia__dsl__studio__dsc6370-modifica.jpg-1630x1080-1.jpg
END:VEVENT
BEGIN:VEVENT
DTSTART;TZID=UTC:20250403T190000
DTEND;TZID=UTC:20250403T233000
DTSTAMP:20260421T095427
CREATED:20250403T090910Z
LAST-MODIFIED:20250403T090910Z
UID:4927-1743706800-1743723000@oohmilano.it
SUMMARY:OLTRE LA BOLLA
DESCRIPTION:Una conversazione urgente e provocatoria sull’inclusione autentica con @martimicciche e @francesco.stati.
URL:https://oohmilano.it/event/oltre-la-bolla/
LOCATION:OPEN Casello\, Piazzale Antonio Cantore 14\, Milano
CATEGORIES:MUSICA
ATTACH;FMTTYPE=image/webp:https://oohmilano.it/wp-content/uploads/2025/04/Progetto-senza-titolo-2-4-6.jpg.webp
END:VEVENT
BEGIN:VEVENT
DTSTART;TZID=UTC:20250403T193000
DTEND;TZID=UTC:20250403T220000
DTSTAMP:20260421T095427
CREATED:20250403T093755Z
LAST-MODIFIED:20250403T093755Z
UID:4950-1743708600-1743717600@oohmilano.it
SUMMARY:Pride Sport Milano
DESCRIPTION:@pridesportmilano celebra la primavera con una serata tra sport\, inclusione e festa all’insegna dell’orgoglio e della condivisione.
URL:https://oohmilano.it/event/pride-sport-milano/
LOCATION:The Beach Milano\, Via Arcangelo Corelli 62\, Milano
CATEGORIES:SPORT
ATTACH;FMTTYPE=image/jpeg:https://oohmilano.it/wp-content/uploads/2025/04/Pride.jpg
END:VEVENT
END:VCALENDAR