BEGIN:VCALENDAR
VERSION:2.0
PRODID:-//OOHMILANO - ECPv6.15.13.1//NONSGML v1.0//EN
CALSCALE:GREGORIAN
METHOD:PUBLISH
X-ORIGINAL-URL:https://oohmilano.it
X-WR-CALDESC:Events for OOHMILANO
REFRESH-INTERVAL;VALUE=DURATION:PT1H
X-Robots-Tag:noindex
X-PUBLISHED-TTL:PT1H
BEGIN:VTIMEZONE
TZID:UTC
BEGIN:STANDARD
TZOFFSETFROM:+0000
TZOFFSETTO:+0000
TZNAME:UTC
DTSTART:20240101T000000
END:STANDARD
END:VTIMEZONE
BEGIN:VEVENT
DTSTART;TZID=UTC:20250404T213000
DTEND;TZID=UTC:20250405T013000
DTSTAMP:20260421T095312
CREATED:20250403T095247Z
LAST-MODIFIED:20250408T101621Z
UID:4972-1743802200-1743816600@oohmilano.it
SUMMARY:Planet Opal
DESCRIPTION:@planet.opal presentano in anteprima dal vivo il nuovo album “Recreate Patterns\, Release Energy”\, al @biko_milano.\nIn apertura @delmoro_dumar\, produttore e DJ con diversi progetti musicali.
URL:https://oohmilano.it/event/planet-opal/
LOCATION:Arci Biko\, Via Ettore Ponti 40\, Milano
CATEGORIES:MUSICA
ATTACH;FMTTYPE=image/jpeg:https://oohmilano.it/wp-content/uploads/2025/04/planet-opal-3-scaled.jpg
END:VEVENT
BEGIN:VEVENT
DTSTART;TZID=UTC:20250405T120000
DTEND;TZID=UTC:20250405T130000
DTSTAMP:20260421T095312
CREATED:20250403T095905Z
LAST-MODIFIED:20250408T101654Z
UID:4975-1743854400-1743858000@oohmilano.it
SUMMARY:Annamaria Ajmone
DESCRIPTION:@anna_maraja a @motelsalieri_ : al confine tra organico e inorganico\, tra vita e non-vita\, il fossile è una testimonianza materiale e poetica dello stratificarsi del tempo. Lo spettacolo prende forma come una progressiva stratificazione di pratiche corporee e vocali che richiama la struttura stessa del fossile.
URL:https://oohmilano.it/event/annamaria-ajmone/
LOCATION:Motelsalieri\, Via privata Passo Pordoi 6\, Milano
CATEGORIES:ARTE
ATTACH;FMTTYPE=image/jpeg:https://oohmilano.it/wp-content/uploads/2025/04/1643877145-annamaria-ajmone_residenza_1.jpg
END:VEVENT
BEGIN:VEVENT
DTSTART;TZID=UTC:20250405T180000
DTEND;TZID=UTC:20250405T213000
DTSTAMP:20260421T095312
CREATED:20250403T092917Z
LAST-MODIFIED:20250403T092917Z
UID:4937-1743876000-1743888600@oohmilano.it
SUMMARY:Paraflu
DESCRIPTION:@invernomuto_hq presenta Paraflu al Cinema Godard\, tra proiezione e talk sul rapporto tra immagine\, suono e mitologie contemporanee.
URL:https://oohmilano.it/event/paraflu/
LOCATION:Cinema Godard  – Fondazione Prada\, Largo Isarco 2\, Milano
CATEGORIES:SPETTACOLO
ATTACH;FMTTYPE=image/webp:https://oohmilano.it/wp-content/uploads/2025/04/21f06d7c-504f-4e96-8802-20765f1434b2.jpg.webp
END:VEVENT
BEGIN:VEVENT
DTSTART;TZID=UTC:20250405T230000
DTEND;TZID=UTC:20250406T033000
DTSTAMP:20260421T095312
CREATED:20250403T093146Z
LAST-MODIFIED:20250403T093146Z
UID:4939-1743894000-1743910200@oohmilano.it
SUMMARY:DISCO EXOTICA
DESCRIPTION:@disco_exotica accende la notte con un mix travolgente di disco\, funky house e tropical beat.
URL:https://oohmilano.it/event/disco-exotica/
LOCATION:Mosso\, Via Angelo Mosso\, Milano
CATEGORIES:MUSICA
ATTACH;FMTTYPE=image/jpeg:https://oohmilano.it/wp-content/uploads/2025/04/dancing-queen-disco-ball🪩-dancingdisco.jpg
END:VEVENT
BEGIN:VEVENT
DTSTART;TZID=UTC:20250405T230000
DTEND;TZID=UTC:20250406T033000
DTSTAMP:20260421T095312
CREATED:20250403T093406Z
LAST-MODIFIED:20250403T093406Z
UID:4944-1743894000-1743910200@oohmilano.it
SUMMARY:TIR
DESCRIPTION:TIR riaccende la notte con bass\, break e techno nella nuova venue @altrovemilano \, tra ospiti internazionali e talenti della scena locale.
URL:https://oohmilano.it/event/tir/
LOCATION:Altrove\, Via Corelli 27\, Milano
CATEGORIES:MUSICA
ATTACH;FMTTYPE=image/jpeg:https://oohmilano.it/wp-content/uploads/2025/04/Back.jpg
END:VEVENT
END:VCALENDAR