BEGIN:VCALENDAR
VERSION:2.0
PRODID:-//OOHMILANO - ECPv6.15.13.1//NONSGML v1.0//EN
CALSCALE:GREGORIAN
METHOD:PUBLISH
X-ORIGINAL-URL:https://oohmilano.it
X-WR-CALDESC:Events for OOHMILANO
REFRESH-INTERVAL;VALUE=DURATION:PT1H
X-Robots-Tag:noindex
X-PUBLISHED-TTL:PT1H
BEGIN:VTIMEZONE
TZID:UTC
BEGIN:STANDARD
TZOFFSETFROM:+0000
TZOFFSETTO:+0000
TZNAME:UTC
DTSTART:20240101T000000
END:STANDARD
END:VTIMEZONE
BEGIN:VEVENT
DTSTART;TZID=UTC:20250410T000000
DTEND;TZID=UTC:20250410T040000
DTSTAMP:20260421T123936
CREATED:20250411T142051Z
LAST-MODIFIED:20250411T142051Z
UID:5084-1744243200-1744257600@oohmilano.it
SUMMARY:Milanocore feat Rodeo
DESCRIPTION:@collettivocore.it x @rodeo.ww al @gattopardomilano per una notte di musica unica\, powered by @campariofficial.
URL:https://oohmilano.it/event/milanocore-feat-rodeo/
LOCATION:Gattopardo\, Via Piero Della Francesca 47\, Milano
CATEGORIES:DESIGN WEEK
ATTACH;FMTTYPE=image/jpeg:https://oohmilano.it/wp-content/uploads/2025/04/gattopardo-1024x1024-1.jpg
END:VEVENT
BEGIN:VEVENT
DTSTART;TZID=UTC:20250410T100000
DTEND;TZID=UTC:20250410T190000
DTSTAMP:20260421T123936
CREATED:20250411T141538Z
LAST-MODIFIED:20250411T141538Z
UID:5076-1744279200-1744311600@oohmilano.it
SUMMARY:NILUFAR DEPOT
DESCRIPTION:Nilufar Depot festeggia dieci anni con “Repertorio”: cinque atti scenografici tra teatro e architettura\, con installazioni di @fosburyarchitecture e @andreamancuso_studio
URL:https://oohmilano.it/event/nilufar-depot/
LOCATION:Nilufar Depot\, Viale Lancetti 34\, Milano
CATEGORIES:DESIGN WEEK
ATTACH;FMTTYPE=image/jpeg:https://oohmilano.it/wp-content/uploads/2025/04/03_WebRes_Nilufar_Atrio_PhotoByAlejandroRamirezOrozco-1024x683-1.jpg
END:VEVENT
BEGIN:VEVENT
DTSTART;TZID=UTC:20250410T180000
DTEND;TZID=UTC:20250411T000000
DTSTAMP:20260421T123936
CREATED:20250411T142236Z
LAST-MODIFIED:20250411T142236Z
UID:5087-1744308000-1744329600@oohmilano.it
SUMMARY:Milano Open Air - La Cattedrale
DESCRIPTION:Milano Open Air torna con “La Cattedrale” al @designtech.hub.
URL:https://oohmilano.it/event/milano-open-air-la-cattedrale/
LOCATION:Designtech CoFactory\, Via Polidoro Da Caravaggio 30\, Milano
CATEGORIES:DESIGN WEEK
ATTACH;FMTTYPE=image/webp:https://oohmilano.it/wp-content/uploads/2025/04/phillprince.webp
END:VEVENT
BEGIN:VEVENT
DTSTART;TZID=UTC:20250410T220000
DTEND;TZID=UTC:20250411T030000
DTSTAMP:20260421T123936
CREATED:20250411T142746Z
LAST-MODIFIED:20250411T142746Z
UID:5089-1744322400-1744340400@oohmilano.it
SUMMARY:Love On The Rocks
DESCRIPTION:@loveontherocks__ arriva a Milano a @casagiardinomilan.
URL:https://oohmilano.it/event/love-on-the-rocks/
LOCATION:Casa Giardino\, Via Valtellina 5\, Milano
CATEGORIES:DESIGN WEEK
ATTACH;FMTTYPE=image/webp:https://oohmilano.it/wp-content/uploads/2025/04/c4e03fd6-5c67-43b6-b476-7c04f3da7178.jpg.webp
END:VEVENT
END:VCALENDAR