BEGIN:VCALENDAR
VERSION:2.0
PRODID:-//OOHMILANO - ECPv6.15.13.1//NONSGML v1.0//EN
CALSCALE:GREGORIAN
METHOD:PUBLISH
X-WR-CALNAME:OOHMILANO
X-ORIGINAL-URL:https://oohmilano.it
X-WR-CALDESC:Events for OOHMILANO
REFRESH-INTERVAL;VALUE=DURATION:PT1H
X-Robots-Tag:noindex
X-PUBLISHED-TTL:PT1H
BEGIN:VTIMEZONE
TZID:UTC
BEGIN:STANDARD
TZOFFSETFROM:+0000
TZOFFSETTO:+0000
TZNAME:UTC
DTSTART:20240101T000000
END:STANDARD
END:VTIMEZONE
BEGIN:VEVENT
DTSTART;TZID=UTC:20250410T220000
DTEND;TZID=UTC:20250411T030000
DTSTAMP:20260421T094742
CREATED:20250411T142746Z
LAST-MODIFIED:20250411T142746Z
UID:5089-1744322400-1744340400@oohmilano.it
SUMMARY:Love On The Rocks
DESCRIPTION:@loveontherocks__ arriva a Milano a @casagiardinomilan.
URL:https://oohmilano.it/event/love-on-the-rocks/
LOCATION:Casa Giardino\, Via Valtellina 5\, Milano
CATEGORIES:DESIGN WEEK
ATTACH;FMTTYPE=image/webp:https://oohmilano.it/wp-content/uploads/2025/04/c4e03fd6-5c67-43b6-b476-7c04f3da7178.jpg.webp
END:VEVENT
BEGIN:VEVENT
DTSTART;TZID=UTC:20250411T110000
DTEND;TZID=UTC:20250411T190000
DTSTAMP:20260421T094742
CREATED:20250411T143005Z
LAST-MODIFIED:20250411T143005Z
UID:5091-1744369200-1744398000@oohmilano.it
SUMMARY:Saint Laurent - Charlotte Perriand
DESCRIPTION:@ysl x @charlotteperriandd: esclusiva collaborazione con quattro arredi iconici in edizioni limitate\, in mostra al Padiglione Visconti.
URL:https://oohmilano.it/event/saint-laurent-charlotte-perriand/
LOCATION:Padiglione Visconti\, Via Tortona 58\, Milano
CATEGORIES:DESIGN WEEK
ATTACH;FMTTYPE=image/jpeg:https://oohmilano.it/wp-content/uploads/2025/04/SAINT-LAURENT_RIVE_DROITE_CHARLOTTE_PERRIAND_04_HR-scaled-1.jpg
END:VEVENT
BEGIN:VEVENT
DTSTART;TZID=UTC:20250411T120000
DTEND;TZID=UTC:20250411T233000
DTSTAMP:20260421T094742
CREATED:20250414T081503Z
LAST-MODIFIED:20250414T081503Z
UID:5130-1744372800-1744414200@oohmilano.it
SUMMARY:Very Simple: Pizzeria
DESCRIPTION:Design\, pizza e convivialità si incontrano da @berberepizzeria \, trasformato per l’occasione in una cucina inedita firmata Very Simple: Kitchen. Tra acciaio e calore\, @nooma_design presenta Roto Plate: il piatto che unisce estetica industriale e spirito domestico.
URL:https://oohmilano.it/event/very-simple-pizzeria/
LOCATION:Berberè\, Via Eustachi 13\, Milano
CATEGORIES:DESIGN WEEK
ATTACH;FMTTYPE=image/jpeg:https://oohmilano.it/wp-content/uploads/2025/04/berbere-1-1080x927-1.jpg
END:VEVENT
BEGIN:VEVENT
DTSTART;TZID=UTC:20250411T180000
DTEND;TZID=UTC:20250411T233000
DTSTAMP:20260421T094742
CREATED:20250411T143411Z
LAST-MODIFIED:20250411T143411Z
UID:5094-1744394400-1744414200@oohmilano.it
SUMMARY:Party 90
DESCRIPTION:@weareparty90: torna al @designtech.hub con tutte le hit dal 1990 al 2005.
URL:https://oohmilano.it/event/party-90/
LOCATION:Designtech CoFactory\, Via Polidoro Da Caravaggio 30\, Milano
CATEGORIES:DESIGN WEEK
ATTACH;FMTTYPE=image/jpeg:https://oohmilano.it/wp-content/uploads/2025/04/Designtech-CoFactory-3-scaled-1.jpg
END:VEVENT
BEGIN:VEVENT
DTSTART;TZID=UTC:20250411T183000
DTEND;TZID=UTC:20250411T233000
DTSTAMP:20260421T094742
CREATED:20250411T143707Z
LAST-MODIFIED:20250411T143707Z
UID:5096-1744396200-1744414200@oohmilano.it
SUMMARY:Rythm of Design- Dj set
DESCRIPTION:@nhow.milano presenta “Rythm of Design” con DJ set\, drink e divertimento in una location esclusiva.
URL:https://oohmilano.it/event/rythm-of-design-dj-set/
LOCATION:nhow Milano\, Via Tortona 35\, Milano
CATEGORIES:DESIGN WEEK
ATTACH;FMTTYPE=image/webp:https://oohmilano.it/wp-content/uploads/2025/04/https-cdn.evbuc_.com-images-995714563-395321239589-1-original.20250329-155937.webp
END:VEVENT
END:VCALENDAR