BEGIN:VCALENDAR
VERSION:2.0
PRODID:-//OOHMILANO - ECPv6.15.13.1//NONSGML v1.0//EN
CALSCALE:GREGORIAN
METHOD:PUBLISH
X-ORIGINAL-URL:https://oohmilano.it
X-WR-CALDESC:Events for OOHMILANO
REFRESH-INTERVAL;VALUE=DURATION:PT1H
X-Robots-Tag:noindex
X-PUBLISHED-TTL:PT1H
BEGIN:VTIMEZONE
TZID:UTC
BEGIN:STANDARD
TZOFFSETFROM:+0000
TZOFFSETTO:+0000
TZNAME:UTC
DTSTART:20240101T000000
END:STANDARD
END:VTIMEZONE
BEGIN:VEVENT
DTSTART;TZID=UTC:20250413T160000
DTEND;TZID=UTC:20250413T183000
DTSTAMP:20260421T095427
CREATED:20250414T080136Z
LAST-MODIFIED:20250414T080136Z
UID:5110-1744560000-1744569000@oohmilano.it
SUMMARY:SOMETHING STUPID
DESCRIPTION:@maremilano presenta “Something Stupid”: un esperimento teatrale tra improvvisazione e vita\, per riflettere e ridere insieme.
URL:https://oohmilano.it/event/something-stupid/
LOCATION:Mare Culturale Urbano\, Via Quinto Cenni 11\, Milano
CATEGORIES:DESIGN WEEK
ATTACH;FMTTYPE=image/jpeg:https://oohmilano.it/wp-content/uploads/2025/04/DSC00765-scaled-1.jpg
END:VEVENT
BEGIN:VEVENT
DTSTART;TZID=UTC:20250413T180000
DTEND;TZID=UTC:20250413T233000
DTSTAMP:20260421T095427
CREATED:20250414T083204Z
LAST-MODIFIED:20250414T083448Z
UID:5136-1744567200-1744587000@oohmilano.it
SUMMARY:Rollover Milano & Disco Stupenda
DESCRIPTION:@rollovermilano e @discostupendachiudono la @milan.design.week con un party imperdibile nel giardino di @cofactory.designweek.\nUna maratona musicale tra vibrazioni funk\, disco e house.\nIn consolle @daniel_monaco_music \, Rollover DJs e @tommiboy.og.\nIl ritmo non si ferma\, l’energia neanche.
URL:https://oohmilano.it/event/rollover-milano-disco-stupenda/
LOCATION:Designtech CoFactory\, Via Polidoro Da Caravaggio 30\, Milano
CATEGORIES:DESIGN WEEK
ATTACH;FMTTYPE=image/jpeg:https://oohmilano.it/wp-content/uploads/2025/04/Tommiboy-scaled-1.jpeg
END:VEVENT
END:VCALENDAR