BEGIN:VCALENDAR
VERSION:2.0
PRODID:-//OOHMILANO - ECPv6.15.13.1//NONSGML v1.0//EN
CALSCALE:GREGORIAN
METHOD:PUBLISH
X-WR-CALNAME:OOHMILANO
X-ORIGINAL-URL:https://oohmilano.it
X-WR-CALDESC:Events for OOHMILANO
REFRESH-INTERVAL;VALUE=DURATION:PT1H
X-Robots-Tag:noindex
X-PUBLISHED-TTL:PT1H
BEGIN:VTIMEZONE
TZID:UTC
BEGIN:STANDARD
TZOFFSETFROM:+0000
TZOFFSETTO:+0000
TZNAME:UTC
DTSTART:20240101T000000
END:STANDARD
END:VTIMEZONE
BEGIN:VEVENT
DTSTART;TZID=UTC:20250414T080000
DTEND;TZID=UTC:20250414T170000
DTSTAMP:20260421T094716
CREATED:20250414T080345Z
LAST-MODIFIED:20250414T080345Z
UID:5112-1744617600-1744650000@oohmilano.it
SUMMARY:50 Special La domenica italiana
DESCRIPTION:“50 special” torna con “La domenica italiana” da @officina_milano cibo\, drink e le migliori canzoni italiane da ballare e cantare.
URL:https://oohmilano.it/event/50-special-la-domenica-italiana/
LOCATION:Officina Milano\, Via Giovenale 7\, Milano
CATEGORIES:DESIGN WEEK
ATTACH;FMTTYPE=image/jpeg:https://oohmilano.it/wp-content/uploads/2025/04/SnapInsta.to_469070093_17925370868975299_5163825928848062618_n.jpg
END:VEVENT
BEGIN:VEVENT
DTSTART;TZID=UTC:20250414T080000
DTEND;TZID=UTC:20250414T170000
DTSTAMP:20260421T094716
CREATED:20250414T081239Z
LAST-MODIFIED:20250414T081239Z
UID:5122-1744617600-1744650000@oohmilano.it
SUMMARY:House of Switzerland Milano
DESCRIPTION:Alla @casadegliartisti_art\, la terza edizione di “House of Switzerland” torna con una mostra collettiva curata da una prestigiosa giuria internazionale\, esplorando la collaborazione come elemento chiave per il futuro del design. I progetti presentati esaltano tecniche artigianali e sperimentazioni materiche\, inclusa l’iniziativa “Homo Faber” della Michelangelo Foundation\, che unisce giovani designer e grandi maestri artigiani nel reinterpretare le tradizioni in chiave contemporanea.
URL:https://oohmilano.it/event/house-of-switzerland-milano/
LOCATION:Casa degli artisti\, Corso Garibaldi 89/a\, Milano
CATEGORIES:DESIGN WEEK
ATTACH;FMTTYPE=image/jpeg:https://oohmilano.it/wp-content/uploads/2025/04/20250123-HOSM-Website-Hosorg-Coverimages_1.jpg
END:VEVENT
BEGIN:VEVENT
DTSTART;TZID=UTC:20250414T090000
DTEND;TZID=UTC:20250414T210000
DTSTAMP:20260421T094716
CREATED:20250414T083815Z
LAST-MODIFIED:20250414T090127Z
UID:5139-1744621200-1744664400@oohmilano.it
SUMMARY:Library of Light
DESCRIPTION:Se non lo avete ancora visto\, andate a perdervi nella Library of Light di @esdevlin\nnel cortile dell’ @accademiabelleartibrera. Una libreria cilindrica di 18 metri\, 2.000 libri @feltrinelli_librerie\, incontri\, parole\, visioni. Gira\, si illumina\, accoglie. Dura fino al 21 aprile.
URL:https://oohmilano.it/event/library-of-light/
LOCATION:Accademia di Brera\, Via Brera 28\, Milano
CATEGORIES:DESIGN WEEK
ATTACH;FMTTYPE=image/webp:https://oohmilano.it/wp-content/uploads/2025/04/j_05-Es-Devlin-Library-of-Light-Monica-Spezia-Salone-del-Mobile-2025-104462_2.webp
END:VEVENT
BEGIN:VEVENT
DTSTART;TZID=UTC:20250414T190000
DTEND;TZID=UTC:20250414T213000
DTSTAMP:20260421T094716
CREATED:20250414T080600Z
LAST-MODIFIED:20250414T080600Z
UID:5115-1744657200-1744666200@oohmilano.it
SUMMARY:Black Bag - Soderbergh in sala
DESCRIPTION:@cinemabeltrade presenta “Black Bag” di Steven Soderbergh: un avvincente spy drama con il regista in sala.
URL:https://oohmilano.it/event/black-bag-soderbergh-in-sala/
LOCATION:Cinema Beltrade\, Via Nino Oxilia 10\, Milano
CATEGORIES:SPETTACOLO
ATTACH;FMTTYPE=image/webp:https://oohmilano.it/wp-content/uploads/2025/04/black-bag.jpg.webp
END:VEVENT
BEGIN:VEVENT
DTSTART;TZID=UTC:20250414T210000
DTEND;TZID=UTC:20250415T020000
DTSTAMP:20260421T094716
CREATED:20250414T080741Z
LAST-MODIFIED:20250414T080741Z
UID:5117-1744664400-1744682400@oohmilano.it
SUMMARY:Resa Saffa Park
DESCRIPTION:@arci_bellezza presenta “Resa Saffa Park” live a Milano con opening act di Marla.
URL:https://oohmilano.it/event/resa-saffa-park/
LOCATION:Arci Bellezza\, Via Giovanni Bellezza\, 16/A\, Milano
CATEGORIES:MUSICA
ATTACH;FMTTYPE=image/jpeg:https://oohmilano.it/wp-content/uploads/2025/04/ab6761610000517417b16ebabdff1a57740b9a8b.jpeg
END:VEVENT
END:VCALENDAR