BEGIN:VCALENDAR
VERSION:2.0
PRODID:-//OOHMILANO - ECPv6.15.13.1//NONSGML v1.0//EN
CALSCALE:GREGORIAN
METHOD:PUBLISH
X-WR-CALNAME:OOHMILANO
X-ORIGINAL-URL:https://oohmilano.it
X-WR-CALDESC:Events for OOHMILANO
REFRESH-INTERVAL;VALUE=DURATION:PT1H
X-Robots-Tag:noindex
X-PUBLISHED-TTL:PT1H
BEGIN:VTIMEZONE
TZID:UTC
BEGIN:STANDARD
TZOFFSETFROM:+0000
TZOFFSETTO:+0000
TZNAME:UTC
DTSTART:20240101T000000
END:STANDARD
END:VTIMEZONE
BEGIN:VEVENT
DTSTART;TZID=UTC:20250419T210000
DTEND;TZID=UTC:20250420T010000
DTSTAMP:20260421T094717
CREATED:20250428T075629Z
LAST-MODIFIED:20250428T075629Z
UID:5256-1745096400-1745110800@oohmilano.it
SUMMARY:SILENT DISCO PASQUA SABATO
DESCRIPTION:“Silent Disco Pasqua” al Maniero di San Martino: tre DJ\, tre generi musicali e centinaia di cuffie per ballare sotto le stelle. Scegliete la vostra musica\, alzate il volume e lasciatevi trasportare dall’energia!
URL:https://oohmilano.it/event/silent-disco-pasqua-sabato/
LOCATION:Maniero di San Martino\, Via 29 Maggio 207\, Legnano
CATEGORIES:MUSICA
ATTACH;FMTTYPE=image/jpeg:https://oohmilano.it/wp-content/uploads/2025/04/silent-disco-promo.jpg
END:VEVENT
BEGIN:VEVENT
DTSTART;TZID=UTC:20250419T233000
DTEND;TZID=UTC:20250420T040000
DTSTAMP:20260421T094717
CREATED:20250417T141738Z
LAST-MODIFIED:20250417T141938Z
UID:5230-1745105400-1745121600@oohmilano.it
SUMMARY:Indie Power ai Magazza
DESCRIPTION:Indie Power ai @magazzinigeneralimilano: una notte di cori\, emozioni e balli sfrenati.
URL:https://oohmilano.it/event/indie-power-ai-magazza/
LOCATION:Magazzini Generali\, Via Pietrasanta 16\, Milano
CATEGORIES:MUSICA
ATTACH;FMTTYPE=image/jpeg:https://oohmilano.it/wp-content/uploads/2025/04/327573149_755736498856196_873495158865474220_n.jpg
END:VEVENT
BEGIN:VEVENT
DTSTART;TZID=UTC:20250419T233000
DTEND;TZID=UTC:20250420T040000
DTSTAMP:20260421T094717
CREATED:20250417T141910Z
LAST-MODIFIED:20250417T141910Z
UID:5232-1745105400-1745121600@oohmilano.it
SUMMARY:FOOTLOOSING X NEVERSOBER
DESCRIPTION:@footloosingg x @neversobercorporate: prima collaborazione tra crew per una notte esplosiva allo @spaziodiaz_milano.
URL:https://oohmilano.it/event/footloosing-x-neversober/
LOCATION:Spazio Diaz\, Piazza Armando Diaz 5\, Milano
CATEGORIES:MUSICA
ATTACH;FMTTYPE=image/jpeg:https://oohmilano.it/wp-content/uploads/2025/04/Spazio-Diaz-Showroom-di-Milano-3.jpeg
END:VEVENT
BEGIN:VEVENT
DTSTART;TZID=UTC:20250420T123000
DTEND;TZID=UTC:20250420T150000
DTSTAMP:20260421T094717
CREATED:20250417T142745Z
LAST-MODIFIED:20250417T142745Z
UID:5234-1745152200-1745161200@oohmilano.it
SUMMARY:Bertarelli Brunch
DESCRIPTION:Bertarelli Brunch Special Edition: @bistrotbertarelli propone un buffet pasquale nel suggestivo @radissoncollectiontouringclub.
URL:https://oohmilano.it/event/bertarelli-brunch/
LOCATION:Palazzo Touring\, Corso Italia 10\, Milano
CATEGORIES:FOOD
ATTACH;FMTTYPE=image/jpeg:https://oohmilano.it/wp-content/uploads/2025/04/bertarelli.jpg
END:VEVENT
BEGIN:VEVENT
DTSTART;TZID=UTC:20250420T130000
DTEND;TZID=UTC:20250420T153000
DTSTAMP:20260421T094717
CREATED:20250417T143416Z
LAST-MODIFIED:20250417T143416Z
UID:5237-1745154000-1745163000@oohmilano.it
SUMMARY:Gen_
DESCRIPTION:Gen_: al @cinemabeltrade il docu-film che racconta la missione del dottor Bini tra fertilità e affermazione di genere.
URL:https://oohmilano.it/event/gen_/
LOCATION:Cinema Beltrade\, Via Nino Oxilia 10\, Milano
CATEGORIES:SPETTACOLO
ATTACH;FMTTYPE=image/webp:https://oohmilano.it/wp-content/uploads/2025/04/906d2d67-1083-4a5f-a424-473cc18ec0fe.jpg.webp
END:VEVENT
END:VCALENDAR