BEGIN:VCALENDAR
VERSION:2.0
PRODID:-//OOHMILANO - ECPv6.15.13.1//NONSGML v1.0//EN
CALSCALE:GREGORIAN
METHOD:PUBLISH
X-ORIGINAL-URL:https://oohmilano.it
X-WR-CALDESC:Events for OOHMILANO
REFRESH-INTERVAL;VALUE=DURATION:PT1H
X-Robots-Tag:noindex
X-PUBLISHED-TTL:PT1H
BEGIN:VTIMEZONE
TZID:UTC
BEGIN:STANDARD
TZOFFSETFROM:+0000
TZOFFSETTO:+0000
TZNAME:UTC
DTSTART:20240101T000000
END:STANDARD
END:VTIMEZONE
BEGIN:VEVENT
DTSTART;TZID=UTC:20250422T210000
DTEND;TZID=UTC:20250423T030000
DTSTAMP:20260421T095359
CREATED:20250417T143845Z
LAST-MODIFIED:20250417T143845Z
UID:5241-1745355600-1745377200@oohmilano.it
SUMMARY:JAZZMI: Kamasi Washington
DESCRIPTION:JAZZMI: @kamasiwashington live all’@alcatrazmilano.
URL:https://oohmilano.it/event/jazzmi-kamasi-washington/
LOCATION:Alcatraz Milano\, Via Valtellina 25\, Milano\, Milano\, Italy
CATEGORIES:MUSICA
ATTACH;FMTTYPE=image/png:https://oohmilano.it/wp-content/uploads/2025/04/Kamasi_web24-e1712225664205_2-e1743766684634.png
END:VEVENT
BEGIN:VEVENT
DTSTART;TZID=UTC:20250423T110000
DTEND;TZID=UTC:20250423T133000
DTSTAMP:20260421T095359
CREATED:20250428T081100Z
LAST-MODIFIED:20250428T081100Z
UID:5263-1745406000-1745415000@oohmilano.it
SUMMARY:Queer
DESCRIPTION:Arriva al @cinemabeltrade la proiezione di “Queer” il nuovo film di Guadagnino.
URL:https://oohmilano.it/event/queer/
LOCATION:Cinema Beltrade\, Via Nino Oxilia 10\, Milano
CATEGORIES:SPETTACOLO
ATTACH;FMTTYPE=image/jpeg:https://oohmilano.it/wp-content/uploads/2025/04/200429333-eeceeefe-2013-4168-abcb-3bcd500b92f4.jpg
END:VEVENT
BEGIN:VEVENT
DTSTART;TZID=UTC:20250423T180000
DTEND;TZID=UTC:20250423T233000
DTSTAMP:20260421T095359
CREATED:20250428T081414Z
LAST-MODIFIED:20250428T081414Z
UID:5283-1745431200-1745451000@oohmilano.it
SUMMARY:prima stanza a destra
DESCRIPTION:Prove generali di @primastanzaadestra a @moonhouse_music.
URL:https://oohmilano.it/event/prima-stanza-a-destra/
LOCATION:Moon House\, Via Gian Francesco Pizzi 29\, Milano
CATEGORIES:MUSICA
ATTACH;FMTTYPE=image/webp:https://oohmilano.it/wp-content/uploads/2025/04/2000x2000bb.webp
END:VEVENT
BEGIN:VEVENT
DTSTART;TZID=UTC:20250423T200000
DTEND;TZID=UTC:20250423T223000
DTSTAMP:20260421T095359
CREATED:20250428T082726Z
LAST-MODIFIED:20250428T082726Z
UID:5289-1745438400-1745447400@oohmilano.it
SUMMARY:Glauco Salvo
DESCRIPTION:Un live immersivo di @glaucosalvo al @settantaventidue.
URL:https://oohmilano.it/event/glauco-salvo/
LOCATION:Settantaventidue\, Via Lodovico Il Moro 1\, Milano
CATEGORIES:SPETTACOLO
ATTACH;FMTTYPE=image/png:https://oohmilano.it/wp-content/uploads/2025/04/Schermata-2025-04-22-alle-09.42.52.png
END:VEVENT
BEGIN:VEVENT
DTSTART;TZID=UTC:20250423T200000
DTEND;TZID=UTC:20250423T233000
DTSTAMP:20260421T095359
CREATED:20250428T082543Z
LAST-MODIFIED:20250428T082543Z
UID:5286-1745438400-1745451000@oohmilano.it
SUMMARY:LARAAJI in Chiesa Rossa
DESCRIPTION:Il compositore @laraaji_official si esibisce dal vivo le suggestive tracce di “Sun Piano”.
URL:https://oohmilano.it/event/laraaji-in-chiesa-rossa/
LOCATION:Chiesa Rossa\, Via Neera 24\, Milano
CATEGORIES:MUSICA
ATTACH;FMTTYPE=image/jpeg:https://oohmilano.it/wp-content/uploads/2025/04/Laraaji-Credit-Nathan-Perkel-obo-Record-Culture-Magazine-2-1-768x1024-1.jpeg
END:VEVENT
END:VCALENDAR