BEGIN:VCALENDAR
VERSION:2.0
PRODID:-//OOHMILANO - ECPv6.15.13.1//NONSGML v1.0//EN
CALSCALE:GREGORIAN
METHOD:PUBLISH
X-WR-CALNAME:OOHMILANO
X-ORIGINAL-URL:https://oohmilano.it
X-WR-CALDESC:Events for OOHMILANO
REFRESH-INTERVAL;VALUE=DURATION:PT1H
X-Robots-Tag:noindex
X-PUBLISHED-TTL:PT1H
BEGIN:VTIMEZONE
TZID:UTC
BEGIN:STANDARD
TZOFFSETFROM:+0000
TZOFFSETTO:+0000
TZNAME:UTC
DTSTART:20240101T000000
END:STANDARD
END:VTIMEZONE
BEGIN:VEVENT
DTSTART;TZID=UTC:20250430T190000
DTEND;TZID=UTC:20250501T020000
DTSTAMP:20260421T083347
CREATED:20250506T103442Z
LAST-MODIFIED:20250506T103442Z
UID:5431-1746039600-1746064800@oohmilano.it
SUMMARY:POLIANIMALI BACK IN BIBLO
DESCRIPTION:“@polianimali Back in Biblo”: due stage da @gipsy_bar_milano
URL:https://oohmilano.it/event/polianimali-back-in-biblo/
LOCATION:GIPSY\, Via Carlo Valvassori Peroni 56\, Milano
CATEGORIES:MUSICA
ATTACH;FMTTYPE=image/jpeg:https://oohmilano.it/wp-content/uploads/2025/05/SnapInsta.to_484549485_18053997497515114_578691925823541655_n.jpg
END:VEVENT
BEGIN:VEVENT
DTSTART;TZID=UTC:20250430T230000
DTEND;TZID=UTC:20250501T040000
DTSTAMP:20260421T083347
CREATED:20250506T103909Z
LAST-MODIFIED:20250506T104129Z
UID:5433-1746054000-1746072000@oohmilano.it
SUMMARY:Fluo Party
DESCRIPTION:“Fluo Party” al @circolomagnolia : musica dance anni ’90 e hit attuali\, luci UV\, make up e gadget fluo in regalo.
URL:https://oohmilano.it/event/fluo-party/
LOCATION:Circolo Magnolia\, Via Circonvallazione Idroscalo 41\, Milano
CATEGORIES:LIFESTYLE
ATTACH;FMTTYPE=image/jpeg:https://oohmilano.it/wp-content/uploads/2025/05/fluo-party-al-circolo-magnolia-e1746528062552.jpg
END:VEVENT
BEGIN:VEVENT
DTSTART;TZID=UTC:20250501T103000
DTEND;TZID=UTC:20250501T200000
DTSTAMP:20260421T083347
CREATED:20250514T084217Z
LAST-MODIFIED:20250514T084217Z
UID:5470-1746095400-1746129600@oohmilano.it
SUMMARY:Dante Bini: Out of the Box
DESCRIPTION:All’ @adidesignmuseum una mostra dedicata a Dante Bini\, figura eccentrica e radicale del secondo Novecento. Il suo lavoro ha attraversato con originalità i confini tra architettura\, ingegneria e design industriale\, affrontando temi urgenti di natura sociale\, tecnologica ed ecologica.
URL:https://oohmilano.it/event/dante-bini-out-of-the-box/
LOCATION:ADI Design Museum\, Piazza Compasso d'Oro\, 1 (ingresso da via Ceresio 7\, Via Bramante\, 42\, Milano
CATEGORIES:ARTE
ATTACH;FMTTYPE=image/jpeg:https://oohmilano.it/wp-content/uploads/2025/05/file0040web.jpg
END:VEVENT
BEGIN:VEVENT
DTSTART;TZID=UTC:20250501T120000
DTEND;TZID=UTC:20250501T190000
DTSTAMP:20260421T083347
CREATED:20250506T104354Z
LAST-MODIFIED:20250506T104354Z
UID:5435-1746100800-1746126000@oohmilano.it
SUMMARY:Pic nic del Primo Maggio a mare
DESCRIPTION:“Picnic del Primo Maggio a @maremilano” con pranzo condiviso\, tavoli liberi\, drink al bar e dj set.
URL:https://oohmilano.it/event/pic-nic-del-primo-maggio-a-mare/
LOCATION:Mare Culturale Urbano – Cascina Torrette\, Via Giuseppe Gabetti\, 15\, Milano
CATEGORIES:FOOD
ATTACH;FMTTYPE=image/jpeg:https://oohmilano.it/wp-content/uploads/2025/05/df2f0f7ad44b7e0e97423a81354610b9.jpg
END:VEVENT
BEGIN:VEVENT
DTSTART;TZID=UTC:20250501T150000
DTEND;TZID=UTC:20250501T223000
DTSTAMP:20260421T083347
CREATED:20250506T104623Z
LAST-MODIFIED:20250506T104623Z
UID:5437-1746111600-1746138600@oohmilano.it
SUMMARY:Anna Molly allo Skatepark Parco Lambro
DESCRIPTION:@annamolly2000 allo Skatepark Parco Lambro vi aspettano nove ore di musica all’aperto.
URL:https://oohmilano.it/event/anna-molly-allo-skatepark-parco-lambro/
LOCATION:Skatepark Parco Lambro\, Parco Lambro (ingresso via Feltre)\, 20134\, Milano
CATEGORIES:MUSICA
ATTACH;FMTTYPE=image/jpeg:https://oohmilano.it/wp-content/uploads/2025/05/annamolly-e1746528373696.jpg
END:VEVENT
BEGIN:VEVENT
DTSTART;TZID=UTC:20250501T190000
DTEND;TZID=UTC:20250502T020000
DTSTAMP:20260421T083347
CREATED:20250506T104833Z
LAST-MODIFIED:20250506T104833Z
UID:5439-1746126000-1746151200@oohmilano.it
SUMMARY:WHITE PARTY
DESCRIPTION:“White Party” al Bar Bianco: aperitivo\, musica\, dj set e dress code total white.
URL:https://oohmilano.it/event/white-party-2/
LOCATION:Bar Bianco\, Viale Enrico Ibsen 4\, Milano
CATEGORIES:LIFESTYLE
ATTACH;FMTTYPE=image/jpeg:https://oohmilano.it/wp-content/uploads/2025/05/bar-bianco5.jpg
END:VEVENT
END:VCALENDAR