BEGIN:VCALENDAR
VERSION:2.0
PRODID:-//OOHMILANO - ECPv6.15.13.1//NONSGML v1.0//EN
CALSCALE:GREGORIAN
METHOD:PUBLISH
X-ORIGINAL-URL:https://oohmilano.it
X-WR-CALDESC:Events for OOHMILANO
REFRESH-INTERVAL;VALUE=DURATION:PT1H
X-Robots-Tag:noindex
X-PUBLISHED-TTL:PT1H
BEGIN:VTIMEZONE
TZID:UTC
BEGIN:STANDARD
TZOFFSETFROM:+0000
TZOFFSETTO:+0000
TZNAME:UTC
DTSTART:20240101T000000
END:STANDARD
END:VTIMEZONE
BEGIN:VEVENT
DTSTART;TZID=UTC:20250505T190000
DTEND;TZID=UTC:20250505T220000
DTSTAMP:20260421T095555
CREATED:20250514T085132Z
LAST-MODIFIED:20250514T085527Z
UID:5484-1746471600-1746482400@oohmilano.it
SUMMARY:MiMu: Opificio Sonoro
DESCRIPTION:All’interno della rassegna Milano Musica\, l’ensemble Opificio Sonoro porta in scena un’esperienza al @arsenale_teatro tra suono e sperimentazione. In programma anche la presenza di @francescofilidei e Marco Momi\, per una serata dedicata alla ricerca musicale contemporanea.
URL:https://oohmilano.it/event/mimu-opificio-sonoro/
LOCATION:Teatro Arsenale\, Via C. Correnti 11\, Milano
CATEGORIES:SPETTACOLO
ATTACH;FMTTYPE=image/jpeg:https://oohmilano.it/wp-content/uploads/2025/05/DSC8600-copia-1024x683-768x512-1.jpeg
END:VEVENT
BEGIN:VEVENT
DTSTART;TZID=UTC:20250505T213000
DTEND;TZID=UTC:20250505T233000
DTSTAMP:20260421T095555
CREATED:20250506T133503Z
LAST-MODIFIED:20250506T133708Z
UID:5465-1746480600-1746487800@oohmilano.it
SUMMARY:The Art Of Disobedience
DESCRIPTION:Al @cinemabeltrade “The Art Of Disobedience”: proiezione e incontro sul mondo del graffiti writing.
URL:https://oohmilano.it/event/the-art-of-disobedience/
LOCATION:Cinema Beltrade\, Via Nino Oxilia 10\, Milano
CATEGORIES:SPETTACOLO
ATTACH;FMTTYPE=image/png:https://oohmilano.it/wp-content/uploads/2025/05/Screenshot-15-e1742580544614.png
END:VEVENT
END:VCALENDAR