BEGIN:VCALENDAR
VERSION:2.0
PRODID:-//OOHMILANO - ECPv6.15.13.1//NONSGML v1.0//EN
CALSCALE:GREGORIAN
METHOD:PUBLISH
X-WR-CALNAME:OOHMILANO
X-ORIGINAL-URL:https://oohmilano.it
X-WR-CALDESC:Events for OOHMILANO
REFRESH-INTERVAL;VALUE=DURATION:PT1H
X-Robots-Tag:noindex
X-PUBLISHED-TTL:PT1H
BEGIN:VTIMEZONE
TZID:UTC
BEGIN:STANDARD
TZOFFSETFROM:+0000
TZOFFSETTO:+0000
TZNAME:UTC
DTSTART:20240101T000000
END:STANDARD
END:VTIMEZONE
BEGIN:VEVENT
DTSTART;TZID=UTC:20250509T100000
DTEND;TZID=UTC:20250509T120000
DTSTAMP:20260421T094946
CREATED:20250514T095035Z
LAST-MODIFIED:20250514T095035Z
UID:5547-1746784800-1746792000@oohmilano.it
SUMMARY:Candle workshop with photoshoot
DESCRIPTION:Crea\, posa e brilla tra candele artigianali e scatti professionali.
URL:https://oohmilano.it/event/candle-workshop-with-photoshoot/
LOCATION:Naviglio Grande\, Via Evangelista Torreicelli\, Milano
CATEGORIES:LIFESTYLE
ATTACH;FMTTYPE=image/webp:https://oohmilano.it/wp-content/uploads/2025/05/woman-decorating-homemade-candle-lavender-600nw-2060254436.jpg.webp
END:VEVENT
BEGIN:VEVENT
DTSTART;TZID=UTC:20250509T170000
DTEND;TZID=UTC:20250509T233000
DTSTAMP:20260421T094946
CREATED:20250514T095520Z
LAST-MODIFIED:20250514T095520Z
UID:5551-1746810000-1746833400@oohmilano.it
SUMMARY:Aperitivo Festival - Day 1
DESCRIPTION:@nhow.milano si accende il primo giorno di Aperitivo Festival tra drink creativi\, food e dj set.
URL:https://oohmilano.it/event/aperitivo-festival-day-1/
LOCATION:nhow Milano\, Via Tortona 35\, Milano
CATEGORIES:FOOD
ATTACH;FMTTYPE=image/jpeg:https://oohmilano.it/wp-content/uploads/2025/05/Aperitivo-Festival-credits-Loris-Scalzo_04-1024x681-5x0Jh2.jpeg
END:VEVENT
BEGIN:VEVENT
DTSTART;TZID=UTC:20250509T193000
DTEND;TZID=UTC:20250509T220000
DTSTAMP:20260421T094946
CREATED:20250514T092122Z
LAST-MODIFIED:20250514T092122Z
UID:5498-1746819000-1746828000@oohmilano.it
SUMMARY:Blickwechsel
DESCRIPTION:Alla @fabbricadelvapore“Blickwechsel” è un docu-film di Janina Möbius che esplora il ruolo delle arti performative nella lotta contro la polarizzazione dell’opinione pubblica. Il film mette in luce come la cultura sia uno degli obiettivi delle forze di estrema destra\, proponendo un dialogo corale sul momento storico attuale. Un invito a riflettere sul potere dell’arte come strumento di resistenza e cambiamento.
URL:https://oohmilano.it/event/blickwechsel/
LOCATION:Fabbrica del Vapore\, Via Giulio Cesare Procaccini 4\, Milano
CATEGORIES:SPETTACOLO
ATTACH;FMTTYPE=image/jpeg:https://oohmilano.it/wp-content/uploads/2025/05/Blickwechsel_11_c-soilfilms-Ralf-Ilgenfritz-1536x1024-1.jpg
END:VEVENT
BEGIN:VEVENT
DTSTART;TZID=UTC:20250509T223000
DTEND;TZID=UTC:20250510T030000
DTSTAMP:20260421T094946
CREATED:20250514T095758Z
LAST-MODIFIED:20250514T095758Z
UID:5553-1746829800-1746846000@oohmilano.it
SUMMARY:One Shot meets Halfpipe Records
DESCRIPTION:Skate\, visual art e 12 DJ per una notte fuori schema con One Shot x Halfpipe Records @main_club.
URL:https://oohmilano.it/event/one-shot-meets-halfpipe-records/
LOCATION:Main Club – Club 44\, Via Carlo Boncompagni 44\, Milano
CATEGORIES:MUSICA
ATTACH;FMTTYPE=image/jpeg:https://oohmilano.it/wp-content/uploads/2025/05/club-44-club-milano-xceed-2850.jpg
END:VEVENT
END:VCALENDAR