BEGIN:VCALENDAR
VERSION:2.0
PRODID:-//OOHMILANO - ECPv6.15.13.1//NONSGML v1.0//EN
CALSCALE:GREGORIAN
METHOD:PUBLISH
X-WR-CALNAME:OOHMILANO
X-ORIGINAL-URL:https://oohmilano.it
X-WR-CALDESC:Events for OOHMILANO
REFRESH-INTERVAL;VALUE=DURATION:PT1H
X-Robots-Tag:noindex
X-PUBLISHED-TTL:PT1H
BEGIN:VTIMEZONE
TZID:UTC
BEGIN:STANDARD
TZOFFSETFROM:+0000
TZOFFSETTO:+0000
TZNAME:UTC
DTSTART:20240101T000000
END:STANDARD
END:VTIMEZONE
BEGIN:VEVENT
DTSTART;TZID=UTC:20250510T210000
DTEND;TZID=UTC:20250511T023000
DTSTAMP:20260419T130012
CREATED:20250514T100549Z
LAST-MODIFIED:20250514T100549Z
UID:5563-1746910800-1746930600@oohmilano.it
SUMMARY:Freequency
DESCRIPTION:A @santeriatoscana31 torna @freequency.events: un viaggio gratuito nella nuova musica europea tra live e dj set.
URL:https://oohmilano.it/event/freequency/
LOCATION:Santeria Toscana 31\, Viale Toscana 31\, Milano
CATEGORIES:MUSICA
ATTACH;FMTTYPE=image/jpeg:https://oohmilano.it/wp-content/uploads/2025/05/freequency-in-santeria-toscana-31.jpg
END:VEVENT
BEGIN:VEVENT
DTSTART;TZID=UTC:20250511T100000
DTEND;TZID=UTC:20250511T180000
DTSTAMP:20260419T130012
CREATED:20250514T100805Z
LAST-MODIFIED:20250514T100805Z
UID:5565-1746957600-1746986400@oohmilano.it
SUMMARY:PARKOUR San Siro
DESCRIPTION:Parkour e rigenerazione urbana tra lezioni gratuite e contest.
URL:https://oohmilano.it/event/parkour-san-siro/
LOCATION:Piazza Selinunte\, Piazzale Selinunte\, Milano
CATEGORIES:SPORT
ATTACH;FMTTYPE=image/webp:https://oohmilano.it/wp-content/uploads/2025/05/20220128144442-20210705123915-shutterstock-648917863.webp
END:VEVENT
BEGIN:VEVENT
DTSTART;TZID=UTC:20250511T160000
DTEND;TZID=UTC:20250511T233000
DTSTAMP:20260419T130012
CREATED:20250514T092436Z
LAST-MODIFIED:20250514T092436Z
UID:5503-1746979200-1747006200@oohmilano.it
SUMMARY:Sunday Remedy in the Park
DESCRIPTION:“Sunday Remedy in the Park” è un evento musicale open air al Parco La Spezia. Organizzato da Take It Easy\, offre una selezione musicale con line-up ancora da annunciare. Ingresso gratuito e atmosfera rilassata per godersi un pomeriggio e una serata all’aperto.
URL:https://oohmilano.it/event/sunday-remedy-in-the-park/
LOCATION:Parco La Spezia\, Via Rimini 38\, Milano
CATEGORIES:MUSICA
ATTACH;FMTTYPE=image/webp:https://oohmilano.it/wp-content/uploads/2025/05/il-campo-di-basket-coperto-realizzato-con-la-struttura-del-padiglione-coca-cola.webp
END:VEVENT
END:VCALENDAR