BEGIN:VCALENDAR
VERSION:2.0
PRODID:-//OOHMILANO - ECPv6.15.13.1//NONSGML v1.0//EN
CALSCALE:GREGORIAN
METHOD:PUBLISH
X-WR-CALNAME:OOHMILANO
X-ORIGINAL-URL:https://oohmilano.it
X-WR-CALDESC:Events for OOHMILANO
REFRESH-INTERVAL;VALUE=DURATION:PT1H
X-Robots-Tag:noindex
X-PUBLISHED-TTL:PT1H
BEGIN:VTIMEZONE
TZID:UTC
BEGIN:STANDARD
TZOFFSETFROM:+0000
TZOFFSETTO:+0000
TZNAME:UTC
DTSTART:20240101T000000
END:STANDARD
END:VTIMEZONE
BEGIN:VEVENT
DTSTART;TZID=UTC:20250512T213000
DTEND;TZID=UTC:20250512T233000
DTSTAMP:20260421T094940
CREATED:20250514T092631Z
LAST-MODIFIED:20250514T092631Z
UID:5506-1747085400-1747092600@oohmilano.it
SUMMARY:Martina Attili
DESCRIPTION:@martina_attili presenta il suo nuovo album “Signorina Rivoluzione” al @detunemilano. Cantautrice romana classe 2001\, si è fatta conoscere nel 2018 a X-Factor con il brano “Cherofobia”\, diventato virale e certificato disco di platino. Ha collaborato con Mr. Rain e pubblicato un romanzo premiato. Attiva anche nel sociale\, torna ora con nuovi singoli e un progetto tutto da scoprire.
URL:https://oohmilano.it/event/martina-attili/
LOCATION:Detune\, Via Felice Casati 24\, Milano
CATEGORIES:MUSICA
ATTACH;FMTTYPE=image/jpeg:https://oohmilano.it/wp-content/uploads/2025/05/606df98a-fad2-b154-9e67-fe4e8e28ea4a.jpg
END:VEVENT
END:VCALENDAR