BEGIN:VCALENDAR
VERSION:2.0
PRODID:-//OOHMILANO - ECPv6.15.13.1//NONSGML v1.0//EN
CALSCALE:GREGORIAN
METHOD:PUBLISH
X-ORIGINAL-URL:https://oohmilano.it
X-WR-CALDESC:Events for OOHMILANO
REFRESH-INTERVAL;VALUE=DURATION:PT1H
X-Robots-Tag:noindex
X-PUBLISHED-TTL:PT1H
BEGIN:VTIMEZONE
TZID:UTC
BEGIN:STANDARD
TZOFFSETFROM:+0000
TZOFFSETTO:+0000
TZNAME:UTC
DTSTART:20240101T000000
END:STANDARD
END:VTIMEZONE
BEGIN:VEVENT
DTSTART;TZID=UTC:20250515T180000
DTEND;TZID=UTC:20250516T010000
DTSTAMP:20260421T095652
CREATED:20250514T143658Z
LAST-MODIFIED:20250514T143658Z
UID:5640-1747332000-1747357200@oohmilano.it
SUMMARY:Road to Kappa Futur Festival
DESCRIPTION:Nel nuovo spazio Voce\, l’anteprima del @futur_festival con dj set\, live e arte nel giardino con @marinellasenatore_.
URL:https://oohmilano.it/event/road-to-kappa-futur-festival/
LOCATION:Voce Triennale\, Viale Emilio Alemagna 6\, Milano
CATEGORIES:MUSICA
ATTACH;FMTTYPE=image/webp:https://oohmilano.it/wp-content/uploads/2025/05/voce-triennale-living-corriere-5.jpg.webp
END:VEVENT
BEGIN:VEVENT
DTSTART;TZID=UTC:20250515T203000
DTEND;TZID=UTC:20250516T010000
DTSTAMP:20260421T095652
CREATED:20250514T144522Z
LAST-MODIFIED:20250514T144522Z
UID:5649-1747341000-1747357200@oohmilano.it
SUMMARY:Eurovision Watch party
DESCRIPTION:Al @salone14_milano\, watch party tra cori\, bandiere e birrette per tifare l’Eurovision insieme.
URL:https://oohmilano.it/event/eurovision-watch-party/
LOCATION:SALONE 14 – Yellowsquare\, Via Serviliano Lattuada 14\, Milano
CATEGORIES:LIFESTYLE
ATTACH;FMTTYPE=image/webp:https://oohmilano.it/wp-content/uploads/2025/05/lucio-corsi-suona-l-armonica-all-arena-st-jakobshalle-di-basilea-foto-sarah-louise-bennett-ebu.webp
END:VEVENT
BEGIN:VEVENT
DTSTART;TZID=UTC:20250516T183000
DTEND;TZID=UTC:20250516T233000
DTSTAMP:20260421T095652
CREATED:20250514T144623Z
LAST-MODIFIED:20250514T144623Z
UID:5651-1747420200-1747438200@oohmilano.it
SUMMARY:è tutto un friggi friggi
DESCRIPTION:Da @maremilano apre il festival del fritto con street food\, musica e golosità croccanti.
URL:https://oohmilano.it/event/e-tutto-un-friggi-friggi-2/
LOCATION:Mare Culturale Urbano\, Via Quinto Cenni 11\, Milano
CATEGORIES:FOOD
ATTACH;FMTTYPE=image/jpeg:https://oohmilano.it/wp-content/uploads/2025/05/26a3a3d5076586e35fb37898e57f431e.jpg
END:VEVENT
BEGIN:VEVENT
DTSTART;TZID=UTC:20250516T200000
DTEND;TZID=UTC:20250516T233000
DTSTAMP:20260421T095652
CREATED:20250514T144334Z
LAST-MODIFIED:20250514T144334Z
UID:5646-1747425600-1747438200@oohmilano.it
SUMMARY:PENTIMENTO V
DESCRIPTION:@pentimento20100 è una club night tra slow prog\, IDM e techno da @altrovemilano.
URL:https://oohmilano.it/event/pentimento-v/
LOCATION:Altrove\, Via Corelli 27\, Milano
CATEGORIES:MUSICA
ATTACH;FMTTYPE=image/jpeg:https://oohmilano.it/wp-content/uploads/2025/05/IMG_3576.jpg
END:VEVENT
BEGIN:VEVENT
DTSTART;TZID=UTC:20250516T210000
DTEND;TZID=UTC:20250516T233000
DTSTAMP:20260421T095652
CREATED:20250514T144958Z
LAST-MODIFIED:20250514T144958Z
UID:5653-1747429200-1747438200@oohmilano.it
SUMMARY:Problemista
DESCRIPTION:Il @mix_festival lancia la 39ª edizione con la proiezione di “Problemista” a @spaziocinema.
URL:https://oohmilano.it/event/problemista/
LOCATION:Palazzo del Cinema Anteo\, Piazza Venticinque Aprile 8\, Milano
CATEGORIES:SPETTACOLO
ATTACH;FMTTYPE=image/jpeg:https://oohmilano.it/wp-content/uploads/2025/05/20240227150240-65de497b954882723e08d163jpeg.jpg
END:VEVENT
BEGIN:VEVENT
DTSTART;TZID=UTC:20250516T230000
DTEND;TZID=UTC:20250517T040000
DTSTAMP:20260421T095652
CREATED:20250521T104728Z
LAST-MODIFIED:20250521T104728Z
UID:5686-1747436400-1747454400@oohmilano.it
SUMMARY:CIMIANO GROOVE
DESCRIPTION:Il collettivo @cimianogrooveessentials torna in console con una selezione di house\, funk\, disco e soul in perfetto stile groove-based. Una notte di balli e contaminazioni sonore firmata da creativi di quartiere. Da @mossomilano
URL:https://oohmilano.it/event/cimiano-groove/
LOCATION:Mosso Milano\, Via Angelo Mosso 3\, Milano\, Milano\, Italy
CATEGORIES:MUSICA
ATTACH;FMTTYPE=image/jpeg:https://oohmilano.it/wp-content/uploads/2025/05/SnapInsta.to_474826447_17954466293906857_1939990090681226603_n.jpg
END:VEVENT
END:VCALENDAR