BEGIN:VCALENDAR
VERSION:2.0
PRODID:-//OOHMILANO - ECPv6.15.13.1//NONSGML v1.0//EN
CALSCALE:GREGORIAN
METHOD:PUBLISH
X-WR-CALNAME:OOHMILANO
X-ORIGINAL-URL:https://oohmilano.it
X-WR-CALDESC:Events for OOHMILANO
REFRESH-INTERVAL;VALUE=DURATION:PT1H
X-Robots-Tag:noindex
X-PUBLISHED-TTL:PT1H
BEGIN:VTIMEZONE
TZID:UTC
BEGIN:STANDARD
TZOFFSETFROM:+0000
TZOFFSETTO:+0000
TZNAME:UTC
DTSTART:20240101T000000
END:STANDARD
END:VTIMEZONE
BEGIN:VEVENT
DTSTART;TZID=UTC:20250520T150000
DTEND;TZID=UTC:20250520T173000
DTSTAMP:20260421T083342
CREATED:20250521T105241Z
LAST-MODIFIED:20250521T105241Z
UID:5694-1747753200-1747762200@oohmilano.it
SUMMARY:Bhutan - Il paese della felicità
DESCRIPTION:“Bhutan – Il paese della felicità” a @spaziocinema segue Amber\, impegnata in un’inchiesta per misurare la Felicità Nazionale Lorda in Bhutan. Attraverso visite porta a porta\, esplora il benessere dei suoi concittadini\, offrendo uno sguardo intimo sulla società bhutanese. Un racconto tra documentario e riflessione sociale.
URL:https://oohmilano.it/event/bhutan-il-paese-della-felicita/
LOCATION:Anteo CityLife\, Piazza Tre Torri 1l\, Milano
CATEGORIES:SPETTACOLO
ATTACH;FMTTYPE=image/jpeg:https://oohmilano.it/wp-content/uploads/2025/05/coverlg_home.jpg
END:VEVENT
BEGIN:VEVENT
DTSTART;TZID=UTC:20250520T203000
DTEND;TZID=UTC:20250520T220000
DTSTAMP:20260421T083342
CREATED:20250514T150748Z
LAST-MODIFIED:20250514T150748Z
UID:5674-1747773000-1747778400@oohmilano.it
SUMMARY:WINE CLUB
DESCRIPTION:Degustazione alla cieca per scoprire 3 vini e affinare il palato con un sommelier d’eccellenza da @21houseofstories.cittastudi.
URL:https://oohmilano.it/event/wine-club/
LOCATION:21 House of Stories Città Studi\, Via Enrico Nöe 24\, Milano
ATTACH;FMTTYPE=image/jpeg:https://oohmilano.it/wp-content/uploads/2025/05/74e59f55ecf802d0d738469a48bf8881.jpg
END:VEVENT
END:VCALENDAR