BEGIN:VCALENDAR
VERSION:2.0
PRODID:-//OOHMILANO - ECPv6.15.13.1//NONSGML v1.0//EN
CALSCALE:GREGORIAN
METHOD:PUBLISH
X-ORIGINAL-URL:https://oohmilano.it
X-WR-CALDESC:Events for OOHMILANO
REFRESH-INTERVAL;VALUE=DURATION:PT1H
X-Robots-Tag:noindex
X-PUBLISHED-TTL:PT1H
BEGIN:VTIMEZONE
TZID:UTC
BEGIN:STANDARD
TZOFFSETFROM:+0000
TZOFFSETTO:+0000
TZNAME:UTC
DTSTART:20240101T000000
END:STANDARD
END:VTIMEZONE
BEGIN:VEVENT
DTSTART;VALUE=DATE:20250522
DTEND;VALUE=DATE:20250523
DTSTAMP:20260421T095734
CREATED:20250521T101301Z
LAST-MODIFIED:20250703T101506Z
UID:5751-1747872000-1747958399@oohmilano.it
SUMMARY:Mario Giacomelli
DESCRIPTION:A @palazzorealemilano Mario Giacomelli in una mostra dedicata al suo straordinario lavoro fotografico tra realtà\, memoria e astrazione.
URL:https://oohmilano.it/event/mario-giacomelli/
LOCATION:Palazzo Reale\, Piazza del Duomo\, 12\, Milano
CATEGORIES:ARTE
ATTACH;FMTTYPE=image/avif:https://oohmilano.it/wp-content/uploads/2025/07/domus-giacomelli-milano-6.avif
END:VEVENT
BEGIN:VEVENT
DTSTART;TZID=UTC:20250522T180000
DTEND;TZID=UTC:20250523T010000
DTSTAMP:20260421T095734
CREATED:20250521T101101Z
LAST-MODIFIED:20250703T101258Z
UID:5748-1747936800-1747962000@oohmilano.it
SUMMARY:Polifonic: CITY ECHOES
DESCRIPTION:Con “CITY ECHOES” esplorate le metamorfosi della voce femminile nella musica contemporanea\, con la sperimentazione di @floraytw.
URL:https://oohmilano.it/event/polifonic-city-echoes/
LOCATION:Voce Triennale\, Viale Emilio Alemagna 6\, Milano
CATEGORIES:MUSICA
ATTACH;FMTTYPE=image/jpeg:https://oohmilano.it/wp-content/uploads/2025/07/@delfino_sl-dsl__studio-DSL09748-Modifica-scaled-1.jpg
END:VEVENT
BEGIN:VEVENT
DTSTART;TZID=UTC:20250522T193000
DTEND;TZID=UTC:20250522T230000
DTSTAMP:20260421T095734
CREATED:20250522T163751Z
LAST-MODIFIED:20250720T164035Z
UID:6334-1747942200-1747954800@oohmilano.it
SUMMARY:Disaronno Bar x Caffè degli Artisti
DESCRIPTION:Nel fascino rétro del @caffe_degli_artisti_7\, arriva il @disaronno_official BAR in versione urbana e creativa. Protagonista della serata il cocktail “Dis is art”\, tra brandy caldo\, mandorla e spezie. Ai piatti @ its_kevinlopes con un mix di beat notturni ed elettro soulful.
URL:https://oohmilano.it/event/disaronno-bar-x-caffe-degli-artisti/
LOCATION:Caffè degli artisti\, Viale Abruzzi 23\, Milano
CATEGORIES:FOOD
ATTACH;FMTTYPE=image/jpeg:https://oohmilano.it/wp-content/uploads/2025/07/ra25-Caffe-degli-Artisti-photo-2021-09-969757-1.jpg
END:VEVENT
BEGIN:VEVENT
DTSTART;TZID=UTC:20250522T200000
DTEND;TZID=UTC:20250522T223000
DTSTAMP:20260421T095734
CREATED:20250521T101514Z
LAST-MODIFIED:20250703T101742Z
UID:5753-1747944000-1747953000@oohmilano.it
SUMMARY:Turbine Magazine -- Visioni
DESCRIPTION:Il nuovo numero di @turbine.magazine – Visioni in un vento con DJ set\, proiezioni di corti e birrette omaggio.
URL:https://oohmilano.it/event/turbine-magazine-visioni/
LOCATION:OPEN Casello\, Piazzale Antonio Cantore 14\, Milano
CATEGORIES:LIFESTYLE
ATTACH;FMTTYPE=image/jpeg:https://oohmilano.it/wp-content/uploads/2025/07/SnapInsta.to_496718957_17905387050154071_8174214806644754639_n.jpg
END:VEVENT
BEGIN:VEVENT
DTSTART;TZID=UTC:20250522T200000
DTEND;TZID=UTC:20250522T230000
DTSTAMP:20260421T095734
CREATED:20250521T101751Z
LAST-MODIFIED:20250703T101942Z
UID:5755-1747944000-1747954800@oohmilano.it
SUMMARY:Siciliani d’Africa + talk
DESCRIPTION:Proiezione del docufilm “Siciliani d’Africa” e talk sul progetto “Shluq”da @leila.noto.
URL:https://oohmilano.it/event/siciliani-dafrica-talk/
LOCATION:leila.nolo\, via Termopili 29\, 20127\, Milano
CATEGORIES:SPETTACOLO
ATTACH;FMTTYPE=image/jpeg:https://oohmilano.it/wp-content/uploads/2025/07/SnapInsta.to_495311539_18504262255033178_854929161020355765_n.jpg
END:VEVENT
END:VCALENDAR