BEGIN:VCALENDAR
VERSION:2.0
PRODID:-//OOHMILANO - ECPv6.15.13.1//NONSGML v1.0//EN
CALSCALE:GREGORIAN
METHOD:PUBLISH
X-ORIGINAL-URL:https://oohmilano.it
X-WR-CALDESC:Events for OOHMILANO
REFRESH-INTERVAL;VALUE=DURATION:PT1H
X-Robots-Tag:noindex
X-PUBLISHED-TTL:PT1H
BEGIN:VTIMEZONE
TZID:UTC
BEGIN:STANDARD
TZOFFSETFROM:+0000
TZOFFSETTO:+0000
TZNAME:UTC
DTSTART:20240101T000000
END:STANDARD
END:VTIMEZONE
BEGIN:VEVENT
DTSTART;TZID=UTC:20250523T210000
DTEND;TZID=UTC:20250524T013000
DTSTAMP:20260421T095638
CREATED:20250521T102128Z
LAST-MODIFIED:20250703T102302Z
UID:5761-1748034000-1748050200@oohmilano.it
SUMMARY:Vinyl Night
DESCRIPTION:“Vinyl Night” da @ostellobello.milanoduomo vi porta nel cuore sonoro degli anni ’60–’80.
URL:https://oohmilano.it/event/vinyl-night/
LOCATION:Ostello Bello Milano Duomo\, Via Medici 4\, Milano
CATEGORIES:MUSICA
ATTACH;FMTTYPE=image/jpeg:https://oohmilano.it/wp-content/uploads/2025/05/efca76db9555b98ea63f31b73f6fa6ab.jpg
END:VEVENT
BEGIN:VEVENT
DTSTART;TZID=UTC:20250523T230000
DTEND;TZID=UTC:20250524T030000
DTSTAMP:20260421T095638
CREATED:20250703T102412Z
LAST-MODIFIED:20250703T102412Z
UID:5763-1748041200-1748055600@oohmilano.it
SUMMARY:SOLOHIT
DESCRIPTION:@solohit.party è il party karaoke di @mossomilano: una notte spensierata tra hit nostalgiche\, balli sudati e cori.
URL:https://oohmilano.it/event/solohit-2/
LOCATION:Mosso\, Via Angelo Mosso\, Milano
CATEGORIES:MUSICA
ATTACH;FMTTYPE=image/jpeg:https://oohmilano.it/wp-content/uploads/2025/07/SnapInsta.to_499411810_18005246771781070_5487260690779014051_n.jpg
END:VEVENT
BEGIN:VEVENT
DTSTART;TZID=UTC:20250523T233000
DTEND;TZID=UTC:20250524T030000
DTSTAMP:20260421T095638
CREATED:20250523T164039Z
LAST-MODIFIED:20250720T164220Z
UID:6344-1748043000-1748055600@oohmilano.it
SUMMARY:Folamour
DESCRIPTION:Ai @magazzinigeneralimilano\, @folamour chiude la stagione con una notte all’insegna dello stile e del groove. Tra funky\, soul\, house e disco\, il suo set è un viaggio musicale che mescola eleganza francese e vibrazioni british. Preparatevi a ballare come se foste in una Boiler Room.
URL:https://oohmilano.it/event/folamour/
LOCATION:Magazzini Generali\, Via Pietrasanta 16\, Milano
CATEGORIES:MUSICA
ATTACH;FMTTYPE=image/jpeg:https://oohmilano.it/wp-content/uploads/2025/07/folamour-al-fabrique-1.jpeg
END:VEVENT
BEGIN:VEVENT
DTSTART;VALUE=DATE:20250524
DTEND;VALUE=DATE:20250525
DTSTAMP:20260421T095638
CREATED:20250521T102432Z
LAST-MODIFIED:20250703T102628Z
UID:5765-1748044800-1748131199@oohmilano.it
SUMMARY:Beyond BOLD! --Workshop di Letterpress
DESCRIPTION:Scoprite il fascino della stampa artigianale con “Beyond BOLD!”\, il workshop di letterpress da @bonvini1909.
URL:https://oohmilano.it/event/beyond-bold-workshop-di-letterpress/
LOCATION:Bonvini 1909\, Via Tagliamento 1\, 20139\, Milano
CATEGORIES:LIFESTYLE
ATTACH;FMTTYPE=image/jpeg:https://oohmilano.it/wp-content/uploads/2025/07/credits-Emanuele-Cardinali.jpg
END:VEVENT
BEGIN:VEVENT
DTSTART;TZID=UTC:20250524T163000
DTEND;TZID=UTC:20250524T183000
DTSTAMP:20260421T095638
CREATED:20250524T164224Z
LAST-MODIFIED:20250720T164351Z
UID:6346-1748104200-1748111400@oohmilano.it
SUMMARY:Incontro con Matthew Barney
DESCRIPTION:Matthew Barney arriva al Cinema Godard per un incontro esclusivo dedicato al suo visionario ciclo Cremaster. Dialoga con Paolo Moretti e Katya Inozemtseva in un talk che esplora i confini tra cinema e arti visive. Un’occasione rara per ascoltare dal vivo uno degli artisti più iconici del nostro tempo.
URL:https://oohmilano.it/event/incontro-con-matthew-barney/
LOCATION:Cinema Godard  – Fondazione Prada\, Largo Isarco 2\, Milano
CATEGORIES:SPETTACOLO
ATTACH;FMTTYPE=image/webp:https://oohmilano.it/wp-content/uploads/2025/07/de5d7be4-b22f-4bff-b03d-be0c11ef422b.jpg-1.webp
END:VEVENT
BEGIN:VEVENT
DTSTART;TZID=UTC:20250524T163000
DTEND;TZID=UTC:20250524T190000
DTSTAMP:20260421T095638
CREATED:20250521T103117Z
LAST-MODIFIED:20250703T103136Z
UID:5771-1748104200-1748113200@oohmilano.it
SUMMARY:PAPmusic – Animation for Fashion
DESCRIPTION:Con @papmusicofficial– Animation for Fashion vivete un’irriverente avventura animata nel mondo della moda\, tra estetica digital-pop e satira aziendale.
URL:https://oohmilano.it/event/papmusic-animation-for-fashion/
LOCATION:Cinema Mexico\, Via Savona 57\, 20144\, Milano
CATEGORIES:SPETTACOLO
ATTACH;FMTTYPE=image/webp:https://oohmilano.it/wp-content/uploads/2025/07/PAPmusic_immagine-del-film-1387x2048-1.webp
END:VEVENT
BEGIN:VEVENT
DTSTART;TZID=UTC:20250524T163000
DTEND;TZID=UTC:20250524T230000
DTSTAMP:20260421T095638
CREATED:20250521T102641Z
LAST-MODIFIED:20250703T102853Z
UID:5768-1748104200-1748127600@oohmilano.it
SUMMARY:Merlata Food Parade
DESCRIPTION:“Merlata Food Parade” da @merlatabloommilano vi aspettano sfide ai fornelli\, talk sul futuro del cibo e laboratori.
URL:https://oohmilano.it/event/merlata-food-parade/
LOCATION:Merlata Bloom\, Via Gottlieb Wilhelm Daimler\, 61\, 20151\, Milano
CATEGORIES:FOOD
ATTACH;FMTTYPE=image/jpeg:https://oohmilano.it/wp-content/uploads/2025/07/Merlata-bloom-ristoranti-al-piano-1280x709-1.jpg
END:VEVENT
END:VCALENDAR