BEGIN:VCALENDAR
VERSION:2.0
PRODID:-//OOHMILANO - ECPv6.15.13.1//NONSGML v1.0//EN
CALSCALE:GREGORIAN
METHOD:PUBLISH
X-WR-CALNAME:OOHMILANO
X-ORIGINAL-URL:https://oohmilano.it
X-WR-CALDESC:Events for OOHMILANO
REFRESH-INTERVAL;VALUE=DURATION:PT1H
X-Robots-Tag:noindex
X-PUBLISHED-TTL:PT1H
BEGIN:VTIMEZONE
TZID:UTC
BEGIN:STANDARD
TZOFFSETFROM:+0000
TZOFFSETTO:+0000
TZNAME:UTC
DTSTART:20240101T000000
END:STANDARD
END:VTIMEZONE
BEGIN:VEVENT
DTSTART;TZID=UTC:20250525T090000
DTEND;TZID=UTC:20250525T200000
DTSTAMP:20260421T094920
CREATED:20250525T164353Z
LAST-MODIFIED:20250720T164626Z
UID:6348-1748163600-1748203200@oohmilano.it
SUMMARY:Gastronomika Festival 2025
DESCRIPTION:“Gastronomika Festival 2025” torna ai @bagnimisteriosi con la sua quarta edizione e una nuova visione: riflettere sul presente per immaginare il futuro della scena enogastronomica italiana. Un’intera giornata di talk\, degustazioni e incontri tra accoglienza\, mixology e hôtellerie.
URL:https://oohmilano.it/event/gastronomika-festival-2025/
LOCATION:Bagni Misteriosi\, Via C. Botta 18/A\, Milano
CATEGORIES:FOOD
ATTACH;FMTTYPE=image/png:https://oohmilano.it/wp-content/uploads/2025/07/group-87-1.png
END:VEVENT
BEGIN:VEVENT
DTSTART;TZID=UTC:20250525T110000
DTEND;TZID=UTC:20250525T123000
DTSTAMP:20260421T094920
CREATED:20250521T103153Z
LAST-MODIFIED:20250703T103442Z
UID:5774-1748170800-1748176200@oohmilano.it
SUMMARY:Laboratorio di Yoga
DESCRIPTION:Ritrovate il vostro equilibrio con il laboratorio di yoga da @lomdopolavoro.
URL:https://oohmilano.it/event/laboratorio-di-yoga/
LOCATION:Lom Dopolavoro\, Via Galileo Ferraris 1\, Milano
CATEGORIES:SPORT
ATTACH;FMTTYPE=image/jpeg:https://oohmilano.it/wp-content/uploads/2025/07/530be1ab3b6184dd15e0e5a0b6012ac8.jpg
END:VEVENT
BEGIN:VEVENT
DTSTART;TZID=UTC:20250525T140000
DTEND;TZID=UTC:20250525T233000
DTSTAMP:20260421T094920
CREATED:20250521T131123Z
LAST-MODIFIED:20250703T131345Z
UID:5776-1748181600-1748215800@oohmilano.it
SUMMARY:MI AMI x APE
DESCRIPTION:@miami_fest x @ape_milano chiude la 19ª edizione con una grande festa open air al Parco Ravizza.
URL:https://oohmilano.it/event/mi-ami-x-ape/
LOCATION:Parco Ravizza\, Viale Toscana\, Milano
CATEGORIES:MUSICA
ATTACH;FMTTYPE=image/jpeg:https://oohmilano.it/wp-content/uploads/2025/07/APE-025.jpg
END:VEVENT
BEGIN:VEVENT
DTSTART;TZID=UTC:20250525T193000
DTEND;TZID=UTC:20250525T220000
DTSTAMP:20260421T094920
CREATED:20250521T131353Z
LAST-MODIFIED:20250703T132340Z
UID:5778-1748201400-1748210400@oohmilano.it
SUMMARY:Speed Date
DESCRIPTION:Speed Date da @donvince_ilnonnodicapuano: una serata leggera e stimolante per conoscere nuove persone dal vivo.
URL:https://oohmilano.it/event/speed-date/
LOCATION:Don Vincè – Il Nonno di Capuano\, 18 Via Aristotile Fioravanti 20154\, Milano
CATEGORIES:LIFESTYLE
ATTACH;FMTTYPE=image/jpeg:https://oohmilano.it/wp-content/uploads/2025/07/9f9dcd47203b67328c2860088b06906b.jpg
END:VEVENT
BEGIN:VEVENT
DTSTART;TZID=UTC:20250525T203000
DTEND;TZID=UTC:20250525T230000
DTSTAMP:20260421T094920
CREATED:20250525T164628Z
LAST-MODIFIED:20250720T164852Z
UID:6352-1748205000-1748214000@oohmilano.it
SUMMARY:Con tanto amore\, Mario
DESCRIPTION:Da @zonaindipendenteartistica“Con tanto amore\, Mario” è uno spettacolo muto e in bianco e nero\, che racconta la fine (o il nuovo inizio) di una vita ordinaria. Un viaggio poetico e surreale nell’universo di un ex postino\, firmato e interpretato da paosaggi.
URL:https://oohmilano.it/event/con-tanto-amore-mario/
LOCATION:Z.I.A. | Zona Indipendente Artistica\, Via F. de Sanctis 43\, Milano
CATEGORIES:SPETTACOLO
ATTACH;FMTTYPE=image/jpeg:https://oohmilano.it/wp-content/uploads/2025/07/Con_tanto_amore__mario._ph_ettore_lambertucci.original-1.jpg
END:VEVENT
END:VCALENDAR