BEGIN:VCALENDAR
VERSION:2.0
PRODID:-//OOHMILANO - ECPv6.15.13.1//NONSGML v1.0//EN
CALSCALE:GREGORIAN
METHOD:PUBLISH
X-WR-CALNAME:OOHMILANO
X-ORIGINAL-URL:https://oohmilano.it
X-WR-CALDESC:Events for OOHMILANO
REFRESH-INTERVAL;VALUE=DURATION:PT1H
X-Robots-Tag:noindex
X-PUBLISHED-TTL:PT1H
BEGIN:VTIMEZONE
TZID:UTC
BEGIN:STANDARD
TZOFFSETFROM:+0000
TZOFFSETTO:+0000
TZNAME:UTC
DTSTART:20240101T000000
END:STANDARD
END:VTIMEZONE
BEGIN:VEVENT
DTSTART;VALUE=DATE:20250612
DTEND;VALUE=DATE:20250616
DTSTAMP:20260421T094833
CREATED:20250612T173350Z
LAST-MODIFIED:20250720T173628Z
UID:6394-1749686400-1750031999@oohmilano.it
SUMMARY:Malles. Shaping stories
DESCRIPTION:Scopri “Malles. Shaping Stories” alle @officinesaffi una mostra di ceramiche uniche realizzate dalle artigiane di Sejnane\, in Tunisia. Le opere in esposizione raccontano storie antiche attraverso forme contemporanee\, in una tradizione che l’UNESCO ha riconosciuto patrimonio culturale immateriale dell’umanità. Un’occasione per immergersi nell’arte femminile e nella cultura mediterranea.
URL:https://oohmilano.it/event/malles-shaping-stories/
LOCATION:Fondazione Officine Saffi\, Via Giovanni Battista Niccolini 35a\, Milano
CATEGORIES:ARTE
ATTACH;FMTTYPE=image/png:https://oohmilano.it/wp-content/uploads/2025/07/Schermata-2025-06-09-alle-17.34.16-1.png
END:VEVENT
BEGIN:VEVENT
DTSTART;TZID=UTC:20250612T180000
DTEND;TZID=UTC:20250612T210000
DTSTAMP:20260421T094833
CREATED:20250611T192032Z
LAST-MODIFIED:20250703T192158Z
UID:5939-1749751200-1749762000@oohmilano.it
SUMMARY:Storie dipinte
DESCRIPTION:@antoniocolombogallery inaugura “Storie dipinte”una collettiva tra reale e surreale\, dove la pittura racconta come nelle favole.
URL:https://oohmilano.it/event/storie-dipinte/
LOCATION:Antonio Colombo Arte Contemporanea\, Via Solferino 44\, Milano
CATEGORIES:ARTE
ATTACH;FMTTYPE=image/jpeg:https://oohmilano.it/wp-content/uploads/2025/07/SnapInsta.to_503754987_18531513808005915_869656113227693712_n.jpg
END:VEVENT
BEGIN:VEVENT
DTSTART;TZID=UTC:20250612T193000
DTEND;TZID=UTC:20250612T230000
DTSTAMP:20260421T094833
CREATED:20250611T192201Z
LAST-MODIFIED:20250703T192402Z
UID:5941-1749756600-1749769200@oohmilano.it
SUMMARY:Disaronno Bar x Salumeria del Design
DESCRIPTION:“disaronno_official Bar x @salumeriadeldesign” con cocktail d’autore\, vibe vintage e il sound visionario di @luwei.vv
URL:https://oohmilano.it/event/disaronno-bar-x-salumeria-del-design/
LOCATION:Salumeria del design\, Via Cecilio Stazio 18\, Milano
CATEGORIES:FOOD
ATTACH;FMTTYPE=image/jpeg:https://oohmilano.it/wp-content/uploads/2025/07/DSC8172-2-1-scaled-1.jpg
END:VEVENT
BEGIN:VEVENT
DTSTART;TZID=UTC:20250612T220000
DTEND;TZID=UTC:20250613T010000
DTSTAMP:20260421T094833
CREATED:20250611T192433Z
LAST-MODIFIED:20250703T192631Z
UID:5945-1749765600-1749776400@oohmilano.it
SUMMARY:Jam at Torre Rooftop
DESCRIPTION:“Jam at Torre Rooftop” da @torre_ristorantecon dj set elettronico sospeso tra skyline e cocktail d’autore\, sulla terrazza di @fondazioneprada.
URL:https://oohmilano.it/event/jam-at-torre-rooftop/
LOCATION:Torre\, Via Lorenzini 14\, Milano
CATEGORIES:FOOD
ATTACH;FMTTYPE=image/jpeg:https://oohmilano.it/wp-content/uploads/2025/07/GPS05494-scaled-1.jpg
END:VEVENT
END:VCALENDAR