BEGIN:VCALENDAR
VERSION:2.0
PRODID:-//OOHMILANO - ECPv6.15.13.1//NONSGML v1.0//EN
CALSCALE:GREGORIAN
METHOD:PUBLISH
X-ORIGINAL-URL:https://oohmilano.it
X-WR-CALDESC:Events for OOHMILANO
REFRESH-INTERVAL;VALUE=DURATION:PT1H
X-Robots-Tag:noindex
X-PUBLISHED-TTL:PT1H
BEGIN:VTIMEZONE
TZID:UTC
BEGIN:STANDARD
TZOFFSETFROM:+0000
TZOFFSETTO:+0000
TZNAME:UTC
DTSTART:20240101T000000
END:STANDARD
END:VTIMEZONE
BEGIN:VEVENT
DTSTART;VALUE=DATE:20250612
DTEND;VALUE=DATE:20250616
DTSTAMP:20260421T085250
CREATED:20250612T173350Z
LAST-MODIFIED:20250720T173628Z
UID:6394-1749686400-1750031999@oohmilano.it
SUMMARY:Malles. Shaping stories
DESCRIPTION:Scopri “Malles. Shaping Stories” alle @officinesaffi una mostra di ceramiche uniche realizzate dalle artigiane di Sejnane\, in Tunisia. Le opere in esposizione raccontano storie antiche attraverso forme contemporanee\, in una tradizione che l’UNESCO ha riconosciuto patrimonio culturale immateriale dell’umanità. Un’occasione per immergersi nell’arte femminile e nella cultura mediterranea.
URL:https://oohmilano.it/event/malles-shaping-stories/
LOCATION:Fondazione Officine Saffi\, Via Giovanni Battista Niccolini 35a\, Milano
CATEGORIES:ARTE
ATTACH;FMTTYPE=image/png:https://oohmilano.it/wp-content/uploads/2025/07/Schermata-2025-06-09-alle-17.34.16-1.png
END:VEVENT
BEGIN:VEVENT
DTSTART;VALUE=DATE:20250613
DTEND;VALUE=DATE:20250616
DTSTAMP:20260421T085250
CREATED:20250613T173632Z
LAST-MODIFIED:20250720T173739Z
UID:6403-1749772800-1750031999@oohmilano.it
SUMMARY:Festival Elementi
DESCRIPTION:Da @maremilano il festival dedicato alla pizza con i migliori pizzaioli d’Italia. Degustazioni\, workshop\, laboratori per bambini\, dj set e tante attività per tutti. Un’occasione per scoprire sapori diversi e vivere un’esperienza gastronomica coinvolgente.
URL:https://oohmilano.it/event/festival-elementi/
LOCATION:Mare Culturale Urbano – Cascina Torrette\, Via Giuseppe Gabetti\, 15\, Milano
CATEGORIES:FOOD
ATTACH;FMTTYPE=image/jpeg:https://oohmilano.it/wp-content/uploads/2025/07/mare-culturale-urbano-3-1.jpg
END:VEVENT
BEGIN:VEVENT
DTSTART;TZID=UTC:20250615T170000
DTEND;TZID=UTC:20250615T190000
DTSTAMP:20260421T085250
CREATED:20250615T174319Z
LAST-MODIFIED:20250720T174424Z
UID:6427-1750006800-1750014000@oohmilano.it
SUMMARY:CINETRUSCO
DESCRIPTION:Alla @fondazioneluigirovati CINETRUSCO è un ciclo di proiezioni dedicato alla scoperta del mondo etrusco nel cinema\, tra tombe misteriose\, danze arcaiche e avventure di tombaroli. Un viaggio affascinante tra paesaggi rupestri e musei polverosi\, curato dall’archeologo Maurizio Harari.
URL:https://oohmilano.it/event/cinetrusco/
LOCATION:Fondazione Luigi Rovati\, Corso Venezia 52\, Milano\, Italy
CATEGORIES:SPETTACOLO
ATTACH;FMTTYPE=image/png:https://oohmilano.it/wp-content/uploads/2025/07/main-4-1.png
END:VEVENT
BEGIN:VEVENT
DTSTART;TZID=UTC:20250615T170000
DTEND;TZID=UTC:20250615T220000
DTSTAMP:20260421T085250
CREATED:20250611T194828Z
LAST-MODIFIED:20250703T194942Z
UID:5960-1750006800-1750024800@oohmilano.it
SUMMARY:Sunday OFF
DESCRIPTION:Da @base_milano “Sunday OFF” con dj set\, ascolti narrati e incontri sorprendenti\, una domenica alternativa.
URL:https://oohmilano.it/event/sunday-off-2/
LOCATION:BASE Milano\, Via Bergognone 34\, Milano
CATEGORIES:LIFESTYLE
ATTACH;FMTTYPE=image/jpeg:https://oohmilano.it/wp-content/uploads/2025/07/base-milano-1024x680-1.jpg
END:VEVENT
BEGIN:VEVENT
DTSTART;TZID=UTC:20250615T180000
DTEND;TZID=UTC:20250615T200000
DTSTAMP:20260421T085250
CREATED:20250611T194945Z
LAST-MODIFIED:20250703T195142Z
UID:5962-1750010400-1750017600@oohmilano.it
SUMMARY:Mario Amura - World in My Eyes
DESCRIPTION:La proiezione di “Mario Amura – World in My Eyes” da @spaziocinema: una performance visiva dal vivo tra fotografia e cinema.
URL:https://oohmilano.it/event/mario-amura-world-in-my-eyes/
LOCATION:Palazzo del Cinema Anteo\, Piazza Venticinque Aprile 8\, Milano
CATEGORIES:SPETTACOLO
ATTACH;FMTTYPE=image/jpeg:https://oohmilano.it/wp-content/uploads/2025/07/image_preview-e1751572212207.jpg
END:VEVENT
END:VCALENDAR