BEGIN:VCALENDAR
VERSION:2.0
PRODID:-//OOHMILANO - ECPv6.15.13.1//NONSGML v1.0//EN
CALSCALE:GREGORIAN
METHOD:PUBLISH
X-WR-CALNAME:OOHMILANO
X-ORIGINAL-URL:https://oohmilano.it
X-WR-CALDESC:Events for OOHMILANO
REFRESH-INTERVAL;VALUE=DURATION:PT1H
X-Robots-Tag:noindex
X-PUBLISHED-TTL:PT1H
BEGIN:VTIMEZONE
TZID:UTC
BEGIN:STANDARD
TZOFFSETFROM:+0000
TZOFFSETTO:+0000
TZNAME:UTC
DTSTART:20240101T000000
END:STANDARD
END:VTIMEZONE
BEGIN:VEVENT
DTSTART;TZID=UTC:20250618T170000
DTEND;TZID=UTC:20250618T220000
DTSTAMP:20260421T094833
CREATED:20250618T195535Z
LAST-MODIFIED:20250703T200203Z
UID:5969-1750266000-1750284000@oohmilano.it
SUMMARY:PLAYGROUND by OUTPUMP
DESCRIPTION:Nove brand emergenti presentano le proprie creazioni con allestimenti unici presso il locale @dots.milano\, un’esperienza curata da @outpump.
URL:https://oohmilano.it/event/playground-by-outpump/
LOCATION:DOTS\, Via Andrea Salaino 7\, Milano
CATEGORIES:LIFESTYLE
ATTACH;FMTTYPE=image/jpeg:https://oohmilano.it/wp-content/uploads/2025/07/SnapInsta.to_490193258_18502102270061311_6181161718032334005_n.jpg
END:VEVENT
BEGIN:VEVENT
DTSTART;TZID=UTC:20250618T183000
DTEND;TZID=UTC:20250618T213000
DTSTAMP:20260421T094833
CREATED:20250618T200204Z
LAST-MODIFIED:20250703T200849Z
UID:5988-1750271400-1750282200@oohmilano.it
SUMMARY:UNO IN DUE: Nico Vascellari - Nicole Colombo
DESCRIPTION:@viastampa_milano ospita la chiacchierata informale “Uno in Due” con @nicovascellari e @niki_colombo in dialogo con @corradobeldi\, tra arte e socialità in stile aperitivo.
URL:https://oohmilano.it/event/uno-in-due-nico-vascellari-nicole-colombo/
LOCATION:Via Stampa\, Via Stampa 8\, Milano
CATEGORIES:ARTE
ATTACH;FMTTYPE=image/jpeg:https://oohmilano.it/wp-content/uploads/2025/07/unnamed-6-e1751572980493.jpg
END:VEVENT
BEGIN:VEVENT
DTSTART;TZID=UTC:20250618T190000
DTEND;TZID=UTC:20250618T230000
DTSTAMP:20260421T094833
CREATED:20250618T201657Z
LAST-MODIFIED:20250703T201841Z
UID:5993-1750273200-1750287600@oohmilano.it
SUMMARY:CINEMA IN ANFITEATRO CON FILMMAKER E FILM TV
DESCRIPTION:@nuovoanfiteatromartesana presenta una rassegna di cinema gratuito all’aperto curata da @filmmakerfest e @filmtvrivista.
URL:https://oohmilano.it/event/cinema-in-anfiteatro-con-filmmaker-e-film-tv/
LOCATION:NAMA – Nuovo Anfiteatro Martesana\, Via Agordat\, Milano
CATEGORIES:SPETTACOLO
ATTACH;FMTTYPE=image/png:https://oohmilano.it/wp-content/uploads/2025/07/ANFITEATRO-MARTESANA.png
END:VEVENT
BEGIN:VEVENT
DTSTART;TZID=UTC:20250618T190000
DTEND;TZID=UTC:20250618T233000
DTSTAMP:20260421T094833
CREATED:20250618T200852Z
LAST-MODIFIED:20250703T203930Z
UID:5991-1750273200-1750289400@oohmilano.it
SUMMARY:DISCO PIANOBAR
DESCRIPTION:@base_milano propone “Disco Pianobar”\, un karaoke con DJ set aperto a tutti.
URL:https://oohmilano.it/event/disco-pianobar/
LOCATION:BASE Milano\, Via Bergognone 34\, Milano
CATEGORIES:MUSICA
END:VEVENT
END:VCALENDAR