BEGIN:VCALENDAR
VERSION:2.0
PRODID:-//OOHMILANO - ECPv6.15.13.1//NONSGML v1.0//EN
CALSCALE:GREGORIAN
METHOD:PUBLISH
X-WR-CALNAME:OOHMILANO
X-ORIGINAL-URL:https://oohmilano.it
X-WR-CALDESC:Events for OOHMILANO
REFRESH-INTERVAL;VALUE=DURATION:PT1H
X-Robots-Tag:noindex
X-PUBLISHED-TTL:PT1H
BEGIN:VTIMEZONE
TZID:UTC
BEGIN:STANDARD
TZOFFSETFROM:+0000
TZOFFSETTO:+0000
TZNAME:UTC
DTSTART:20240101T000000
END:STANDARD
END:VTIMEZONE
BEGIN:VEVENT
DTSTART;TZID=UTC:20250619T210000
DTEND;TZID=UTC:20250620T010000
DTSTAMP:20260421T094823
CREATED:20250618T202029Z
LAST-MODIFIED:20250703T202143Z
UID:5998-1750366800-1750381200@oohmilano.it
SUMMARY:Fontaines DC
DESCRIPTION:@kozelcarroponte ospita i @fontainesband con il loro post-punk intenso ed emotivo.
URL:https://oohmilano.it/event/fontaines-dc/
LOCATION:Carroponte\, Via Luigi Granelli 1\, Milano
CATEGORIES:MUSICA
ATTACH;FMTTYPE=image/jpeg:https://oohmilano.it/wp-content/uploads/2025/07/1900x1900-000000-80-0-0.jpg
END:VEVENT
BEGIN:VEVENT
DTSTART;TZID=UTC:20250620T160000
DTEND;TZID=UTC:20250620T233000
DTSTAMP:20260421T094823
CREATED:20250621T064930Z
LAST-MODIFIED:20250721T065037Z
UID:6439-1750435200-1750462200@oohmilano.it
SUMMARY:LAUD END PRAUD 2025
DESCRIPTION:Da @dopo.space\, @laudendpraud 2025 torna con un’edizione che intreccia moda\, attivismo e cultura queer. Il tema “Queer Nature” celebra la diversità sessuale e di genere nel mondo animale e vegetale. In programma talk\, podcast\, sfilata\, performance drag e DJ set. Il ricavato andrà a sostegno delle persone transgender.
URL:https://oohmilano.it/event/laud-end-praud-2025/
LOCATION:DOPO?\, Via Carlo Boncompagni 51/10\, Milano
CATEGORIES:LIFESTYLE
ATTACH;FMTTYPE=image/avif:https://oohmilano.it/wp-content/uploads/2025/07/laud-end-praud-2024-by-vanadio23-7-68491de249745.jpg-1.avif
END:VEVENT
BEGIN:VEVENT
DTSTART;TZID=UTC:20250620T180000
DTEND;TZID=UTC:20250620T233000
DTSTAMP:20260421T094823
CREATED:20250618T202339Z
LAST-MODIFIED:20250703T202507Z
UID:6004-1750442400-1750462200@oohmilano.it
SUMMARY:La Festa Anni 90 - Party 90
DESCRIPTION:Lo spazio La forgiatura propone “Party 90”: una notte gratuita con hit pop\, dance\, rock e trash anni ’90.
URL:https://oohmilano.it/event/la-festa-anni-90-party-90/
LOCATION:La Forgiatura\, La Forgiatura Via Varesina 162\, Milano
CATEGORIES:MUSICA
ATTACH;FMTTYPE=image/jpeg:https://oohmilano.it/wp-content/uploads/2025/07/download_2.jpg
END:VEVENT
BEGIN:VEVENT
DTSTART;TZID=UTC:20250620T180000
DTEND;TZID=UTC:20250620T233000
DTSTAMP:20260421T094823
CREATED:20250618T202508Z
LAST-MODIFIED:20250703T202651Z
UID:6007-1750442400-1750462200@oohmilano.it
SUMMARY:Soul Medicine Open Air
DESCRIPTION:@korabeachclub ospita “@soulmedicine_milano Open Air”\, una sunset session con DJ set e aperitivo al tramonto.
URL:https://oohmilano.it/event/soul-medicine-open-air/
LOCATION:Kora Beach Club\, Via Circonvallazione Est 19\, Segrate (MI)
CATEGORIES:MUSICA
ATTACH;FMTTYPE=image/jpeg:https://oohmilano.it/wp-content/uploads/2025/07/eventaddicted-digital-magazine-organizzazione-eventi-Milano-beach-club-Idroscalo-Kora-spiaggia-2-683x1024-1.jpg
END:VEVENT
BEGIN:VEVENT
DTSTART;TZID=UTC:20250620T213000
DTEND;TZID=UTC:20250620T233000
DTSTAMP:20260421T094823
CREATED:20250618T202653Z
LAST-MODIFIED:20250703T202807Z
UID:6010-1750455000-1750462200@oohmilano.it
SUMMARY:Acqua benedetta
DESCRIPTION:@cinemabeltrade proietta “Acqua Benedetta”\, documentario di Antonio Petrianni sul rapporto tra corpo\, natura e malattia.
URL:https://oohmilano.it/event/acqua-benedetta/
LOCATION:Cinema Beltrade\, Via Nino Oxilia 10\, Milano
CATEGORIES:SPETTACOLO
ATTACH;FMTTYPE=image/jpeg:https://oohmilano.it/wp-content/uploads/2025/07/Acqua-Benedetta-documentario-scaled-1.jpg
END:VEVENT
END:VCALENDAR