BEGIN:VCALENDAR
VERSION:2.0
PRODID:-//OOHMILANO - ECPv6.15.13.1//NONSGML v1.0//EN
CALSCALE:GREGORIAN
METHOD:PUBLISH
X-ORIGINAL-URL:https://oohmilano.it
X-WR-CALDESC:Events for OOHMILANO
REFRESH-INTERVAL;VALUE=DURATION:PT1H
X-Robots-Tag:noindex
X-PUBLISHED-TTL:PT1H
BEGIN:VTIMEZONE
TZID:UTC
BEGIN:STANDARD
TZOFFSETFROM:+0000
TZOFFSETTO:+0000
TZNAME:UTC
DTSTART:20240101T000000
END:STANDARD
END:VTIMEZONE
BEGIN:VEVENT
DTSTART;TZID=UTC:20250621T230000
DTEND;TZID=UTC:20250622T033000
DTSTAMP:20260421T095638
CREATED:20250621T065112Z
LAST-MODIFIED:20250721T065224Z
UID:6441-1750546800-1750563000@oohmilano.it
SUMMARY:Lacrima
DESCRIPTION:Al @circolomagnolia torna “Lacrima” che compie due anni e lo festeggia con una serata dedicata all’indie italiano.\nIn scaletta i grandi classici di Calcutta\, Gazzelle\, Frah Quintale\, ma anche nomi nuovi come Giuse The Lizia e LA SAD.\nUn mix di malinconia e cori da urlare a squarciagola.
URL:https://oohmilano.it/event/lacrima/
LOCATION:Circolo Magnolia\, Via Circonvallazione Idroscalo 41\, Milano
CATEGORIES:MUSICA
ATTACH;FMTTYPE=image/jpeg:https://oohmilano.it/wp-content/uploads/2025/07/lacrima-al-fabrique-2-1.jpg
END:VEVENT
BEGIN:VEVENT
DTSTART;TZID=UTC:20250621T233000
DTEND;TZID=UTC:20250622T040000
DTSTAMP:20260421T095638
CREATED:20250618T203140Z
LAST-MODIFIED:20250703T203307Z
UID:6018-1750548600-1750564800@oohmilano.it
SUMMARY:Club 44 closing party
DESCRIPTION:@main_club closing party: line-up esplosiva per l’ultima notte del club.
URL:https://oohmilano.it/event/club-44-closing-party/
LOCATION:Main Club – Club 44\, Via Carlo Boncompagni 44\, Milano
CATEGORIES:MUSICA
ATTACH;FMTTYPE=image/jpeg:https://oohmilano.it/wp-content/uploads/2025/07/club-44-club-milano-xceed-2850.jpg
END:VEVENT
BEGIN:VEVENT
DTSTART;TZID=UTC:20250622T100000
DTEND;TZID=UTC:20250622T170000
DTSTAMP:20260421T095638
CREATED:20250618T203309Z
LAST-MODIFIED:20250703T203432Z
UID:6020-1750586400-1750611600@oohmilano.it
SUMMARY:BIRRARDITO
DESCRIPTION:Piazza Tirana accoglie il torneo “Birrardito”\, calcio a 5 inclusivo tra festa\, musica\, cibo e convivialità.
URL:https://oohmilano.it/event/birrardito/
LOCATION:Piazza Tirana\, Piazza Tirana\, Milano
CATEGORIES:SPORT
ATTACH;FMTTYPE=image/jpeg:https://oohmilano.it/wp-content/uploads/2025/07/WhatsApp-Image-2025-05-27-at-14.14.35-1.jpg
END:VEVENT
BEGIN:VEVENT
DTSTART;TZID=UTC:20250622T200000
DTEND;TZID=UTC:20250622T233000
DTSTAMP:20260421T095638
CREATED:20250618T203434Z
LAST-MODIFIED:20250703T203600Z
UID:6023-1750622400-1750635000@oohmilano.it
SUMMARY:Off Milano - Your Sunday Rehab
DESCRIPTION:@papayamilano presenta “Off Milano – Your Sunday Rehab”: tramonto\, melodic techno\, chill zone e drink vista lago.
URL:https://oohmilano.it/event/off-milano-your-sunday-rehab/
LOCATION:Papaya Beach Club\, Via Circonvallazione Idroscalo\, Segrate (MI)
CATEGORIES:MUSICA
ATTACH;FMTTYPE=image/jpeg:https://oohmilano.it/wp-content/uploads/2025/07/IMG_4929.jpg
END:VEVENT
END:VCALENDAR