BEGIN:VCALENDAR
VERSION:2.0
PRODID:-//OOHMILANO - ECPv6.15.13.1//NONSGML v1.0//EN
CALSCALE:GREGORIAN
METHOD:PUBLISH
X-WR-CALNAME:OOHMILANO
X-ORIGINAL-URL:https://oohmilano.it
X-WR-CALDESC:Events for OOHMILANO
REFRESH-INTERVAL;VALUE=DURATION:PT1H
X-Robots-Tag:noindex
X-PUBLISHED-TTL:PT1H
BEGIN:VTIMEZONE
TZID:UTC
BEGIN:STANDARD
TZOFFSETFROM:+0000
TZOFFSETTO:+0000
TZNAME:UTC
DTSTART:20240101T000000
END:STANDARD
END:VTIMEZONE
BEGIN:VEVENT
DTSTART;TZID=UTC:20250623T183000
DTEND;TZID=UTC:20250623T220000
DTSTAMP:20260421T094834
CREATED:20250618T203602Z
LAST-MODIFIED:20250703T203733Z
UID:6026-1750703400-1750716000@oohmilano.it
SUMMARY:Serata in Rosa – Degustazione di Vini Rosati
DESCRIPTION:All’NH Hotel\, una serata in rosa: degustazione dedicata ai vini rosati italiani.
URL:https://oohmilano.it/event/serata-in-rosa-degustazione-di-vini-rosati/
LOCATION:NH Milano Touring\, Via Ugo Tarchetti\, 2\, Milano
CATEGORIES:FOOD
ATTACH;FMTTYPE=image/jpeg:https://oohmilano.it/wp-content/uploads/2025/07/251691128ad87dd05b72881027a9c3af.jpg
END:VEVENT
BEGIN:VEVENT
DTSTART;TZID=UTC:20250623T213000
DTEND;TZID=UTC:20250623T233000
DTSTAMP:20260421T094834
CREATED:20250622T065226Z
LAST-MODIFIED:20250721T065357Z
UID:6443-1750714200-1750721400@oohmilano.it
SUMMARY:Le onde del destino
DESCRIPTION:In una cittadina sulla costa scozzese\, la timida Bess sposa Jan\, un operaio norvegese che lavora su una piattaforma petrolifera. Dopo un grave incidente che lo costringe sulla sedia a rotelle\, Jan spinge Bess a cercare altri uomini\, convinto che ciò possa mantenere vivo il loro amore. Un dramma intenso e controverso\, che esplora fede\, sacrificio e desiderio.
URL:https://oohmilano.it/event/le-onde-del-destino/
LOCATION:Cinema Beltrade\, Via Nino Oxilia 10\, Milano
CATEGORIES:SPETTACOLO
ATTACH;FMTTYPE=image/jpeg:https://oohmilano.it/wp-content/uploads/2025/07/mrB9FWjNgIm21zXckWleZxG7fys-1.jpg
END:VEVENT
END:VCALENDAR