BEGIN:VCALENDAR
VERSION:2.0
PRODID:-//OOHMILANO - ECPv6.15.13.1//NONSGML v1.0//EN
CALSCALE:GREGORIAN
METHOD:PUBLISH
X-WR-CALNAME:OOHMILANO
X-ORIGINAL-URL:https://oohmilano.it
X-WR-CALDESC:Events for OOHMILANO
REFRESH-INTERVAL;VALUE=DURATION:PT1H
X-Robots-Tag:noindex
X-PUBLISHED-TTL:PT1H
BEGIN:VTIMEZONE
TZID:UTC
BEGIN:STANDARD
TZOFFSETFROM:+0000
TZOFFSETTO:+0000
TZNAME:UTC
DTSTART:20240101T000000
END:STANDARD
END:VTIMEZONE
BEGIN:VEVENT
DTSTART;TZID=UTC:20250624T100000
DTEND;TZID=UTC:20250624T230000
DTSTAMP:20260421T083357
CREATED:20250618T203734Z
LAST-MODIFIED:20250703T203848Z
UID:6029-1750759200-1750806000@oohmilano.it
SUMMARY:METCALFA & MORE
DESCRIPTION:@nuovoanfiteatromartesana presenta “Metcalfa & More”\, progetto di @metello_metcalfa tra batteria rituale e piano armonico in un mix tra jazz ed elettronica.
URL:https://oohmilano.it/event/metcalfa-more/
LOCATION:NAMA – Nuovo Anfiteatro Martesana\, Via Agordat\, Milano
CATEGORIES:MUSICA
ATTACH;FMTTYPE=image/png:https://oohmilano.it/wp-content/uploads/2025/07/Schermata-2025-06-16-alle-17.45.20.png
END:VEVENT
BEGIN:VEVENT
DTSTART;TZID=UTC:20250624T160000
DTEND;TZID=UTC:20250624T190000
DTSTAMP:20260421T083357
CREATED:20250624T065358Z
LAST-MODIFIED:20250721T065527Z
UID:6445-1750780800-1750791600@oohmilano.it
SUMMARY:LINKIN PARK - FROM ZERO WORLD TOUR
DESCRIPTION:I @linkinpark tornano con il “From Zero World Tour”\, l’unica data italiana che segna il grande ritorno della band dopo otto anni. Sul palco anche @spiritboxmusic\, @jpegmafia e @jimmyeatworld per una giornata memorabile tra rock\, metal e alt-emo.
URL:https://oohmilano.it/event/linkin-park-from-zero-world-tour/
LOCATION:Ippodromo Snai La Maura\, Via Lampugnano 95\, Milano
CATEGORIES:MUSICA
ATTACH;FMTTYPE=image/jpeg:https://oohmilano.it/wp-content/uploads/2025/07/Alive-Coverage-1-1.jpg
END:VEVENT
END:VCALENDAR