BEGIN:VCALENDAR
VERSION:2.0
PRODID:-//OOHMILANO - ECPv6.15.13.1//NONSGML v1.0//EN
CALSCALE:GREGORIAN
METHOD:PUBLISH
X-ORIGINAL-URL:https://oohmilano.it
X-WR-CALDESC:Events for OOHMILANO
REFRESH-INTERVAL;VALUE=DURATION:PT1H
X-Robots-Tag:noindex
X-PUBLISHED-TTL:PT1H
BEGIN:VTIMEZONE
TZID:UTC
BEGIN:STANDARD
TZOFFSETFROM:+0000
TZOFFSETTO:+0000
TZNAME:UTC
DTSTART:20240101T000000
END:STANDARD
END:VTIMEZONE
BEGIN:VEVENT
DTSTART;TZID=UTC:20250626T210000
DTEND;TZID=UTC:20250627T013000
DTSTAMP:20260421T095638
CREATED:20250625T205410Z
LAST-MODIFIED:20250703T205519Z
UID:6060-1750971600-1750987800@oohmilano.it
SUMMARY:Ruhiges Gewerbe Live + Tax Free DJ
DESCRIPTION:@section80.bar apre le porte al live improvvisato di Ruhiges Gewerbe\, seguito dal dj set sperimentale di @tax_free_records
URL:https://oohmilano.it/event/ruhiges-gewerbe-live-tax-free-dj/
LOCATION:Section80Bar\, Via Carlo Farini 44\, Milano
CATEGORIES:MUSICA
ATTACH;FMTTYPE=image/jpeg:https://oohmilano.it/wp-content/uploads/2025/07/SnapInsta.to_468379426_1754137365388749_7738431299446221528_n.jpg
END:VEVENT
BEGIN:VEVENT
DTSTART;TZID=UTC:20250627T110000
DTEND;TZID=UTC:20250627T180000
DTSTAMP:20260421T095638
CREATED:20250627T070246Z
LAST-MODIFIED:20250721T070431Z
UID:6456-1751022000-1751047200@oohmilano.it
SUMMARY:Sidewalk Wine Week
DESCRIPTION:@sidewalk_kitchens si trasforma in una settimana enogastronomica con vini naturali\, degustazioni\, piattini speciali e talk gratuiti in collaborazione con Triple “A”. Dalla colazione con vino e cioccolato\, ai talk pomeridiani su territori e tradizioni\, fino ai dj set serali con produttori da tutta Italia. Anche Onda\, Left House e Chuck’s partecipano con eventi\, brunch e selezioni musicali. Ingresso libero.
URL:https://oohmilano.it/event/sidewalk-wine-week/
LOCATION:Sidewalk Kitchens\, Via Bonvesin de la Riva 3\, 20129\, Milano
CATEGORIES:FOOD
ATTACH;FMTTYPE=image/webp:https://oohmilano.it/wp-content/uploads/2025/07/Schermata_2022-11-30_alle_11.36.30.png-1.webp
END:VEVENT
BEGIN:VEVENT
DTSTART;TZID=UTC:20250627T160000
DTEND;TZID=UTC:20250627T233000
DTSTAMP:20260421T095638
CREATED:20250625T205642Z
LAST-MODIFIED:20250703T205803Z
UID:6065-1751040000-1751067000@oohmilano.it
SUMMARY:Ultima Festa in Porta Venezia
DESCRIPTION:@ultimafestamilano torna tra gli alberi dei Giardini Idro Montanelli.
URL:https://oohmilano.it/event/ultima-festa-in-porta-venezia/
LOCATION:Giardini Indro Montanelli\, Via Palestro\, Milano
CATEGORIES:LIFESTYLE
ATTACH;FMTTYPE=image/jpeg:https://oohmilano.it/wp-content/uploads/2025/07/Milano_Palazzo_Dugnani_2016-06_CN-01.jpg
END:VEVENT
BEGIN:VEVENT
DTSTART;TZID=UTC:20250627T193000
DTEND;TZID=UTC:20250627T220000
DTSTAMP:20260421T095638
CREATED:20250625T205805Z
LAST-MODIFIED:20250703T205920Z
UID:6068-1751052600-1751061600@oohmilano.it
SUMMARY:MOTHER
DESCRIPTION:@base_milano ospita “MOTHER”\, debutto nazionale tra danza e AI con la coreografia di @s.sguotti e la presenza di @souldancer.mj.
URL:https://oohmilano.it/event/mother/
LOCATION:BASE Milano\, Via Bergognone 34\, Milano
CATEGORIES:SPETTACOLO
ATTACH;FMTTYPE=image/jpeg:https://oohmilano.it/wp-content/uploads/2025/07/MOTHER_Perypezye-Urbane_ph-Jaime-Musso-5-scaled-1.jpg
END:VEVENT
BEGIN:VEVENT
DTSTART;TZID=UTC:20250627T230000
DTEND;TZID=UTC:20250628T040000
DTSTAMP:20260421T095638
CREATED:20250625T205922Z
LAST-MODIFIED:20250703T210017Z
UID:6070-1751065200-1751083200@oohmilano.it
SUMMARY:Le Cannibale & Magnolia
DESCRIPTION:@lecannibaleclub e @circolomagnolia uniscono le forze per una notte open air.
URL:https://oohmilano.it/event/le-cannibale-magnolia/
LOCATION:Circolo Magnolia\, Via Circonvallazione Idroscalo 41\, Milano
CATEGORIES:MUSICA
ATTACH;FMTTYPE=image/jpeg:https://oohmilano.it/wp-content/uploads/2025/07/circolo-magnolia-3.jpg
END:VEVENT
END:VCALENDAR