BEGIN:VCALENDAR
VERSION:2.0
PRODID:-//OOHMILANO - ECPv6.15.13.1//NONSGML v1.0//EN
CALSCALE:GREGORIAN
METHOD:PUBLISH
X-WR-CALNAME:OOHMILANO
X-ORIGINAL-URL:https://oohmilano.it
X-WR-CALDESC:Events for OOHMILANO
REFRESH-INTERVAL;VALUE=DURATION:PT1H
X-Robots-Tag:noindex
X-PUBLISHED-TTL:PT1H
BEGIN:VTIMEZONE
TZID:UTC
BEGIN:STANDARD
TZOFFSETFROM:+0000
TZOFFSETTO:+0000
TZNAME:UTC
DTSTART:20240101T000000
END:STANDARD
END:VTIMEZONE
BEGIN:VEVENT
DTSTART;TZID=UTC:20250627T230000
DTEND;TZID=UTC:20250628T040000
DTSTAMP:20260421T094829
CREATED:20250625T205922Z
LAST-MODIFIED:20250703T210017Z
UID:6070-1751065200-1751083200@oohmilano.it
SUMMARY:Le Cannibale & Magnolia
DESCRIPTION:@lecannibaleclub e @circolomagnolia uniscono le forze per una notte open air.
URL:https://oohmilano.it/event/le-cannibale-magnolia/
LOCATION:Circolo Magnolia\, Via Circonvallazione Idroscalo 41\, Milano
CATEGORIES:MUSICA
ATTACH;FMTTYPE=image/jpeg:https://oohmilano.it/wp-content/uploads/2025/07/circolo-magnolia-3.jpg
END:VEVENT
BEGIN:VEVENT
DTSTART;TZID=UTC:20250628T100000
DTEND;TZID=UTC:20250628T140000
DTSTAMP:20260421T094829
CREATED:20250625T210018Z
LAST-MODIFIED:20250703T210145Z
UID:6072-1751104800-1751119200@oohmilano.it
SUMMARY:MURMUR: A MANIFESTO
DESCRIPTION:@dopo.space ospita il workshop “MURMUR: A MANIFESTO” di @murmurpoesie.
URL:https://oohmilano.it/event/murmur-a-manifesto/
LOCATION:DOPO?\, Via Carlo Boncompagni 51/10\, Milano
CATEGORIES:LIFESTYLE
ATTACH;FMTTYPE=image/jpeg:https://oohmilano.it/wp-content/uploads/2025/07/SnapInsta.to_460696227_1623763661686325_8895076955968834343_n.jpg
END:VEVENT
BEGIN:VEVENT
DTSTART;TZID=UTC:20250628T103000
DTEND;TZID=UTC:20250628T200000
DTSTAMP:20260421T094829
CREATED:20250625T210146Z
LAST-MODIFIED:20250703T210338Z
UID:6075-1751106600-1751140800@oohmilano.it
SUMMARY:Giancarlo Iliprandi: Design per comunicare
DESCRIPTION:@adidesignmuseum celebra i 100 anni di Giancarlo Iliprandi con un percorso tra grafica\, editoria e pubblicità.
URL:https://oohmilano.it/event/giancarlo-iliprandi-design-per-comunicare/
LOCATION:ADI Design Museum\, Piazza Compasso d'Oro\, 1 (ingresso da via Ceresio 7\, Via Bramante\, 42\, Milano
CATEGORIES:ARTE
ATTACH;FMTTYPE=image/jpeg:https://oohmilano.it/wp-content/uploads/2025/07/200914866-8711f0b8-8631-420a-a501-5b1cad0f9ecd.jpg
END:VEVENT
BEGIN:VEVENT
DTSTART;TZID=UTC:20250628T150000
DTEND;TZID=UTC:20250629T010000
DTSTAMP:20260421T094829
CREATED:20250628T070433Z
LAST-MODIFIED:20250721T070710Z
UID:6460-1751122800-1751158800@oohmilano.it
SUMMARY:PARATA Milano Pride 2025
DESCRIPTION:Pronti per @milanopride? Quest’anno la parata è un inno potente a diritti\, inclusività e rispetto. Saremo tanti\, colorati\, uniti nel rivendicare il diritto di essere liberamente noi stessi. Una celebrazione che è anche lotta\, gioia e presenza viva.
URL:https://oohmilano.it/event/parata-milano-pride-2025/
LOCATION:Luoghi vari\, Milano
CATEGORIES:LIFESTYLE
ATTACH;FMTTYPE=image/png:https://oohmilano.it/wp-content/uploads/2025/07/Copertina-Pride.png
END:VEVENT
BEGIN:VEVENT
DTSTART;TZID=UTC:20250628T160000
DTEND;TZID=UTC:20250628T190000
DTSTAMP:20260421T094829
CREATED:20250625T210340Z
LAST-MODIFIED:20250703T210507Z
UID:6077-1751126400-1751137200@oohmilano.it
SUMMARY:Volley Rhythm
DESCRIPTION:PalaCUS Idroscalo ospita “Volley Rhythm”\, tra sport sulla sabbia e dj set open air fino a mezzanotte.
URL:https://oohmilano.it/event/volley-rhythm/
LOCATION:PalaCUS Idroscalo Milano\, Via Circonvalazione Est Idroscalo 11\, Segrate (MI)
CATEGORIES:SPORT
ATTACH;FMTTYPE=image/jpeg:https://oohmilano.it/wp-content/uploads/2025/07/27886ecef15d831710d276d2d3495dd9.jpg
END:VEVENT
END:VCALENDAR